Workbook

Sheet Formulario de Inspección
A1: #VALUE! | C1: SISTEMA DE GESTIÓN DE CALIDAD | S1: Código: F-140-1
C2: INFORME DE INSPECCIÓN TÉCNICA DE EQUIPOS Y VEHÍCULOS QUE INGRESAN AL LADO AÉREO | S2: Versión: 4
S3: Página: 1 de 12
A4: Número de equipo: | D4: Tipo de equipo: | H4: Categoría: | R4: Número de Inspección:
D5: Aire acondicionado | T5: =+VLOOKUP(D5,Referencias!J1:K37,2,FALSE) -> 1
A6: Marca: | D6: Modelo: | H6: Año Modelo: | P6: Antigüedad: | R6: Empresa GSE propietaria del equipo:
A7: Desconocida | D7: Desconocido | H7: Desconocido | P7: Desconocido
A8: Fecha de la inspección: | D8: Motivo de la inspección: | H8: Fecha máxima para la reinspección: | P8: Número de inspección anterior: | R8: Fecha en que se genera el Informe:
D9: INSPECCION ANUAL | H9: N/A | P9: N/A
A11: 1 | B11: IDENTIFICACION Y SEÑALIZACIÓN
B12: Interpretación de defectos | C12: Lista de defectos | I12: Código | J12: Subcódigo | K12: Índice | L12: Lista de defectos | M12: Gravedad | N12: Condición | O12: Observaciones | P12: Observaciones
A13: a | C13: Número de Marchamo Aeris registrado no coincide con el que porta | I13: 1 IDENTIFICACION | J13: 1 IDENTIFICACION | K13: =+A13 -> a | L13: =C13 -> Número de Marchamo Aeris registrado no coincide con el que porta | M13: =+IF(N13="O","DG",IF(N13="P","","N/A")) | N13: =+IF(OR($T$5=T13,$T$5=U13,$T$5=V13,$T$5=W13,$T$5=X13,$T$5=Y13,$T$5=Z13,$T$5=AA13,$T$5=AB13,$T$5=AC13,$T$5=AD13,$T$5=AE13,$T$5=AF13,$T$5=AG13,$T$5=AH13,$T$5=AI13,$T$5=AJ13,$T$5=AK13,$T$5=AL13,$T$5=AM13,$T$5=AN13,$T$5=AO13,$T$5=AP13,$T$5=AQ13,$T$5=AR13,$T$5=AS13,$T$5=AT13,$T$5=AU13,$T$5=AV13,$T$5=AW13,$T$5=AX13,$T$5=AY13,$T$5=AZ13,$T$5=BA13,$T$5=BB13,$T$5=BC13,$T$5=BD13),"P","¡") -> P | O13: =P13 -> 0 | T13: 1 | U13: 2 | V13: 3 | W13: 4 | X13: 5 | Y13: 6 | Z13: 7 | AA13: 8 | AB13: 9 | AC13: 10 | AD13: 11 | AE13: 12 | AG13: 14 | AH13: 15 | AI13: 16 | AJ13: 17 | AK13: 18 | AL13: 19 | AM13: 20 | AN13: 21 | AO13: 22 | AP13: 23 | AQ13: 24 | AR13: 25 | AS13: 26 | AT13: 27 | AU13: 28 | AV13: 29 | AW13: 30 | AX13: 31 | AY13: 32 | AZ13: 33 | BA13: 34 | BB13: 35 | BC13: 36 | BD13: 37
A14: b | C14: Número de identificación no coincide con registros de AERIS o esta duplicado con otro equipo del mismo tipo | I14: 1 IDENTIFICACION | J14: 1 IDENTIFICACION | K14: =+A14 -> b | L14: =C14 -> Número de identificación no coincide con registros de AERIS o esta duplicado con otro equipo del mismo tipo | M14: =+IF(N14="O","DG",IF(N14="P","","N/A")) | N14: =+IF(OR($T$5=T14,$T$5=U14,$T$5=V14,$T$5=W14,$T$5=X14,$T$5=Y14,$T$5=Z14,$T$5=AA14,$T$5=AB14,$T$5=AC14,$T$5=AD14,$T$5=AE14,$T$5=AF14,$T$5=AG14,$T$5=AH14,$T$5=AI14,$T$5=AJ14,$T$5=AK14,$T$5=AL14,$T$5=AM14,$T$5=AN14,$T$5=AO14,$T$5=AP14,$T$5=AQ14,$T$5=AR14,$T$5=AS14,$T$5=AT14,$T$5=AU14,$T$5=AV14,$T$5=AW14,$T$5=AX14,$T$5=AY14,$T$5=AZ14,$T$5=BA14,$T$5=BB14,$T$5=BC14,$T$5=BD14),"P","¡") -> P | O14: =P14 -> 0 | T14: 1 | U14: 2 | V14: 3 | W14: 4 | X14: 5 | Y14: 6 | Z14: 7 | AA14: 8 | AB14: 9 | AC14: 10 | AD14: 11 | AE14: 12 | AG14: 14 | AH14: 15 | AI14: 16 | AJ14: 17 | AK14: 18 | AL14: 19 | AM14: 20 | AN14: 21 | AO14: 22 | AP14: 23 | AQ14: 24 | AR14: 25 | AS14: 26 | AT14: 27 | AU14: 28 | AV14: 29 | AW14: 30 | AX14: 31 | AY14: 32 | AZ14: 33 | BA14: 34 | BB14: 35 | BC14: 36 | BD14: 37
A15: c | C15: Inexistencia de alguna de las señalización obligatorias como los logotipo de la compañía, bandera a cuadros o numero de identificación. | I15: 1 IDENTIFICACION | J15: 1 IDENTIFICACION | K15: =+A15 -> c | L15: =C15 -> Inexistencia de alguna de las señalización obligatorias como los logotipo de la compañía, bandera a cuadros o numero de identificación. | M15: =+IF(N15="O","DG",IF(N15="P","","N/A")) | N15: =+IF(OR($T$5=T15,$T$5=U15,$T$5=V15,$T$5=W15,$T$5=X15,$T$5=Y15,$T$5=Z15,$T$5=AA15,$T$5=AB15,$T$5=AC15,$T$5=AD15,$T$5=AE15,$T$5=AF15,$T$5=AG15,$T$5=AH15,$T$5=AI15,$T$5=AJ15,$T$5=AK15,$T$5=AL15,$T$5=AM15,$T$5=AN15,$T$5=AO15,$T$5=AP15,$T$5=AQ15,$T$5=AR15,$T$5=AS15,$T$5=AT15,$T$5=AU15,$T$5=AV15,$T$5=AW15,$T$5=AX15,$T$5=AY15,$T$5=AZ15,$T$5=BA15,$T$5=BB15,$T$5=BC15,$T$5=BD15),"P","¡") -> P | O15: =P15 -> 0 | T15: 1 | U15: 2 | V15: 3 | W15: 4 | X15: 5 | Y15: 6 | Z15: 7 | AA15: 8 | AB15: 9 | AC15: 10 | AD15: 11 | AE15: 12 | AG15: 14 | AH15: 15 | AI15: 16 | AJ15: 17 | AK15: 18 | AL15: 19 | AM15: 20 | AN15: 21 | AO15: 22 | AP15: 23 | AQ15: 24 | AR15: 25 | AS15: 26 | AT15: 27 | AU15: 28 | AV15: 29 | AW15: 30 | AX15: 31 | AY15: 32 | AZ15: 33 | BA15: 34 | BB15: 35 | BC15: 36 | BD15: 37
A16: d | C16: Defectos del estado de alguno de los logotipos de la compañía, banderas a cuadros o números de identificación que afecta o impida su visibilidad | I16: 1 IDENTIFICACION | J16: 1 IDENTIFICACION | K16: =+A16 -> d | L16: =C16 -> Defectos del estado de alguno de los logotipos de la compañía, banderas a cuadros o números de identificación que afecta o impida su visibilidad | M16: =+IF(N16="O","DG",IF(N16="P","","N/A")) | N16: =+IF(OR($T$5=T16,$T$5=U16,$T$5=V16,$T$5=W16,$T$5=X16,$T$5=Y16,$T$5=Z16,$T$5=AA16,$T$5=AB16,$T$5=AC16,$T$5=AD16,$T$5=AE16,$T$5=AF16,$T$5=AG16,$T$5=AH16,$T$5=AI16,$T$5=AJ16,$T$5=AK16,$T$5=AL16,$T$5=AM16,$T$5=AN16,$T$5=AO16,$T$5=AP16,$T$5=AQ16,$T$5=AR16,$T$5=AS16,$T$5=AT16,$T$5=AU16,$T$5=AV16,$T$5=AW16,$T$5=AX16,$T$5=AY16,$T$5=AZ16,$T$5=BA16,$T$5=BB16,$T$5=BC16,$T$5=BD16),"P","¡") -> P | O16: =P16 -> 0 | T16: 1 | U16: 2 | V16: 3 | W16: 4 | X16: 5 | Y16: 6 | Z16: 7 | AA16: 8 | AB16: 9 | AC16: 10 | AD16: 11 | AE16: 12 | AG16: 14 | AH16: 15 | AI16: 16 | AJ16: 17 | AK16: 18 | AL16: 19 | AM16: 20 | AN16: 21 | AO16: 22 | AP16: 23 | AQ16: 24 | AR16: 25 | AS16: 26 | AT16: 27 | AU16: 28 | AV16: 29 | AW16: 30 | AX16: 31 | AY16: 32 | AZ16: 33 | BA16: 34 | BB16: 35 | BC16: 36 | BD16: 37
A17: e | C17: Defectos del estado de alguno de los logotipos de la compañía, banderas a cuadros o números de identificación que no afecte o impida su visibilidad | I17: 1 IDENTIFICACION | J17: 1 IDENTIFICACION | K17: =+A17 -> e | L17: =C17 -> Defectos del estado de alguno de los logotipos de la compañía, banderas a cuadros o números de identificación que no afecte o impida su visibilidad | M17: =+IF(N17="O","DL",IF(N17="P","","N/A")) | N17: =+IF(OR($T$5=T17,$T$5=U17,$T$5=V17,$T$5=W17,$T$5=X17,$T$5=Y17,$T$5=Z17,$T$5=AA17,$T$5=AB17,$T$5=AC17,$T$5=AD17,$T$5=AE17,$T$5=AF17,$T$5=AG17,$T$5=AH17,$T$5=AI17,$T$5=AJ17,$T$5=AK17,$T$5=AL17,$T$5=AM17,$T$5=AN17,$T$5=AO17,$T$5=AP17,$T$5=AQ17,$T$5=AR17,$T$5=AS17,$T$5=AT17,$T$5=AU17,$T$5=AV17,$T$5=AW17,$T$5=AX17,$T$5=AY17,$T$5=AZ17,$T$5=BA17,$T$5=BB17,$T$5=BC17,$T$5=BD17),"P","¡") -> P | O17: =P17 -> 0 | T17: 1 | U17: 2 | V17: 3 | W17: 4 | X17: 5 | Y17: 6 | Z17: 7 | AA17: 8 | AB17: 9 | AC17: 10 | AD17: 11 | AE17: 12 | AG17: 14 | AH17: 15 | AI17: 16 | AJ17: 17 | AK17: 18 | AL17: 19 | AM17: 20 | AN17: 21 | AO17: 22 | AP17: 23 | AQ17: 24 | AR17: 25 | AS17: 26 | AT17: 27 | AU17: 28 | AV17: 29 | AW17: 30 | AX17: 31 | AY17: 32 | AZ17: 33 | BA17: 34 | BB17: 35 | BC17: 36 | BD17: 37
A18: f | C18: Banderas a cuadros, logotipos o números de identificación con dimensiones diferentes a 30 x 30 cm | I18: 1 IDENTIFICACION | J18: 1 IDENTIFICACION | K18: =+A18 -> f | L18: =C18 -> Banderas a cuadros, logotipos o números de identificación con dimensiones diferentes a 30 x 30 cm | M18: =+IF(N18="O","DG",IF(N18="P","","N/A")) | N18: =+IF(OR($T$5=T18,$T$5=U18,$T$5=V18,$T$5=W18,$T$5=X18,$T$5=Y18,$T$5=Z18,$T$5=AA18,$T$5=AB18,$T$5=AC18,$T$5=AD18,$T$5=AE18,$T$5=AF18,$T$5=AG18,$T$5=AH18,$T$5=AI18,$T$5=AJ18,$T$5=AK18,$T$5=AL18,$T$5=AM18,$T$5=AN18,$T$5=AO18,$T$5=AP18,$T$5=AQ18,$T$5=AR18,$T$5=AS18,$T$5=AT18,$T$5=AU18,$T$5=AV18,$T$5=AW18,$T$5=AX18,$T$5=AY18,$T$5=AZ18,$T$5=BA18,$T$5=BB18,$T$5=BC18,$T$5=BD18),"P","¡") -> P | O18: =P18 -> 0 | T18: 1 | U18: 2 | V18: 3 | W18: 4 | X18: 5 | Y18: 6 | Z18: 7 | AA18: 8 | AB18: 9 | AC18: 10 | AD18: 11 | AE18: 12 | AG18: 14 | AH18: 15 | AI18: 16 | AJ18: 17 | AK18: 18 | AL18: 19 | AM18: 20 | AN18: 21 | AO18: 22 | AP18: 23 | AQ18: 24 | AR18: 25 | AS18: 26 | AT18: 27 | AU18: 28 | AV18: 29 | AW18: 30 | AX18: 31 | AY18: 32 | AZ18: 33 | BA18: 34 | BB18: 35 | BC18: 36 | BD18: 37
A19: g | C19: Banderas a cuadros, logotipos o números de identificación con dimensiones inferior a 30 x 30 cm (cuando es el máximo tamaño que permite la estructura del equipo) | I19: 1 IDENTIFICACION | J19: 1 IDENTIFICACION | K19: =+A19 -> g | L19: =C19 -> Banderas a cuadros, logotipos o números de identificación con dimensiones inferior a 30 x 30 cm (cuando es el máximo tamaño que permite la estructura del equipo) | M19: =+IF(N19="O","DL",IF(N19="P","","N/A")) | N19: =+IF(OR($T$5=T19,$T$5=U19,$T$5=V19,$T$5=W19,$T$5=X19,$T$5=Y19,$T$5=Z19,$T$5=AA19,$T$5=AB19,$T$5=AC19,$T$5=AD19,$T$5=AE19,$T$5=AF19,$T$5=AG19,$T$5=AH19,$T$5=AI19,$T$5=AJ19,$T$5=AK19,$T$5=AL19,$T$5=AM19,$T$5=AN19,$T$5=AO19,$T$5=AP19,$T$5=AQ19,$T$5=AR19,$T$5=AS19,$T$5=AT19,$T$5=AU19,$T$5=AV19,$T$5=AW19,$T$5=AX19,$T$5=AY19,$T$5=AZ19,$T$5=BA19,$T$5=BB19,$T$5=BC19,$T$5=BD19),"P","¡") -> P | O19: =P19 -> 0 | T19: 1 | U19: 2 | V19: 3 | W19: 4 | X19: 5 | Y19: 6 | Z19: 7 | AA19: 8 | AB19: 9 | AC19: 10 | AD19: 11 | AE19: 12 | AG19: 14 | AH19: 15 | AI19: 16 | AJ19: 17 | AK19: 18 | AL19: 19 | AM19: 20 | AN19: 21 | AO19: 22 | AP19: 23 | AQ19: 24 | AR19: 25 | AS19: 26 | AT19: 27 | AU19: 28 | AV19: 29 | AW19: 30 | AX19: 31 | AY19: 32 | AZ19: 33 | BA19: 34 | BB19: 35 | BC19: 36 | BD19: 37
A20: h | C20: Bandera de cuadros de color o diseño no reglamentario | I20: 1 IDENTIFICACION | J20: 1 IDENTIFICACION | K20: =+A20 -> h | L20: =C20 -> Bandera de cuadros de color o diseño no reglamentario | M20: =+IF(N20="O","DG",IF(N20="P","","N/A")) | N20: =+IF(OR($T$5=T20,$T$5=U20,$T$5=V20,$T$5=W20,$T$5=X20,$T$5=Y20,$T$5=Z20,$T$5=AA20,$T$5=AB20,$T$5=AC20,$T$5=AD20,$T$5=AE20,$T$5=AF20,$T$5=AG20,$T$5=AH20,$T$5=AI20,$T$5=AJ20,$T$5=AK20,$T$5=AL20,$T$5=AM20,$T$5=AN20,$T$5=AO20,$T$5=AP20,$T$5=AQ20,$T$5=AR20,$T$5=AS20,$T$5=AT20,$T$5=AU20,$T$5=AV20,$T$5=AW20,$T$5=AX20,$T$5=AY20,$T$5=AZ20,$T$5=BA20,$T$5=BB20,$T$5=BC20,$T$5=BD20),"P","¡") -> P | O20: =P20 -> 0 | T20: 1 | U20: 2 | V20: 3 | W20: 4 | X20: 5 | Y20: 6 | Z20: 7 | AA20: 8 | AB20: 9 | AC20: 10 | AD20: 11 | AE20: 12 | AG20: 14 | AH20: 15 | AI20: 16 | AJ20: 17 | AK20: 18 | AL20: 19 | AM20: 20 | AN20: 21 | AO20: 22 | AP20: 23 | AQ20: 24 | AR20: 25 | AS20: 26 | AT20: 27 | AU20: 28 | AV20: 29 | AW20: 30 | AX20: 31 | AY20: 32 | AZ20: 33 | BA20: 34 | BB20: 35 | BC20: 36 | BD20: 37
A21: i | C21: Inexistencia o deterioro de cinta reflectiva o cantidad insuficiente para demarcar el tipo de equipo | I21: 1 IDENTIFICACION | J21: 1 IDENTIFICACION | K21: =+A21 -> i | L21: =C21 -> Inexistencia o deterioro de cinta reflectiva o cantidad insuficiente para demarcar el tipo de equipo | M21: =+IF(N21="O","DG",IF(N21="P","","N/A")) | N21: =+IF(OR($T$5=T21,$T$5=U21,$T$5=V21,$T$5=W21,$T$5=X21,$T$5=Y21,$T$5=Z21,$T$5=AA21,$T$5=AB21,$T$5=AC21,$T$5=AD21,$T$5=AE21,$T$5=AF21,$T$5=AG21,$T$5=AH21,$T$5=AI21,$T$5=AJ21,$T$5=AK21,$T$5=AL21,$T$5=AM21,$T$5=AN21,$T$5=AO21,$T$5=AP21,$T$5=AQ21,$T$5=AR21,$T$5=AS21,$T$5=AT21,$T$5=AU21,$T$5=AV21,$T$5=AW21,$T$5=AX21,$T$5=AY21,$T$5=AZ21,$T$5=BA21,$T$5=BB21,$T$5=BC21,$T$5=BD21),"P","¡") -> P | O21: =P21 -> 0 | T21: 1 | U21: 2 | V21: 3 | W21: 4 | X21: 5 | Y21: 6 | Z21: 7 | AA21: 8 | AB21: 9 | AC21: 10 | AD21: 11 | AE21: 12 | AG21: 14 | AH21: 15 | AI21: 16 | AJ21: 17 | AK21: 18 | AL21: 19 | AM21: 20 | AN21: 21 | AO21: 22 | AP21: 23 | AQ21: 24 | AR21: 25 | AS21: 26 | AT21: 27 | AU21: 28 | AV21: 29 | AW21: 30 | AX21: 31 | AY21: 32 | AZ21: 33 | BA21: 34 | BB21: 35 | BC21: 36 | BD21: 37
A22: j | C22: Ilegibilidad o deterioro avanzado del estado del marchamo Aeris | I22: 1 IDENTIFICACION | J22: 1 IDENTIFICACION | K22: =+A22 -> j | L22: =C22 -> Ilegibilidad o deterioro avanzado del estado del marchamo Aeris | M22: =+IF(N22="O","DG",IF(N22="P","","N/A")) | N22: =+IF(OR($T$5=T22,$T$5=U22,$T$5=V22,$T$5=W22,$T$5=X22,$T$5=Y22,$T$5=Z22,$T$5=AA22,$T$5=AB22,$T$5=AC22,$T$5=AD22,$T$5=AE22,$T$5=AF22,$T$5=AG22,$T$5=AH22,$T$5=AI22,$T$5=AJ22,$T$5=AK22,$T$5=AL22,$T$5=AM22,$T$5=AN22,$T$5=AO22,$T$5=AP22,$T$5=AQ22,$T$5=AR22,$T$5=AS22,$T$5=AT22,$T$5=AU22,$T$5=AV22,$T$5=AW22,$T$5=AX22,$T$5=AY22,$T$5=AZ22,$T$5=BA22,$T$5=BB22,$T$5=BC22,$T$5=BD22),"P","¡") -> P | O22: =P22 -> 0 | T22: 1 | U22: 2 | V22: 3 | W22: 4 | X22: 5 | Y22: 6 | Z22: 7 | AA22: 8 | AB22: 9 | AC22: 10 | AD22: 11 | AE22: 12 | AG22: 14 | AH22: 15 | AI22: 16 | AJ22: 17 | AK22: 18 | AL22: 19 | AM22: 20 | AN22: 21 | AO22: 22 | AP22: 23 | AQ22: 24 | AR22: 25 | AS22: 26 | AT22: 27 | AU22: 28 | AV22: 29 | AW22: 30 | AX22: 31 | AY22: 32 | AZ22: 33 | BA22: 34 | BB22: 35 | BC22: 36 | BD22: 37
A23: k | C23: Defectos leves de estado en el marchamo Aeris | I23: 1 IDENTIFICACION | J23: 1 IDENTIFICACION | K23: =+A23 -> k | L23: =C23 -> Defectos leves de estado en el marchamo Aeris | M23: =+IF(N23="O","DL",IF(N23="P","","N/A")) | N23: =+IF(OR($T$5=T23,$T$5=U23,$T$5=V23,$T$5=W23,$T$5=X23,$T$5=Y23,$T$5=Z23,$T$5=AA23,$T$5=AB23,$T$5=AC23,$T$5=AD23,$T$5=AE23,$T$5=AF23,$T$5=AG23,$T$5=AH23,$T$5=AI23,$T$5=AJ23,$T$5=AK23,$T$5=AL23,$T$5=AM23,$T$5=AN23,$T$5=AO23,$T$5=AP23,$T$5=AQ23,$T$5=AR23,$T$5=AS23,$T$5=AT23,$T$5=AU23,$T$5=AV23,$T$5=AW23,$T$5=AX23,$T$5=AY23,$T$5=AZ23,$T$5=BA23,$T$5=BB23,$T$5=BC23,$T$5=BD23),"P","¡") -> P | O23: =P23 -> 0 | T23: 1 | U23: 2 | V23: 3 | W23: 4 | X23: 5 | Y23: 6 | Z23: 7 | AA23: 8 | AB23: 9 | AC23: 10 | AD23: 11 | AE23: 12 | AG23: 14 | AH23: 15 | AI23: 16 | AJ23: 17 | AK23: 18 | AL23: 19 | AM23: 20 | AN23: 21 | AO23: 22 | AP23: 23 | AQ23: 24 | AR23: 25 | AS23: 26 | AT23: 27 | AU23: 28 | AV23: 29 | AW23: 30 | AX23: 31 | AY23: 32 | AZ23: 33 | BA23: 34 | BB23: 35 | BC23: 36 | BD23: 37
A24: l | C24: Ubicación de la pegatina Derecho de circulación, Revisión Técnica Vehicular o Matricula no permite su visibilidad o no esta colocado dentro de la cabina de conducción | I24: 1 IDENTIFICACION | J24: 1 IDENTIFICACION | K24: =+A24 -> l | L24: =C24 -> Ubicación de la pegatina Derecho de circulación, Revisión Técnica Vehicular o Matricula no permite su visibilidad o no esta colocado dentro de la cabina de conducción | M24: =+IF(N25="O","DG",IF(N25="P","","N/A")) -> N/A | N24: =+IF(OR($T$5=T24,$T$5=U24,$T$5=V24,$T$5=W24,$T$5=X24,$T$5=Y24,$T$5=Z24,$T$5=AA24,$T$5=AB24,$T$5=AC24,$T$5=AD24,$T$5=AE24,$T$5=AF24,$T$5=AG24,$T$5=AH24,$T$5=AI24,$T$5=AJ24,$T$5=AK24,$T$5=AL24,$T$5=AM24,$T$5=AN24,$T$5=AO24,$T$5=AP24,$T$5=AQ24,$T$5=AR24,$T$5=AS24,$T$5=AT24,$T$5=AU24,$T$5=AV24,$T$5=AW24,$T$5=AX24,$T$5=AY24,$T$5=AZ24,$T$5=BA24,$T$5=BB24,$T$5=BC24,$T$5=BD24),"P","¡") -> ¡ | O24: =P24 -> 0 | W24: 4 | AB24: 9 | AD24: 11 | AI24: 16 | AJ24: 17 | AQ24: 24 | AS24: 26 | AZ24: 33
A25: m | C25: Pegatina Derecho de circulación, Revisión Técnica Vehicular o Matrícula vencida o inexistente (vehículos con placas que le permiten circular en vías públicas) | I25: 1 IDENTIFICACION | J25: 1 IDENTIFICACION | K25: =+A25 -> m | L25: =C25 -> Pegatina Derecho de circulación, Revisión Técnica Vehicular o Matrícula vencida o inexistente (vehículos con placas que le permiten circular en vías públicas) | M25: =+IF(N25="O","DG",IF(N25="P","","N/A")) -> N/A | N25: =+IF(OR($T$5=T25,$T$5=U25,$T$5=V25,$T$5=W25,$T$5=X25,$T$5=Y25,$T$5=Z25,$T$5=AA25,$T$5=AB25,$T$5=AC25,$T$5=AD25,$T$5=AE25,$T$5=AF25,$T$5=AG25,$T$5=AH25,$T$5=AI25,$T$5=AJ25,$T$5=AK25,$T$5=AL25,$T$5=AM25,$T$5=AN25,$T$5=AO25,$T$5=AP25,$T$5=AQ25,$T$5=AR25,$T$5=AS25,$T$5=AT25,$T$5=AU25,$T$5=AV25,$T$5=AW25,$T$5=AX25,$T$5=AY25,$T$5=AZ25,$T$5=BA25,$T$5=BB25,$T$5=BC25,$T$5=BD25),"P","¡") -> ¡ | O25: =P25 -> 0 | W25: 4 | AB25: 9 | AD25: 11 | AI25: 16 | AJ25: 17 | AQ25: 24 | AS25: 26 | AZ25: 33
A26: 2 | B26: CARROCERIA Y CHASIS
A27: 2.1 | B27: Generalidades de estructura, remolque, Interfaz de enganche, calzas y extintor
B28: Interpretación de defectos | C28: Lista de defectos | I28: Código | J28: Subcódigo | K28: Índice | L28: Lista de defectos | M28: Gravedad | N28: Condición | O28: Observaciones | P28: Observaciones
A29: a | C29: Defectos de estado en la carrocería, estructura, timón o chasis que no afecten la seguridad | I29: 2 CARROCERIA Y CHASIS | J29: 2.1 Generalidades de estructura, remolque, Interfaz de enganche, calzas y extintor | K29: =+A29 -> a | L29: =+C29 -> Defectos de estado en la carrocería, estructura, timón o chasis que no afecten la seguridad | M29: =+IF(N29="O","DL",IF(N29="P","","N/A")) | N29: =+IF(OR($T$5=T29,$T$5=U29,$T$5=V29,$T$5=W29,$T$5=X29,$T$5=Y29,$T$5=Z29,$T$5=AA29,$T$5=AB29,$T$5=AC29,$T$5=AD29,$T$5=AE29,$T$5=AF29,$T$5=AG29,$T$5=AH29,$T$5=AI29,$T$5=AJ29,$T$5=AK29,$T$5=AL29,$T$5=AM29,$T$5=AN29,$T$5=AO29,$T$5=AP29,$T$5=AQ29,$T$5=AR29,$T$5=AS29,$T$5=AT29,$T$5=AU29,$T$5=AV29,$T$5=AW29,$T$5=AX29,$T$5=AY29,$T$5=AZ29,$T$5=BA29,$T$5=BB29,$T$5=BC29,$T$5=BD29),"P","¡") -> P | O29: =P29 -> 0 | T29: 1 | U29: 2 | V29: 3 | W29: 4 | X29: 5 | Y29: 6 | Z29: 7 | AA29: 8 | AB29: 9 | AC29: 10 | AD29: 11 | AE29: 12 | AG29: 14 | AH29: 15 | AI29: 16 | AJ29: 17 | AK29: 18 | AL29: 19 | AM29: 20 | AN29: 21 | AO29: 22 | AP29: 23 | AQ29: 24 | AR29: 25 | AS29: 26 | AT29: 27 | AU29: 28 | AV29: 29 | AW29: 30 | AX29: 31 | AY29: 32 | AZ29: 33 | BA29: 34 | BB29: 35 | BC29: 36 | BD29: 37
A30: b | C30: Defectos de estado en la carrocería, estructura, timón o chasis que entrañen peligro | I30: 2 CARROCERIA Y CHASIS | J30: 2.1 Generalidades de estructura, remolque, Interfaz de enganche, calzas y extintor | K30: =+A30 -> b | L30: =+C30 -> Defectos de estado en la carrocería, estructura, timón o chasis que entrañen peligro | M30: =+IF(N30="O","DG",IF(N30="P","","N/A")) | N30: =+IF(OR($T$5=T30,$T$5=U30,$T$5=V30,$T$5=W30,$T$5=X30,$T$5=Y30,$T$5=Z30,$T$5=AA30,$T$5=AB30,$T$5=AC30,$T$5=AD30,$T$5=AE30,$T$5=AF30,$T$5=AG30,$T$5=AH30,$T$5=AI30,$T$5=AJ30,$T$5=AK30,$T$5=AL30,$T$5=AM30,$T$5=AN30,$T$5=AO30,$T$5=AP30,$T$5=AQ30,$T$5=AR30,$T$5=AS30,$T$5=AT30,$T$5=AU30,$T$5=AV30,$T$5=AW30,$T$5=AX30,$T$5=AY30,$T$5=AZ30,$T$5=BA30,$T$5=BB30,$T$5=BC30,$T$5=BD30),"P","¡") -> P | O30: =P30 -> 0 | T30: 1 | U30: 2 | V30: 3 | W30: 4 | X30: 5 | Y30: 6 | Z30: 7 | AA30: 8 | AB30: 9 | AC30: 10 | AD30: 11 | AE30: 12 | AG30: 14 | AH30: 15 | AI30: 16 | AJ30: 17 | AK30: 18 | AL30: 19 | AM30: 20 | AN30: 21 | AO30: 22 | AP30: 23 | AQ30: 24 | AR30: 25 | AS30: 26 | AT30: 27 | AU30: 28 | AV30: 29 | AW30: 30 | AX30: 31 | AY30: 32 | AZ30: 33 | BA30: 34 | BB30: 35 | BC30: 36 | BD30: 37
A31: c | C31: Defectos de estado en los sujeciones de la carrocería, cajón o estructura general al chasis o base de la estructura | I31: 2 CARROCERIA Y CHASIS | J31: 2.1 Generalidades de estructura, remolque, Interfaz de enganche, calzas y extintor | K31: =+A31 -> c | L31: =+C31 -> Defectos de estado en los sujeciones de la carrocería, cajón o estructura general al chasis o base de la estructura | M31: =+IF(N31="O","DG",IF(N31="P","","N/A")) | N31: =+IF(OR($T$5=T31,$T$5=U31,$T$5=V31,$T$5=W31,$T$5=X31,$T$5=Y31,$T$5=Z31,$T$5=AA31,$T$5=AB31,$T$5=AC31,$T$5=AD31,$T$5=AE31,$T$5=AF31,$T$5=AG31,$T$5=AH31,$T$5=AI31,$T$5=AJ31,$T$5=AK31,$T$5=AL31,$T$5=AM31,$T$5=AN31,$T$5=AO31,$T$5=AP31,$T$5=AQ31,$T$5=AR31,$T$5=AS31,$T$5=AT31,$T$5=AU31,$T$5=AV31,$T$5=AW31,$T$5=AX31,$T$5=AY31,$T$5=AZ31,$T$5=BA31,$T$5=BB31,$T$5=BC31,$T$5=BD31),"P","¡") -> P | O31: =P31 -> 0 | T31: 1 | U31: 2 | V31: 3 | W31: 4 | X31: 5 | Y31: 6 | Z31: 7 | AA31: 8 | AB31: 9 | AC31: 10 | AD31: 11 | AE31: 12 | AG31: 14 | AH31: 15 | AI31: 16 | AJ31: 17 | AK31: 18 | AL31: 19 | AM31: 20 | AN31: 21 | AO31: 22 | AP31: 23 | AQ31: 24 | AR31: 25 | AS31: 26 | AT31: 27 | AU31: 28 | AV31: 29 | AW31: 30 | AX31: 31 | AY31: 32 | AZ31: 33 | BA31: 34 | BB31: 35 | BC31: 36 | BD31: 37
A32: d | C32: Presencia de corrosión avanzada o estado deteriorado avanzado de la pintura de la carrocería o estructura en general | I32: 2 CARROCERIA Y CHASIS | J32: 2.1 Generalidades de estructura, remolque, Interfaz de enganche, calzas y extintor | K32: =+A32 -> d | L32: =+C32 -> Presencia de corrosión avanzada o estado deteriorado avanzado de la pintura de la carrocería o estructura en general | M32: =+IF(N32="O","DG",IF(N32="P","","N/A")) | N32: =+IF(OR($T$5=T32,$T$5=U32,$T$5=V32,$T$5=W32,$T$5=X32,$T$5=Y32,$T$5=Z32,$T$5=AA32,$T$5=AB32,$T$5=AC32,$T$5=AD32,$T$5=AE32,$T$5=AF32,$T$5=AG32,$T$5=AH32,$T$5=AI32,$T$5=AJ32,$T$5=AK32,$T$5=AL32,$T$5=AM32,$T$5=AN32,$T$5=AO32,$T$5=AP32,$T$5=AQ32,$T$5=AR32,$T$5=AS32,$T$5=AT32,$T$5=AU32,$T$5=AV32,$T$5=AW32,$T$5=AX32,$T$5=AY32,$T$5=AZ32,$T$5=BA32,$T$5=BB32,$T$5=BC32,$T$5=BD32),"P","¡") -> P | O32: =P32 -> 0 | T32: 1 | U32: 2 | V32: 3 | W32: 4 | X32: 5 | Y32: 6 | Z32: 7 | AA32: 8 | AB32: 9 | AC32: 10 | AD32: 11 | AE32: 12 | AG32: 14 | AH32: 15 | AI32: 16 | AJ32: 17 | AK32: 18 | AL32: 19 | AM32: 20 | AN32: 21 | AO32: 22 | AP32: 23 | AQ32: 24 | AR32: 25 | AS32: 26 | AT32: 27 | AU32: 28 | AV32: 29 | AW32: 30 | AX32: 31 | AY32: 32 | AZ32: 33 | BA32: 34 | BB32: 35 | BC32: 36 | BD32: 37
A33: e | C33: Presencia de óxido o estado deteriorado leve de la pintura de la carrocería o estructura en general | I33: 2 CARROCERIA Y CHASIS | J33: 2.1 Generalidades de estructura, remolque, Interfaz de enganche, calzas y extintor | K33: =+A33 -> e | L33: =+C33 -> Presencia de óxido o estado deteriorado leve de la pintura de la carrocería o estructura en general | M33: =+IF(N33="O","DL",IF(N33="P","","N/A")) | N33: =+IF(OR($T$5=T33,$T$5=U33,$T$5=V33,$T$5=W33,$T$5=X33,$T$5=Y33,$T$5=Z33,$T$5=AA33,$T$5=AB33,$T$5=AC33,$T$5=AD33,$T$5=AE33,$T$5=AF33,$T$5=AG33,$T$5=AH33,$T$5=AI33,$T$5=AJ33,$T$5=AK33,$T$5=AL33,$T$5=AM33,$T$5=AN33,$T$5=AO33,$T$5=AP33,$T$5=AQ33,$T$5=AR33,$T$5=AS33,$T$5=AT33,$T$5=AU33,$T$5=AV33,$T$5=AW33,$T$5=AX33,$T$5=AY33,$T$5=AZ33,$T$5=BA33,$T$5=BB33,$T$5=BC33,$T$5=BD33),"P","¡") -> P | O33: =P33 -> 0 | T33: 1 | U33: 2 | V33: 3 | W33: 4 | X33: 5 | Y33: 6 | Z33: 7 | AA33: 8 | AB33: 9 | AC33: 10 | AD33: 11 | AE33: 12 | AG33: 14 | AH33: 15 | AI33: 16 | AJ33: 17 | AK33: 18 | AL33: 19 | AM33: 20 | AN33: 21 | AO33: 22 | AP33: 23 | AQ33: 24 | AR33: 25 | AS33: 26 | AT33: 27 | AU33: 28 | AV33: 29 | AW33: 30 | AX33: 31 | AY33: 32 | AZ33: 33 | BA33: 34 | BB33: 35 | BC33: 36 | BD33: 37
A34: f | C34: Interfaz de enganche diferente al "E" o el conocido como "Pico de Lora" | I34: 2 CARROCERIA Y CHASIS | J34: 2.1 Generalidades de estructura, remolque, Interfaz de enganche, calzas y extintor | K34: =+A34 -> f | L34: =+C34 -> Interfaz de enganche diferente al "E" o el conocido como "Pico de Lora" | M34: =+IF(N34="O","DG",IF(N34="P","","N/A")) | N34: =+IF(OR($T$5=T34,$T$5=U34,$T$5=V34,$T$5=W34,$T$5=X34,$T$5=Y34,$T$5=Z34,$T$5=AA34,$T$5=AB34,$T$5=AC34,$T$5=AD34,$T$5=AE34,$T$5=AF34,$T$5=AG34,$T$5=AH34,$T$5=AI34,$T$5=AJ34,$T$5=AK34,$T$5=AL34,$T$5=AM34,$T$5=AN34,$T$5=AO34,$T$5=AP34,$T$5=AQ34,$T$5=AR34,$T$5=AS34,$T$5=AT34,$T$5=AU34,$T$5=AV34,$T$5=AW34,$T$5=AX34,$T$5=AY34,$T$5=AZ34,$T$5=BA34,$T$5=BB34,$T$5=BC34,$T$5=BD34),"P","¡") -> P | O34: =P34 -> 0 | T34: 1 | V34: 3 | Y34: 6 | Z34: 7 | AC34: 10 | AG34: 14 | AH34: 15 | AI34: 16 | AK34: 18 | AM34: 20 | AN34: 21 | AS34: 26 | AT34: 27 | AU34: 28 | AV34: 29 | AW34: 30 | AX34: 31 | AY34: 32 | AZ34: 33 | BD34: 37
A35: g | C35: Interfaz de enganche no cumple con medidas mínimas, fallas de sujeción, defecto de estado de la estructura y/o componentes | I35: 2 CARROCERIA Y CHASIS | J35: 2.1 Generalidades de estructura, remolque, Interfaz de enganche, calzas y extintor | K35: =+A35 -> g | L35: =+C35 -> Interfaz de enganche no cumple con medidas mínimas, fallas de sujeción, defecto de estado de la estructura y/o componentes | M35: =+IF(N35="O","DG",IF(N35="P","","N/A")) | N35: =+IF(OR($T$5=T35,$T$5=U35,$T$5=V35,$T$5=W35,$T$5=X35,$T$5=Y35,$T$5=Z35,$T$5=AA35,$T$5=AB35,$T$5=AC35,$T$5=AD35,$T$5=AE35,$T$5=AF35,$T$5=AG35,$T$5=AH35,$T$5=AI35,$T$5=AJ35,$T$5=AK35,$T$5=AL35,$T$5=AM35,$T$5=AN35,$T$5=AO35,$T$5=AP35,$T$5=AQ35,$T$5=AR35,$T$5=AS35,$T$5=AT35,$T$5=AU35,$T$5=AV35,$T$5=AW35,$T$5=AX35,$T$5=AY35,$T$5=AZ35,$T$5=BA35,$T$5=BB35,$T$5=BC35,$T$5=BD35),"P","¡") -> P | O35: =P35 -> 0 | T35: 1 | V35: 3 | Y35: 6 | Z35: 7 | AC35: 10 | AG35: 14 | AH35: 15 | AI35: 16 | AK35: 18 | AM35: 20 | AN35: 21 | AS35: 26 | AT35: 27 | AU35: 28 | AV35: 29 | AW35: 30 | AX35: 31 | AY35: 32 | AZ35: 33 | BD35: 37
A36: h | C36: Pasador vertical del enganche (pegadero) no están sujetas al vehículo con cadena o similar | I36: 2 CARROCERIA Y CHASIS | J36: 2.1 Generalidades de estructura, remolque, Interfaz de enganche, calzas y extintor | K36: =+A36 -> h | L36: =+C36 -> Pasador vertical del enganche (pegadero) no están sujetas al vehículo con cadena o similar | M36: =+IF(N36="O","DG",IF(N36="P","","N/A")) | N36: =+IF(OR($T$5=T36,$T$5=U36,$T$5=V36,$T$5=W36,$T$5=X36,$T$5=Y36,$T$5=Z36,$T$5=AA36,$T$5=AB36,$T$5=AC36,$T$5=AD36,$T$5=AE36,$T$5=AF36,$T$5=AG36,$T$5=AH36,$T$5=AI36,$T$5=AJ36,$T$5=AK36,$T$5=AL36,$T$5=AM36,$T$5=AN36,$T$5=AO36,$T$5=AP36,$T$5=AQ36,$T$5=AR36,$T$5=AS36,$T$5=AT36,$T$5=AU36,$T$5=AV36,$T$5=AW36,$T$5=AX36,$T$5=AY36,$T$5=AZ36,$T$5=BA36,$T$5=BB36,$T$5=BC36,$T$5=BD36),"P","¡") -> P | O36: =P36 -> 0 | T36: 1 | V36: 3 | Y36: 6 | Z36: 7 | AC36: 10 | AG36: 14 | AH36: 15 | AI36: 16 | AK36: 18 | AM36: 20 | AN36: 21 | AS36: 26 | AT36: 27 | AU36: 28 | AV36: 29 | AW36: 30 | AX36: 31 | AY36: 32 | AZ36: 33 | BD36: 37
A37: i | C37: Sistema de seguridad anti desprendimiento del pasador del pegadero inexistes (si este es original de fabricación) | I37: 2 CARROCERIA Y CHASIS | J37: 2.1 Generalidades de estructura, remolque, Interfaz de enganche, calzas y extintor | K37: =+A37 -> i | L37: =+C37 -> Sistema de seguridad anti desprendimiento del pasador del pegadero inexistes (si este es original de fabricación) | M37: =+IF(N37="O","DG",IF(N37="P","","N/A")) | N37: =+IF(OR($T$5=T37,$T$5=U37,$T$5=V37,$T$5=W37,$T$5=X37,$T$5=Y37,$T$5=Z37,$T$5=AA37,$T$5=AB37,$T$5=AC37,$T$5=AD37,$T$5=AE37,$T$5=AF37,$T$5=AG37,$T$5=AH37,$T$5=AI37,$T$5=AJ37,$T$5=AK37,$T$5=AL37,$T$5=AM37,$T$5=AN37,$T$5=AO37,$T$5=AP37,$T$5=AQ37,$T$5=AR37,$T$5=AS37,$T$5=AT37,$T$5=AU37,$T$5=AV37,$T$5=AW37,$T$5=AX37,$T$5=AY37,$T$5=AZ37,$T$5=BA37,$T$5=BB37,$T$5=BC37,$T$5=BD37),"P","¡") -> P | O37: =P37 -> 0 | T37: 1 | V37: 3 | Y37: 6 | Z37: 7 | AC37: 10 | AG37: 14 | AH37: 15 | AI37: 16 | AK37: 18 | AM37: 20 | AN37: 21 | AS37: 26 | AT37: 27 | AU37: 28 | AV37: 29 | AW37: 30 | AX37: 31 | AY37: 32 | AZ37: 33 | BD37: 37
A38: j | C38: Estructura y/o componentes del enganche (pegadero) presenta oxidación | I38: 2 CARROCERIA Y CHASIS | J38: 2.1 Generalidades de estructura, remolque, Interfaz de enganche, calzas y extintor | K38: =+A38 -> j | L38: =+C38 -> Estructura y/o componentes del enganche (pegadero) presenta oxidación | M38: =+IF(N38="O","DL",IF(N38="P","","N/A")) | N38: =+IF(OR($T$5=T38,$T$5=U38,$T$5=V38,$T$5=W38,$T$5=X38,$T$5=Y38,$T$5=Z38,$T$5=AA38,$T$5=AB38,$T$5=AC38,$T$5=AD38,$T$5=AE38,$T$5=AF38,$T$5=AG38,$T$5=AH38,$T$5=AI38,$T$5=AJ38,$T$5=AK38,$T$5=AL38,$T$5=AM38,$T$5=AN38,$T$5=AO38,$T$5=AP38,$T$5=AQ38,$T$5=AR38,$T$5=AS38,$T$5=AT38,$T$5=AU38,$T$5=AV38,$T$5=AW38,$T$5=AX38,$T$5=AY38,$T$5=AZ38,$T$5=BA38,$T$5=BB38,$T$5=BC38,$T$5=BD38),"P","¡") -> P | O38: =P38 -> 0 | T38: 1 | V38: 3 | Y38: 6 | Z38: 7 | AC38: 10 | AG38: 14 | AH38: 15 | AI38: 16 | AK38: 18 | AM38: 20 | AN38: 21 | AS38: 26 | AT38: 27 | AU38: 28 | AV38: 29 | AW38: 30 | AX38: 31 | AY38: 32 | AZ38: 33 | BD38: 37
A39: k | C39: Ausencia, mal sujeción o deterioro avanzado del parachoques o dispositivo similar | I39: 2 CARROCERIA Y CHASIS | J39: 2.1 Generalidades de estructura, remolque, Interfaz de enganche, calzas y extintor | K39: =+A39 -> k | L39: =+C39 -> Ausencia, mal sujeción o deterioro avanzado del parachoques o dispositivo similar | M39: =+IF(N39="O","DG",IF(N39="P","","N/A")) -> N/A | N39: =+IF(OR($T$5=T39,$T$5=U39,$T$5=V39,$T$5=W39,$T$5=X39,$T$5=Y39,$T$5=Z39,$T$5=AA39,$T$5=AB39,$T$5=AC39,$T$5=AD39,$T$5=AE39,$T$5=AF39,$T$5=AG39,$T$5=AH39,$T$5=AI39,$T$5=AJ39,$T$5=AK39,$T$5=AL39,$T$5=AM39,$T$5=AN39,$T$5=AO39,$T$5=AP39,$T$5=AQ39,$T$5=AR39,$T$5=AS39,$T$5=AT39,$T$5=AU39,$T$5=AV39,$T$5=AW39,$T$5=AX39,$T$5=AY39,$T$5=AZ39,$T$5=BA39,$T$5=BB39,$T$5=BC39,$T$5=BD39),"P","¡") -> ¡ | O39: =P39 -> 0 | U39: 2 | V39: 3 | W39: 4 | X39: 5 | AA39: 8 | AB39: 9 | AD39: 11 | AE39: 12 | AI39: 16 | AJ39: 17 | AL39: 19 | AM39: 20 | AO39: 22 | AP39: 23 | AQ39: 24 | AS39: 26 | AT39: 27 | AU39: 28 | AY39: 32 | AZ39: 33 | BA39: 34 | BB39: 35 | BC39: 36
A40: l | C40: Deterioro leve de hules protectores (topes) | I40: 2 CARROCERIA Y CHASIS | J40: 2.1 Generalidades de estructura, remolque, Interfaz de enganche, calzas y extintor | K40: =+A40 -> l | L40: =+C40 -> Deterioro leve de hules protectores (topes) | M40: =+IF(N40="O","DL",IF(N40="P","","N/A")) | N40: =+IF(OR($T$5=T40,$T$5=U40,$T$5=V40,$T$5=W40,$T$5=X40,$T$5=Y40,$T$5=Z40,$T$5=AA40,$T$5=AB40,$T$5=AC40,$T$5=AD40,$T$5=AE40,$T$5=AF40,$T$5=AG40,$T$5=AH40,$T$5=AI40,$T$5=AJ40,$T$5=AK40,$T$5=AL40,$T$5=AM40,$T$5=AN40,$T$5=AO40,$T$5=AP40,$T$5=AQ40,$T$5=AR40,$T$5=AS40,$T$5=AT40,$T$5=AU40,$T$5=AV40,$T$5=AW40,$T$5=AX40,$T$5=AY40,$T$5=AZ40,$T$5=BA40,$T$5=BB40,$T$5=BC40,$T$5=BD40),"P","¡") -> P | O40: =P40 -> 0 | T40: 1 | U40: 2 | V40: 3 | X40: 5 | AA40: 8 | AB40: 9 | AC40: 10 | AG40: 14 | AK40: 18 | AL40: 19 | AM40: 20 | AN40: 21 | AO40: 22 | AS40: 26 | AT40: 27 | AU40: 28 | AV40: 29 | AW40: 30 | AX40: 31 | AY40: 32 | AZ40: 33 | BA40: 34 | BB40: 35 | BC40: 36
A41: m | C41: Ausencia o deterioro avanzado de hules protectores (topes) | I41: 2 CARROCERIA Y CHASIS | J41: 2.1 Generalidades de estructura, remolque, Interfaz de enganche, calzas y extintor | K41: =+A41 -> m | L41: =+C41 -> Ausencia o deterioro avanzado de hules protectores (topes) | M41: =+IF(N41="O","DG",IF(N41="P","","N/A")) | N41: =+IF(OR($T$5=T41,$T$5=U41,$T$5=V41,$T$5=W41,$T$5=X41,$T$5=Y41,$T$5=Z41,$T$5=AA41,$T$5=AB41,$T$5=AC41,$T$5=AD41,$T$5=AE41,$T$5=AF41,$T$5=AG41,$T$5=AH41,$T$5=AI41,$T$5=AJ41,$T$5=AK41,$T$5=AL41,$T$5=AM41,$T$5=AN41,$T$5=AO41,$T$5=AP41,$T$5=AQ41,$T$5=AR41,$T$5=AS41,$T$5=AT41,$T$5=AU41,$T$5=AV41,$T$5=AW41,$T$5=AX41,$T$5=AY41,$T$5=AZ41,$T$5=BA41,$T$5=BB41,$T$5=BC41,$T$5=BD41),"P","¡") -> P | O41: =P41 -> 0 | T41: 1 | U41: 2 | V41: 3 | X41: 5 | AA41: 8 | AB41: 9 | AC41: 10 | AG41: 14 | AK41: 18 | AL41: 19 | AM41: 20 | AN41: 21 | AO41: 22 | AS41: 26 | AT41: 27 | AU41: 28 | AV41: 29 | AW41: 30 | AX41: 31 | AY41: 32 | AZ41: 33 | BA41: 34 | BB41: 35 | BC41: 36
...

Sheet Certificado
A1: #VALUE! | D1: SISTEMA DE GESTIÓN DE CALIDAD | P1: Código: F-140-1
D2: INFORME DE INSPECCIÓN TÉCNICA DE EQUIPOS Y VEHÍCULOS QUE INGRESAN AL LADO AÉREO | P2: Versión: 4
P3: Página: 11 de 12
A5: CERTIFICADO DE LA INSPECCIÓN TÉCNICA
A7: Número de equipo: | D7: Tipo de equipo: | J7: Categoría: | O7: Número de Revisión:
A8: =+'Formulario de Inspección'!A5 -> 0 | D8: =+'Formulario de Inspección'!D5 -> Aire acondicionado | J8: =+'Formulario de Inspección'!H5 -> 0 | O8: =+'Formulario de Inspección'!R5 -> 0
A9: Marca: | D9: Modelo: | J9: Año Modelo: | M9: Antigüedad: | O9: Empresa GSE propietaria del equipo:
A10: =+'Formulario de Inspección'!A7 -> Desconocida | D10: =+'Formulario de Inspección'!D7 -> Desconocido | J10: =+'Formulario de Inspección'!H7 -> Desconocido | M10: =+'Formulario de Inspección'!P7 -> Desconocido | O10: =+'Formulario de Inspección'!R7 -> 0
A11: Fecha de la revisión: | D11: Motivo de la revisión: | J11: Fecha máxima para la reinspección: | M11: Número de revisión anterior: | O11: Fecha en que se genera el Informe:
A12: =+'Formulario de Inspección'!A9 -> 0 | D12: =+'Formulario de Inspección'!D9 -> INSPECCION ANUAL | J12: =+'Formulario de Inspección'!H9 -> N/A | M12: =+'Formulario de Inspección'!P9 -> N/A | O12: =+'Formulario de Inspección'!R9 -> 0
A14: Código | C14: Subcódigo | E14: Índice | F14: Defecto | M14: Gravedad | O14: Observaciones
A15: =+Dinamica!A4 -> 0 | C15: =+Dinamica!B4 -> 0 | E15: =+Dinamica!C4 -> 0 | F15: =+Dinamica!D4 -> 0 | M15: =+Dinamica!E4 -> 0 | O15: =+Dinamica!F4 -> 0
A16: =+Dinamica!A5 -> 0 | C16: =+Dinamica!B5 -> 0 | E16: =+Dinamica!C5 -> 0 | F16: =+Dinamica!D5 -> 0 | M16: =+Dinamica!E5 -> 0 | O16: =+Dinamica!F5 -> 0
A17: =+Dinamica!A6 -> 0 | C17: =+Dinamica!B6 -> 0 | E17: =+Dinamica!C6 -> 0 | F17: =+Dinamica!D6 -> 0 | M17: =+Dinamica!E6 -> 0 | O17: =+Dinamica!F6 -> 0
A18: =+Dinamica!A7 -> 0 | C18: =+Dinamica!B7 -> 0 | E18: =+Dinamica!C7 -> 0 | F18: =+Dinamica!D7 -> 0 | M18: =+Dinamica!E7 -> 0 | O18: =+Dinamica!F7 -> 0
A19: =+Dinamica!A8 -> 0 | C19: =+Dinamica!B8 -> 0 | E19: =+Dinamica!C8 -> 0 | F19: =+Dinamica!D8 -> 0 | M19: =+Dinamica!E8 -> 0 | O19: =+Dinamica!F8 -> 0
A20: =+Dinamica!A9 -> 0 | C20: =+Dinamica!B9 -> 0 | E20: =+Dinamica!C9 -> 0 | F20: =+Dinamica!D9 -> 0 | M20: =+Dinamica!E9 -> 0 | O20: =+Dinamica!F9 -> 0
A21: =+Dinamica!A10 -> 0 | C21: =+Dinamica!B10 -> 0 | E21: =+Dinamica!C10 -> 0 | F21: =+Dinamica!D10 -> 0 | M21: =+Dinamica!E10 -> 0 | O21: =+Dinamica!F10 -> 0
A22: =+Dinamica!A11 -> 0 | C22: =+Dinamica!B11 -> 0 | E22: =+Dinamica!C11 -> 0 | F22: =+Dinamica!D11 -> 0 | M22: =+Dinamica!E11 -> 0 | O22: =+Dinamica!F11 -> 0
A23: =+Dinamica!A12 -> 0 | C23: =+Dinamica!B12 -> 0 | E23: =+Dinamica!C12 -> 0 | F23: =+Dinamica!D12 -> 0 | M23: =+Dinamica!E12 -> 0 | O23: =+Dinamica!F12 -> 0
A24: =+Dinamica!A13 -> 0 | C24: =+Dinamica!B13 -> 0 | E24: =+Dinamica!C13 -> 0 | F24: =+Dinamica!D13 -> 0 | M24: =+Dinamica!E13 -> 0 | O24: =+Dinamica!F13 -> 0
A25: =+Dinamica!A14 -> 0 | C25: =+Dinamica!B14 -> 0 | E25: =+Dinamica!C14 -> 0 | F25: =+Dinamica!D14 -> 0 | M25: =+Dinamica!E14 -> 0 | O25: =+Dinamica!F14 -> 0
A26: =+Dinamica!A15 -> 0 | C26: =+Dinamica!B15 -> 0 | E26: =+Dinamica!C15 -> 0 | F26: =+Dinamica!D15 -> 0 | M26: =+Dinamica!E15 -> 0 | O26: =+Dinamica!F15 -> 0
... A38: =+Dinamica!A27 -> 0 | C38: =+Dinamica!B27 -> 0 | E38: =+Dinamica!C27 -> 0 | F38: =+Dinamica!D27 -> 0 | M38: =+Dinamica!E27 -> 0 | O38: =+Dinamica!F27 -> 0
A39: =+'Formulario de Inspección'!M504 -> Compromiso de confidencialidad:
A40: ='Formulario de Inspección'!M505 -> “La Unidad de Supervisión de Proveedores de Servicios de Asistencia Técnica en Tierra de Aeris Holding Costa Rica, S.A, declara su responsabilidad de gestionar como información confidencial, la información obtenida o generada durante la realización de las actividades de inspección, y/o obtenida producto de denuncias de terceros. Se excluye del alcance de esta obligación los casos en que deba procederse con la divulgación de esta información en razón de requerimientos judiciales y/o administrativos emanados de autoridad competente, y/o obligaciones contractuales adquiridas con el Consejo Técnico de Aviación Civil.”
A42: Resultado de la Inspección: | D42: Nota 1: | G42: Nota 2: | J42: En caso de ser favorable:
A43: =+'Formulario de Inspección'!C498 -> FAVORABLE | D43: Este Certificado no debe reproducirse parcial o totalmente sin autorización del Organismo de Inspección. | G43: De requerirlo, el propietario del equipo inspeccionado puede solicitar el Informe de Inspección al Organismo de Inspección . | J43: Número de marchamo colocado | M43: Número de marchamo anterior | P43: Inspección valida hasta:
J44: =+'Formulario de Inspección'!S499 -> N/A | M44: =+'Formulario de Inspección'!S501 -> N/A | P44: =+'Formulario de Inspección'!P499 -> N/A | R44: =+'Formulario de Inspección'!R499 -> N/A
A46: Nombre del Encargado Técnico | E46: Nombre del inspector: | J46: Equipos de medición utilizados en la inspección
A47: =+IF(OR($E$47=Referencias!A2),"Andrés Bonilla Sánchez","William Ramírez Chavarría") -> William Ramírez Chavarría | D47: =+IF(OR($A$47=Referencias!A2),"Titular","Suplente 1") -> Titular | E47: =+'Formulario de Inspección'!H514 -> 0 | J47: =+'Formulario de Inspección'!A511 -> N/A | K47: =+'Formulario de Inspección'!C511 -> N/A | L47: =+'Formulario de Inspección'!E511 -> N/A | M47: =+'Formulario de Inspección'!F511 -> N/A | N47: =+'Formulario de Inspección'!H511 -> N/A | O47: =+'Formulario de Inspección'!P511 -> N/A | P47: =+'Formulario de Inspección'!R511 -> N/A | Q47: =+'Formulario de Inspección'!S511 -> N/A | R47: =+'Formulario de Inspección'!T511 -> 0

Sheet Certificado 2
A1: #VALUE! | D1: SISTEMA DE GESTIÓN DE CALIDAD | P1: Código: F-140-1
D2: INFORME DE INSPECCIÓN TÉCNICA DE EQUIPOS Y VEHÍCULOS QUE INGRESAN AL LADO AÉREO | P2: Versión: 4
P3: Página: 12 de 12
A5: CERTIFICADO DE LA INSPECCIÓN TÉCNICA
A7: Número de equipo: | D7: Tipo de equipo: | J7: Categoría: | O7: Número de Revisión:
A8: =+'Formulario de Inspección'!A5 -> 0 | D8: =+'Formulario de Inspección'!D5 -> Aire acondicionado | J8: =+'Formulario de Inspección'!H5 -> 0 | O8: =+'Formulario de Inspección'!R5 -> 0
A9: Marca: | D9: Modelo: | J9: Año Modelo: | M9: Antigüedad: | O9: Empresa GSE propietaria del equipo:
A10: =+'Formulario de Inspección'!A7 -> Desconocida | D10: =+'Formulario de Inspección'!D7 -> Desconocido | J10: =+'Formulario de Inspección'!H7 -> Desconocido | M10: =+'Formulario de Inspección'!P7 -> Desconocido | O10: =+'Formulario de Inspección'!R7 -> 0
A11: Fecha de la revisión: | D11: Motivo de la revisión: | J11: Fecha máxima para la reinspección: | M11: Número de revisión anterior: | O11: Fecha en que se genera el Informe:
A12: =+'Formulario de Inspección'!A9 -> 0 | D12: =+'Formulario de Inspección'!D9 -> INSPECCION ANUAL | J12: =+'Formulario de Inspección'!H9 -> N/A | M12: =+'Formulario de Inspección'!P9 -> N/A | O12: =+'Formulario de Inspección'!R9 -> 0
A14: Código | C14: Subcódigo | E14: Índice | F14: Defecto | M14: Gravedad | O14: Observaciones
A15: =+Dinamica!A28 -> 0 | C15: =+Dinamica!B28 -> 0 | E15: =+Dinamica!C28 -> 0 | F15: =+Dinamica!D28 -> 0 | M15: =+Dinamica!E28 -> 0 | O15: =+Dinamica!F28 -> 0
A16: =+Dinamica!A29 -> 0 | C16: =+Dinamica!B29 -> 0 | E16: =+Dinamica!C29 -> 0 | F16: =+Dinamica!D29 -> 0 | M16: =+Dinamica!E29 -> 0 | O16: =+Dinamica!F29 -> 0
A17: =+Dinamica!A30 -> 0 | C17: =+Dinamica!B30 -> 0 | E17: =+Dinamica!C30 -> 0 | F17: =+Dinamica!D30 -> 0 | M17: =+Dinamica!E30 -> 0 | O17: =+Dinamica!F30 -> 0
A18: =+Dinamica!A31 -> 0 | C18: =+Dinamica!B31 -> 0 | E18: =+Dinamica!C31 -> 0 | F18: =+Dinamica!D31 -> 0 | M18: =+Dinamica!E31 -> 0 | O18: =+Dinamica!F31 -> 0
A19: =+Dinamica!A32 -> 0 | C19: =+Dinamica!B32 -> 0 | E19: =+Dinamica!C32 -> 0 | F19: =+Dinamica!D32 -> 0 | M19: =+Dinamica!E32 -> 0 | O19: =+Dinamica!F32 -> 0
A20: =+Dinamica!A33 -> 0 | C20: =+Dinamica!B33 -> 0 | E20: =+Dinamica!C33 -> 0 | F20: =+Dinamica!D33 -> 0 | M20: =+Dinamica!E33 -> 0 | O20: =+Dinamica!F33 -> 0
A21: =+Dinamica!A34 -> 0 | C21: =+Dinamica!B34 -> 0 | E21: =+Dinamica!C34 -> 0 | F21: =+Dinamica!D34 -> 0 | M21: =+Dinamica!E34 -> 0 | O21: =+Dinamica!F34 -> 0
A22: =+Dinamica!A35 -> 0 | C22: =+Dinamica!B35 -> 0 | E22: =+Dinamica!C35 -> 0 | F22: =+Dinamica!D35 -> 0 | M22: =+Dinamica!E35 -> 0 | O22: =+Dinamica!F35 -> 0
A23: =+Dinamica!A36 -> 0 | C23: =+Dinamica!B36 -> 0 | E23: =+Dinamica!C36 -> 0 | F23: =+Dinamica!D36 -> 0 | M23: =+Dinamica!E36 -> 0 | O23: =+Dinamica!F36 -> 0
A24: =+Dinamica!A37 -> 0 | C24: =+Dinamica!B37 -> 0 | E24: =+Dinamica!C37 -> 0 | F24: =+Dinamica!D37 -> 0 | M24: =+Dinamica!E37 -> 0 | O24: =+Dinamica!F37 -> 0
A25: =+Dinamica!A38 -> 0 | C25: =+Dinamica!B38 -> 0 | E25: =+Dinamica!C38 -> 0 | F25: =+Dinamica!D38 -> 0 | M25: =+Dinamica!E38 -> 0 | O25: =+Dinamica!F38 -> 0
A26: =+Dinamica!A39 -> 0 | C26: =+Dinamica!B39 -> 0 | E26: =+Dinamica!C39 -> 0 | F26: =+Dinamica!D39 -> 0 | M26: =+Dinamica!E39 -> 0 | O26: =+Dinamica!F39 -> 0
... A38: =+Dinamica!A51 -> 0 | C38: =+Dinamica!B51 -> 0 | E38: =+Dinamica!C51 -> 0 | F38: =+Dinamica!D51 -> 0 | M38: =+Dinamica!E51 -> 0 | O38: =+Dinamica!F51 -> 0
A39: =+'Formulario de Inspección'!M504 -> Compromiso de confidencialidad:
A40: ='Formulario de Inspección'!M505 -> “La Unidad de Supervisión de Proveedores de Servicios de Asistencia Técnica en Tierra de Aeris Holding Costa Rica, S.A, declara su responsabilidad de gestionar como información confidencial, la información obtenida o generada durante la realización de las actividades de inspección, y/o obtenida producto de denuncias de terceros. Se excluye del alcance de esta obligación los casos en que deba procederse con la divulgación de esta información en razón de requerimientos judiciales y/o administrativos emanados de autoridad competente, y/o obligaciones contractuales adquiridas con el Consejo Técnico de Aviación Civil.”
A42: Resultado de la Inspección: | D42: Nota 1: | G42: Nota 2: | J42: En caso de ser favorable:
A43: =+'Formulario de Inspección'!C498 -> FAVORABLE | D43: Este Certificado no debe reproducirse parcial o totalmente sin autorización del Organismo de Inspección. | G43: De requerirlo, el propietario del equipo inspeccionado puede solicoitar el Informe de Inspección al Organismo de Inspección . | J43: Número de marchamo colocado | M43: Número de marchamo anterior | P43: Inspección valida hasta:
J44: =+'Formulario de Inspección'!S499 -> N/A | M44: =+'Formulario de Inspección'!S501 -> N/A | P44: =+'Formulario de Inspección'!P499 -> N/A | R44: =+'Formulario de Inspección'!R499 -> N/A
A46: Nombre Gerente Técnico | E46: Nombre del inspector: | J46: Equipos de medición utilizados en la inspección
A47: =+IF(OR($E$47=Referencias!A2),"Andrés Bonilla Sánchez","William Ramírez Chavarría") -> William Ramírez Chavarría | D47: =+IF(OR($A$47=Referencias!A2),"Titular","Suplente 1") -> Titular | E47: =+'Formulario de Inspección'!H514 -> 0 | J47: =+'Formulario de Inspección'!A511 -> N/A | K47: =+'Formulario de Inspección'!C511 -> N/A | L47: =+'Formulario de Inspección'!E511 -> N/A | M47: =+'Formulario de Inspección'!F511 -> N/A | N47: =+'Formulario de Inspección'!H511 -> N/A | O47: =+'Formulario de Inspección'!P511 -> N/A | P47: =+'Formulario de Inspección'!R511 -> N/A

Sheet Dinamica
A1: Condición | B1: (Varios elementos)
A3: Código | B3: Subcódigo | C3: Índice | D3: Lista de defectos | E3: Gravedad | F3: Observaciones

Sheet Resumen
A1: Número de Revisión: | B1: Número de equipo: | C1: Tipo de equipo: | D1: Categoría: | E1: Marca: | F1: Modelo: | G1: Año Modelo: | H1: Antigüedad: | I1: Empresa GSE propietaria del equipo: | J1: Fecha de la revisión: | K1: Motivo de la revisión: | L1: Fecha máxima para la reinspección: | M1: Número de revisión anterior (S/A): | N1: Fecha en que se genera el Informe: | O1: Código o subcódigo | P1: Índice | Q1: Lista de defectos | R1: Gravedad | S1: Condición | T1: Observaciones | U1: Resultado de la Inspección: | V1: Valida hasta: | X1: Número de marchamo | Y1: Nombre del inspector:
A2: =+'Formulario de Inspección'!$R$5 -> 0 | B2: ='Formulario de Inspección'!$A$5 -> 0 | C2: =+'Formulario de Inspección'!$D$5 -> Aire acondicionado | D2: =+'Formulario de Inspección'!$H$5 -> 0 | E2: =+'Formulario de Inspección'!$A$7 -> Desconocida | F2: =+'Formulario de Inspección'!$D$7 -> Desconocido | G2: =+'Formulario de Inspección'!$H$7 -> Desconocido | H2: =+'Formulario de Inspección'!$P$7 -> Desconocido | I2: =+'Formulario de Inspección'!$R$7 -> 0 | J2: =+'Formulario de Inspección'!$A$9 -> 0 | K2: =+'Formulario de Inspección'!$D$9 -> INSPECCION ANUAL | L2: =+'Formulario de Inspección'!$H$9 -> N/A | M2: =+'Formulario de Inspección'!$P$9 -> N/A | N2: =+'Formulario de Inspección'!$R$9 -> 0 | O2: 1 IDENTIFICACION | P2: =+'Lista de defectos'!D2 -> #REF! | Q2: =+'Lista de defectos'!G2 -> #REF! | R2: =+'Lista de defectos'!F2 -> DG | S2: ='Formulario de Inspección'!#REF! -> #REF! | T2: ='Formulario de Inspección'!#REF! -> #REF! | U2: =+'Formulario de Inspección'!$C$498 -> FAVORABLE | V2: =+'Formulario de Inspección'!$P$499 -> N/A | W2: =+'Formulario de Inspección'!$R$499 -> N/A | X2: =+'Formulario de Inspección'!$S$499 -> N/A | Y2: =+'Formulario de Inspección'!$H$514 -> 0
A3: =+'Formulario de Inspección'!$R$5 -> 0 | B3: ='Formulario de Inspección'!$A$5 -> 0 | C3: =+'Formulario de Inspección'!$D$5 -> Aire acondicionado | D3: =+'Formulario de Inspección'!$H$5 -> 0 | E3: =+'Formulario de Inspección'!$A$7 -> Desconocida | F3: =+'Formulario de Inspección'!$D$7 -> Desconocido | G3: =+'Formulario de Inspección'!$H$7 -> Desconocido | H3: =+'Formulario de Inspección'!$P$7 -> Desconocido | I3: =+'Formulario de Inspección'!$R$7 -> 0 | J3: =+'Formulario de Inspección'!$A$9 -> 0 | K3: =+'Formulario de Inspección'!$D$9 -> INSPECCION ANUAL | L3: =+'Formulario de Inspección'!$H$9 -> N/A | M3: =+'Formulario de Inspección'!$P$9 -> N/A | N3: =+'Formulario de Inspección'!$R$9 -> 0 | O3: 1 IDENTIFICACION | P3: =+'Lista de defectos'!D3 -> a | Q3: =+'Lista de defectos'!G3 -> Número de Marchamo Aeris registrado no coincide con el que porta | R3: =+'Lista de defectos'!F3 -> DG | S3: ='Formulario de Inspección'!N13 -> P | T3: ='Formulario de Inspección'!O13 -> 0 | U3: =+'Formulario de Inspección'!$C$498 -> FAVORABLE | V3: =+'Formulario de Inspección'!$P$499 -> N/A | W3: =+'Formulario de Inspección'!$R$499 -> N/A | X3: =+'Formulario de Inspección'!$S$499 -> N/A | Y3: =+'Formulario de Inspección'!$H$514 -> 0
A4: =+'Formulario de Inspección'!$R$5 -> 0 | B4: ='Formulario de Inspección'!$A$5 -> 0 | C4: =+'Formulario de Inspección'!$D$5 -> Aire acondicionado | D4: =+'Formulario de Inspección'!$H$5 -> 0 | E4: =+'Formulario de Inspección'!$A$7 -> Desconocida | F4: =+'Formulario de Inspección'!$D$7 -> Desconocido | G4: =+'Formulario de Inspección'!$H$7 -> Desconocido | H4: =+'Formulario de Inspección'!$P$7 -> Desconocido | I4: =+'Formulario de Inspección'!$R$7 -> 0 | J4: =+'Formulario de Inspección'!$A$9 -> 0 | K4: =+'Formulario de Inspección'!$D$9 -> INSPECCION ANUAL | L4: =+'Formulario de Inspección'!$H$9 -> N/A | M4: =+'Formulario de Inspección'!$P$9 -> N/A | N4: =+'Formulario de Inspección'!$R$9 -> 0 | O4: 1 IDENTIFICACION | P4: =+'Lista de defectos'!D4 -> b | Q4: =+'Lista de defectos'!G4 -> Número de identificación no coincide con registros de AERIS o esta duplicado con otro equipo del mismo tipo | R4: =+'Lista de defectos'!F4 -> DG | S4: ='Formulario de Inspección'!N14 -> P | T4: ='Formulario de Inspección'!O14 -> 0 | U4: =+'Formulario de Inspección'!$C$498 -> FAVORABLE | V4: =+'Formulario de Inspección'!$P$499 -> N/A | W4: =+'Formulario de Inspección'!$R$499 -> N/A | X4: =+'Formulario de Inspección'!$S$499 -> N/A | Y4: =+'Formulario de Inspección'!$H$514 -> 0
A5: =+'Formulario de Inspección'!$R$5 -> 0 | B5: ='Formulario de Inspección'!$A$5 -> 0 | C5: =+'Formulario de Inspección'!$D$5 -> Aire acondicionado | D5: =+'Formulario de Inspección'!$H$5 -> 0 | E5: =+'Formulario de Inspección'!$A$7 -> Desconocida | F5: =+'Formulario de Inspección'!$D$7 -> Desconocido | G5: =+'Formulario de Inspección'!$H$7 -> Desconocido | H5: =+'Formulario de Inspección'!$P$7 -> Desconocido | I5: =+'Formulario de Inspección'!$R$7 -> 0 | J5: =+'Formulario de Inspección'!$A$9 -> 0 | K5: =+'Formulario de Inspección'!$D$9 -> INSPECCION ANUAL | L5: =+'Formulario de Inspección'!$H$9 -> N/A | M5: =+'Formulario de Inspección'!$P$9 -> N/A | N5: =+'Formulario de Inspección'!$R$9 -> 0 | O5: 1 IDENTIFICACION | P5: =+'Lista de defectos'!D5 -> c | Q5: =+'Lista de defectos'!G5 -> Inexistencia de alguna de las señalización obligatorias como los logotipo de la compañía, bandera a cuadros o numero de identificación. | R5: =+'Lista de defectos'!F5 -> DG | S5: ='Formulario de Inspección'!N15 -> P | T5: ='Formulario de Inspección'!O15 -> 0 | U5: =+'Formulario de Inspección'!$C$498 -> FAVORABLE | V5: =+'Formulario de Inspección'!$P$499 -> N/A | W5: =+'Formulario de Inspección'!$R$499 -> N/A | X5: =+'Formulario de Inspección'!$S$499 -> N/A | Y5: =+'Formulario de Inspección'!$H$514 -> 0
A6: =+'Formulario de Inspección'!$R$5 -> 0 | B6: ='Formulario de Inspección'!$A$5 -> 0 | C6: =+'Formulario de Inspección'!$D$5 -> Aire acondicionado | D6: =+'Formulario de Inspección'!$H$5 -> 0 | E6: =+'Formulario de Inspección'!$A$7 -> Desconocida | F6: =+'Formulario de Inspección'!$D$7 -> Desconocido | G6: =+'Formulario de Inspección'!$H$7 -> Desconocido | H6: =+'Formulario de Inspección'!$P$7 -> Desconocido | I6: =+'Formulario de Inspección'!$R$7 -> 0 | J6: =+'Formulario de Inspección'!$A$9 -> 0 | K6: =+'Formulario de Inspección'!$D$9 -> INSPECCION ANUAL | L6: =+'Formulario de Inspección'!$H$9 -> N/A | M6: =+'Formulario de Inspección'!$P$9 -> N/A | N6: =+'Formulario de Inspección'!$R$9 -> 0 | O6: 1 IDENTIFICACION | P6: =+'Lista de defectos'!D6 -> d | Q6: =+'Lista de defectos'!G6 -> Defectos del estado de alguno de los logotipos de la compañía, banderas a cuadros o números de identificación que afecta o impida su visibilidad | R6: =+'Lista de defectos'!F6 -> DG | S6: ='Formulario de Inspección'!N16 -> P | T6: ='Formulario de Inspección'!O16 -> 0 | U6: =+'Formulario de Inspección'!$C$498 -> FAVORABLE | V6: =+'Formulario de Inspección'!$P$499 -> N/A | W6: =+'Formulario de Inspección'!$R$499 -> N/A | X6: =+'Formulario de Inspección'!$S$499 -> N/A | Y6: =+'Formulario de Inspección'!$H$514 -> 0
A7: =+'Formulario de Inspección'!$R$5 -> 0 | B7: ='Formulario de Inspección'!$A$5 -> 0 | C7: =+'Formulario de Inspección'!$D$5 -> Aire acondicionado | D7: =+'Formulario de Inspección'!$H$5 -> 0 | E7: =+'Formulario de Inspección'!$A$7 -> Desconocida | F7: =+'Formulario de Inspección'!$D$7 -> Desconocido | G7: =+'Formulario de Inspección'!$H$7 -> Desconocido | H7: =+'Formulario de Inspección'!$P$7 -> Desconocido | I7: =+'Formulario de Inspección'!$R$7 -> 0 | J7: =+'Formulario de Inspección'!$A$9 -> 0 | K7: =+'Formulario de Inspección'!$D$9 -> INSPECCION ANUAL | L7: =+'Formulario de Inspección'!$H$9 -> N/A | M7: =+'Formulario de Inspección'!$P$9 -> N/A | N7: =+'Formulario de Inspección'!$R$9 -> 0 | O7: 1 IDENTIFICACION | P7: =+'Lista de defectos'!D7 -> e | Q7: =+'Lista de defectos'!G7 -> Defectos del estado de alguno de los logotipos de la compañía, banderas a cuadros o números de identificación que no afecte o impida su visibilidad | R7: =+'Lista de defectos'!F7 -> DL | S7: ='Formulario de Inspección'!N17 -> P | T7: ='Formulario de Inspección'!O17 -> 0 | U7: =+'Formulario de Inspección'!$C$498 -> FAVORABLE | V7: =+'Formulario de Inspección'!$P$499 -> N/A | W7: =+'Formulario de Inspección'!$R$499 -> N/A | X7: =+'Formulario de Inspección'!$S$499 -> N/A | Y7: =+'Formulario de Inspección'!$H$514 -> 0
A8: =+'Formulario de Inspección'!$R$5 -> 0 | B8: ='Formulario de Inspección'!$A$5 -> 0 | C8: =+'Formulario de Inspección'!$D$5 -> Aire acondicionado | D8: =+'Formulario de Inspección'!$H$5 -> 0 | E8: =+'Formulario de Inspección'!$A$7 -> Desconocida | F8: =+'Formulario de Inspección'!$D$7 -> Desconocido | G8: =+'Formulario de Inspección'!$H$7 -> Desconocido | H8: =+'Formulario de Inspección'!$P$7 -> Desconocido | I8: =+'Formulario de Inspección'!$R$7 -> 0 | J8: =+'Formulario de Inspección'!$A$9 -> 0 | K8: =+'Formulario de Inspección'!$D$9 -> INSPECCION ANUAL | L8: =+'Formulario de Inspección'!$H$9 -> N/A | M8: =+'Formulario de Inspección'!$P$9 -> N/A | N8: =+'Formulario de Inspección'!$R$9 -> 0 | O8: 1 IDENTIFICACION | P8: =+'Lista de defectos'!D8 -> f | Q8: =+'Lista de defectos'!G8 -> Banderas a cuadros, logotipos o números de identificación con dimensiones diferentes a 30 x 30 cm | R8: =+'Lista de defectos'!F8 -> DG | S8: ='Formulario de Inspección'!N18 -> P | T8: ='Formulario de Inspección'!O18 -> 0 | U8: =+'Formulario de Inspección'!$C$498 -> FAVORABLE | V8: =+'Formulario de Inspección'!$P$499 -> N/A | W8: =+'Formulario de Inspección'!$R$499 -> N/A | X8: =+'Formulario de Inspección'!$S$499 -> N/A | Y8: =+'Formulario de Inspección'!$H$514 -> 0
A9: =+'Formulario de Inspección'!$R$5 -> 0 | B9: ='Formulario de Inspección'!$A$5 -> 0 | C9: =+'Formulario de Inspección'!$D$5 -> Aire acondicionado | D9: =+'Formulario de Inspección'!$H$5 -> 0 | E9: =+'Formulario de Inspección'!$A$7 -> Desconocida | F9: =+'Formulario de Inspección'!$D$7 -> Desconocido | G9: =+'Formulario de Inspección'!$H$7 -> Desconocido | H9: =+'Formulario de Inspección'!$P$7 -> Desconocido | I9: =+'Formulario de Inspección'!$R$7 -> 0 | J9: =+'Formulario de Inspección'!$A$9 -> 0 | K9: =+'Formulario de Inspección'!$D$9 -> INSPECCION ANUAL | L9: =+'Formulario de Inspección'!$H$9 -> N/A | M9: =+'Formulario de Inspección'!$P$9 -> N/A | N9: =+'Formulario de Inspección'!$R$9 -> 0 | O9: 1 IDENTIFICACION | P9: =+'Lista de defectos'!D9 -> g | Q9: =+'Lista de defectos'!G9 -> Banderas a cuadros, logotipos o números de identificación con dimensiones inferior a 30 x 30 cm (cuando es el máximo tamaño que permite la estructura del equipo) | R9: =+'Lista de defectos'!F9 -> DL | S9: ='Formulario de Inspección'!N19 -> P | T9: ='Formulario de Inspección'!O19 -> 0 | U9: =+'Formulario de Inspección'!$C$498 -> FAVORABLE | V9: =+'Formulario de Inspección'!$P$499 -> N/A | W9: =+'Formulario de Inspección'!$R$499 -> N/A | X9: =+'Formulario de Inspección'!$S$499 -> N/A | Y9: =+'Formulario de Inspección'!$H$514 -> 0
A10: =+'Formulario de Inspección'!$R$5 -> 0 | B10: ='Formulario de Inspección'!$A$5 -> 0 | C10: =+'Formulario de Inspección'!$D$5 -> Aire acondicionado | D10: =+'Formulario de Inspección'!$H$5 -> 0 | E10: =+'Formulario de Inspección'!$A$7 -> Desconocida | F10: =+'Formulario de Inspección'!$D$7 -> Desconocido | G10: =+'Formulario de Inspección'!$H$7 -> Desconocido | H10: =+'Formulario de Inspección'!$P$7 -> Desconocido | I10: =+'Formulario de Inspección'!$R$7 -> 0 | J10: =+'Formulario de Inspección'!$A$9 -> 0 | K10: =+'Formulario de Inspección'!$D$9 -> INSPECCION ANUAL | L10: =+'Formulario de Inspección'!$H$9 -> N/A | M10: =+'Formulario de Inspección'!$P$9 -> N/A | N10: =+'Formulario de Inspección'!$R$9 -> 0 | O10: 1 IDENTIFICACION | P10: =+'Lista de defectos'!D10 -> h | Q10: =+'Lista de defectos'!G10 -> Bandera de cuadros de color o diseño no reglamentario | R10: =+'Lista de defectos'!F10 -> DG | S10: ='Formulario de Inspección'!N20 -> P | T10: ='Formulario de Inspección'!O20 -> 0 | U10: =+'Formulario de Inspección'!$C$498 -> FAVORABLE | V10: =+'Formulario de Inspección'!$P$499 -> N/A | W10: =+'Formulario de Inspección'!$R$499 -> N/A | X10: =+'Formulario de Inspección'!$S$499 -> N/A | Y10: =+'Formulario de Inspección'!$H$514 -> 0
A11: =+'Formulario de Inspección'!$R$5 -> 0 | B11: ='Formulario de Inspección'!$A$5 -> 0 | C11: =+'Formulario de Inspección'!$D$5 -> Aire acondicionado | D11: =+'Formulario de Inspección'!$H$5 -> 0 | E11: =+'Formulario de Inspección'!$A$7 -> Desconocida | F11: =+'Formulario de Inspección'!$D$7 -> Desconocido | G11: =+'Formulario de Inspección'!$H$7 -> Desconocido | H11: =+'Formulario de Inspección'!$P$7 -> Desconocido | I11: =+'Formulario de Inspección'!$R$7 -> 0 | J11: =+'Formulario de Inspección'!$A$9 -> 0 | K11: =+'Formulario de Inspección'!$D$9 -> INSPECCION ANUAL | L11: =+'Formulario de Inspección'!$H$9 -> N/A | M11: =+'Formulario de Inspección'!$P$9 -> N/A | N11: =+'Formulario de Inspección'!$R$9 -> 0 | O11: 1 IDENTIFICACION | P11: =+'Lista de defectos'!D11 -> i | Q11: =+'Lista de defectos'!G11 -> Inexistencia o deterioro de cinta reflectiva o cantidad insuficiente para demarcar el tipo de equipo | R11: =+'Lista de defectos'!F11 -> DG | S11: ='Formulario de Inspección'!N21 -> P | T11: ='Formulario de Inspección'!O21 -> 0 | U11: =+'Formulario de Inspección'!$C$498 -> FAVORABLE | V11: =+'Formulario de Inspección'!$P$499 -> N/A | W11: =+'Formulario de Inspección'!$R$499 -> N/A | X11: =+'Formulario de Inspección'!$S$499 -> N/A | Y11: =+'Formulario de Inspección'!$H$514 -> 0
A12: =+'Formulario de Inspección'!$R$5 -> 0 | B12: ='Formulario de Inspección'!$A$5 -> 0 | C12: =+'Formulario de Inspección'!$D$5 -> Aire acondicionado | D12: =+'Formulario de Inspección'!$H$5 -> 0 | E12: =+'Formulario de Inspección'!$A$7 -> Desconocida | F12: =+'Formulario de Inspección'!$D$7 -> Desconocido | G12: =+'Formulario de Inspección'!$H$7 -> Desconocido | H12: =+'Formulario de Inspección'!$P$7 -> Desconocido | I12: =+'Formulario de Inspección'!$R$7 -> 0 | J12: =+'Formulario de Inspección'!$A$9 -> 0 | K12: =+'Formulario de Inspección'!$D$9 -> INSPECCION ANUAL | L12: =+'Formulario de Inspección'!$H$9 -> N/A | M12: =+'Formulario de Inspección'!$P$9 -> N/A | N12: =+'Formulario de Inspección'!$R$9 -> 0 | O12: 1 IDENTIFICACION | P12: =+'Lista de defectos'!D12 -> j | Q12: =+'Lista de defectos'!G12 -> Ilegibilidad o deterioro avanzado del estado del marchamo Aeris | R12: =+'Lista de defectos'!F12 -> DG | S12: ='Formulario de Inspección'!N22 -> P | T12: ='Formulario de Inspección'!O22 -> 0 | U12: =+'Formulario de Inspección'!$C$498 -> FAVORABLE | V12: =+'Formulario de Inspección'!$P$499 -> N/A | W12: =+'Formulario de Inspección'!$R$499 -> N/A | X12: =+'Formulario de Inspección'!$S$499 -> N/A | Y12: =+'Formulario de Inspección'!$H$514 -> 0
A13: =+'Formulario de Inspección'!$R$5 -> 0 | B13: ='Formulario de Inspección'!$A$5 -> 0 | C13: =+'Formulario de Inspección'!$D$5 -> Aire acondicionado | D13: =+'Formulario de Inspección'!$H$5 -> 0 | E13: =+'Formulario de Inspección'!$A$7 -> Desconocida | F13: =+'Formulario de Inspección'!$D$7 -> Desconocido | G13: =+'Formulario de Inspección'!$H$7 -> Desconocido | H13: =+'Formulario de Inspección'!$P$7 -> Desconocido | I13: =+'Formulario de Inspección'!$R$7 -> 0 | J13: =+'Formulario de Inspección'!$A$9 -> 0 | K13: =+'Formulario de Inspección'!$D$9 -> INSPECCION ANUAL | L13: =+'Formulario de Inspección'!$H$9 -> N/A | M13: =+'Formulario de Inspección'!$P$9 -> N/A | N13: =+'Formulario de Inspección'!$R$9 -> 0 | O13: 1 IDENTIFICACION | P13: =+'Lista de defectos'!D13 -> k | Q13: =+'Lista de defectos'!G13 -> Defectos leves de estado en el marchamo Aeris | R13: =+'Lista de defectos'!F13 -> DL | S13: ='Formulario de Inspección'!N23 -> P | T13: ='Formulario de Inspección'!O23 -> 0 | U13: =+'Formulario de Inspección'!$C$498 -> FAVORABLE | V13: =+'Formulario de Inspección'!$P$499 -> N/A | W13: =+'Formulario de Inspección'!$R$499 -> N/A | X13: =+'Formulario de Inspección'!$S$499 -> N/A | Y13: =+'Formulario de Inspección'!$H$514 -> 0
A14: =+'Formulario de Inspección'!$R$5 -> 0 | B14: ='Formulario de Inspección'!$A$5 -> 0 | C14: =+'Formulario de Inspección'!$D$5 -> Aire acondicionado | D14: =+'Formulario de Inspección'!$H$5 -> 0 | E14: =+'Formulario de Inspección'!$A$7 -> Desconocida | F14: =+'Formulario de Inspección'!$D$7 -> Desconocido | G14: =+'Formulario de Inspección'!$H$7 -> Desconocido | H14: =+'Formulario de Inspección'!$P$7 -> Desconocido | I14: =+'Formulario de Inspección'!$R$7 -> 0 | J14: =+'Formulario de Inspección'!$A$9 -> 0 | K14: =+'Formulario de Inspección'!$D$9 -> INSPECCION ANUAL | L14: =+'Formulario de Inspección'!$H$9 -> N/A | M14: =+'Formulario de Inspección'!$P$9 -> N/A | N14: =+'Formulario de Inspección'!$R$9 -> 0 | O14: 1 IDENTIFICACION | P14: =+'Lista de defectos'!D14 -> l | Q14: =+'Lista de defectos'!G14 -> Ubicación de la pegatina Derecho de circulación, Revisión Técnica Vehicular o Matricula no permite su visibilidad o no esta colocado dentro de la cabina de conducción | R14: =+'Lista de defectos'!F14 -> DL | S14: ='Formulario de Inspección'!N24 -> ¡ | T14: ='Formulario de Inspección'!O24 -> 0 | U14: =+'Formulario de Inspección'!$C$498 -> FAVORABLE | V14: =+'Formulario de Inspección'!$P$499 -> N/A | W14: =+'Formulario de Inspección'!$R$499 -> N/A | X14: =+'Formulario de Inspección'!$S$499 -> N/A | Y14: =+'Formulario de Inspección'!$H$514 -> 0
A15: =+'Formulario de Inspección'!$R$5 -> 0 | B15: ='Formulario de Inspección'!$A$5 -> 0 | C15: =+'Formulario de Inspección'!$D$5 -> Aire acondicionado | D15: =+'Formulario de Inspección'!$H$5 -> 0 | E15: =+'Formulario de Inspección'!$A$7 -> Desconocida | F15: =+'Formulario de Inspección'!$D$7 -> Desconocido | G15: =+'Formulario de Inspección'!$H$7 -> Desconocido | H15: =+'Formulario de Inspección'!$P$7 -> Desconocido | I15: =+'Formulario de Inspección'!$R$7 -> 0 | J15: =+'Formulario de Inspección'!$A$9 -> 0 | K15: =+'Formulario de Inspección'!$D$9 -> INSPECCION ANUAL | L15: =+'Formulario de Inspección'!$H$9 -> N/A | M15: =+'Formulario de Inspección'!$P$9 -> N/A | N15: =+'Formulario de Inspección'!$R$9 -> 0 | O15: 1 IDENTIFICACION | P15: =+'Lista de defectos'!D15 -> m | Q15: =+'Lista de defectos'!G15 -> Pegatina Derecho de circulación, Revisión Técnica Vehicular o Matrícula vencida o inexistente (vehículos con placas que le permiten circular en vías públicas) | R15: =+'Lista de defectos'!F15 -> DG | S15: ='Formulario de Inspección'!N25 -> ¡ | T15: ='Formulario de Inspección'!O25 -> 0 | U15: =+'Formulario de Inspección'!$C$498 -> FAVORABLE | V15: =+'Formulario de Inspección'!$P$499 -> N/A | W15: =+'Formulario de Inspección'!$R$499 -> N/A | X15: =+'Formulario de Inspección'!$S$499 -> N/A | Y15: =+'Formulario de Inspección'!$H$514 -> 0
