Workbook

Sheet Formulario de Inspección
A1: #VALUE! | C1: SISTEMA DE GESTIÓN DE CALIDAD | S1: Código: F-140-1
C2: INFORME DE INSPECCIÓN TÉCNICA DE EQUIPOS Y VEHÍCULOS QUE INGRESAN AL LADO AÉREO | S2: Versión: 4
S3: Página: 1 de 12
A4: Número de equipo: | D4: Tipo de equipo: | H4: Categoría: | R4: Número de Inspección:
D5: Aire acondicionado | T5: =+VLOOKUP(D5,Referencias!J1:K37,2,FALSE) -> 1
A6: Marca: | D6: Modelo: | H6: Año Modelo: | P6: Antigüedad: | R6: Empresa GSE propietaria del equipo:
A7: Desconocida | D7: Desconocido | H7: Desconocido | P7: Desconocido
A8: Fecha de la inspección: | D8: Motivo de la inspección: | H8: Fecha máxima para la reinspección: | P8: Número de inspección anterior: | R8: Fecha en que se genera el Informe:
D9: INSPECCION ANUAL | H9: N/A | P9: N/A
A11: 1 | B11: IDENTIFICACION Y SEÑALIZACIÓN
B12: Interpretación de defectos | C12: Lista de defectos | I12: Código | J12: Subcódigo | K12: Índice | L12: Lista de defectos | M12: Gravedad | N12: Condición | O12: Observaciones | P12: Observaciones
A13: a | C13: Número de Marchamo Aeris registrado no coincide con el que porta | I13: 1 IDENTIFICACION | J13: 1 IDENTIFICACION | K13: =+A13 -> a | L13: =C13 -> Número de Marchamo Aeris registrado no coincide con el que porta | M13: =+IF(N13="O","DG",IF(N13="P","","N/A")) | N13: =+IF(OR($T$5=T13,$T$5=U13,$T$5=V13,$T$5=W13,$T$5=X13,$T$5=Y13,$T$5=Z13,$T$5=AA13,$T$5=AB13,$T$5=AC13,$T$5=AD13,$T$5=AE13,$T$5=AF13,$T$5=AG13,$T$5=AH13,$T$5=AI13,$T$5=AJ13,$T$5=AK13,$T$5=AL13,$T$5=AM13,$T$5=AN13,$T$5=AO13,$T$5=AP13,$T$5=AQ13,$T$5=AR13,$T$5=AS13,$T$5=AT13,$T$5=AU13,$T$5=AV13,$T$5=AW13,$T$5=AX13,$T$5=AY13,$T$5=AZ13,$T$5=BA13,$T$5=BB13,$T$5=BC13,$T$5=BD13),"P","¡") -> P | O13: =P13 -> 0 | T13: 1 | U13: 2 | V13: 3 | W13: 4 | X13: 5 | Y13: 6 | Z13: 7 | AA13: 8 | AB13: 9 | AC13: 10 | AD13: 11 | AE13: 12 | AG13: 14 | AH13: 15 | AI13: 16 | AJ13: 17 | AK13: 18 | AL13: 19 | AM13: 20 | AN13: 21 | AO13: 22 | AP13: 23 | AQ13: 24 | AR13: 25 | AS13: 26 | AT13: 27 | AU13: 28 | AV13: 29 | AW13: 30 | AX13: 31 | AY13: 32 | AZ13: 33 | BA13: 34 | BB13: 35 | BC13: 36 | BD13: 37
A14: b | C14: Número de identificación no coincide con registros de AERIS o esta duplicado con otro equipo del mismo tipo | I14: 1 IDENTIFICACION | J14: 1 IDENTIFICACION | K14: =+A14 -> b | L14: =C14 -> Número de identificación no coincide con registros de AERIS o esta duplicado con otro equipo del mismo tipo | M14: =+IF(N14="O","DG",IF(N14="P","","N/A")) | N14: =+IF(OR($T$5=T14,$T$5=U14,$T$5=V14,$T$5=W14,$T$5=X14,$T$5=Y14,$T$5=Z14,$T$5=AA14,$T$5=AB14,$T$5=AC14,$T$5=AD14,$T$5=AE14,$T$5=AF14,$T$5=AG14,$T$5=AH14,$T$5=AI14,$T$5=AJ14,$T$5=AK14,$T$5=AL14,$T$5=AM14,$T$5=AN14,$T$5=AO14,$T$5=AP14,$T$5=AQ14,$T$5=AR14,$T$5=AS14,$T$5=AT14,$T$5=AU14,$T$5=AV14,$T$5=AW14,$T$5=AX14,$T$5=AY14,$T$5=AZ14,$T$5=BA14,$T$5=BB14,$T$5=BC14,$T$5=BD14),"P","¡") -> P | O14: =P14 -> 0 | T14: 1 | U14: 2 | V14: 3 | W14: 4 | X14: 5 | Y14: 6 | Z14: 7 | AA14: 8 | AB14: 9 | AC14: 10 | AD14: 11 | AE14: 12 | AG14: 14 | AH14: 15 | AI14: 16 | AJ14: 17 | AK14: 18 | AL14: 19 | AM14: 20 | AN14: 21 | AO14: 22 | AP14: 23 | AQ14: 24 | AR14: 25 | AS14: 26 | AT14: 27 | AU14: 28 | AV14: 29 | AW14: 30 | AX14: 31 | AY14: 32 | AZ14: 33 | BA14: 34 | BB14: 35 | BC14: 36 | BD14: 37
A15: c | C15: Inexistencia de alguna de las señalización obligatorias como los logotipo de la compañía, bandera a cuadros o numero de identificación. | I15: 1 IDENTIFICACION | J15: 1 IDENTIFICACION | K15: =+A15 -> c | L15: =C15 -> Inexistencia de alguna de las señalización obligatorias como los logotipo de la compañía, bandera a cuadros o numero de identificación. | M15: =+IF(N15="O","DG",IF(N15="P","","N/A")) | N15: =+IF(OR($T$5=T15,$T$5=U15,$T$5=V15,$T$5=W15,$T$5=X15,$T$5=Y15,$T$5=Z15,$T$5=AA15,$T$5=AB15,$T$5=AC15,$T$5=AD15,$T$5=AE15,$T$5=AF15,$T$5=AG15,$T$5=AH15,$T$5=AI15,$T$5=AJ15,$T$5=AK15,$T$5=AL15,$T$5=AM15,$T$5=AN15,$T$5=AO15,$T$5=AP15,$T$5=AQ15,$T$5=AR15,$T$5=AS15,$T$5=AT15,$T$5=AU15,$T$5=AV15,$T$5=AW15,$T$5=AX15,$T$5=AY15,$T$5=AZ15,$T$5=BA15,$T$5=BB15,$T$5=BC15,$T$5=BD15),"P","¡") -> P | O15: =P15 -> 0 | T15: 1 | U15: 2 | V15: 3 | W15: 4 | X15: 5 | Y15: 6 | Z15: 7 | AA15: 8 | AB15: 9 | AC15: 10 | AD15: 11 | AE15: 12 | AG15: 14 | AH15: 15 | AI15: 16 | AJ15: 17 | AK15: 18 | AL15: 19 | AM15: 20 | AN15: 21 | AO15: 22 | AP15: 23 | AQ15: 24 | AR15: 25 | AS15: 26 | AT15: 27 | AU15: 28 | AV15: 29 | AW15: 30 | AX15: 31 | AY15: 32 | AZ15: 33 | BA15: 34 | BB15: 35 | BC15: 36 | BD15: 37
A16: d | C16: Defectos del estado de alguno de los logotipos de la compañía, banderas a cuadros o números de identificación que afecta o impida su visibilidad | I16: 1 IDENTIFICACION | J16: 1 IDENTIFICACION | K16: =+A16 -> d | L16: =C16 -> Defectos del estado de alguno de los logotipos de la compañía, banderas a cuadros o números de identificación que afecta o impida su visibilidad | M16: =+IF(N16="O","DG",IF(N16="P","","N/A")) | N16: =+IF(OR($T$5=T16,$T$5=U16,$T$5=V16,$T$5=W16,$T$5=X16,$T$5=Y16,$T$5=Z16,$T$5=AA16,$T$5=AB16,$T$5=AC16,$T$5=AD16,$T$5=AE16,$T$5=AF16,$T$5=AG16,$T$5=AH16,$T$5=AI16,$T$5=AJ16,$T$5=AK16,$T$5=AL16,$T$5=AM16,$T$5=AN16,$T$5=AO16,$T$5=AP16,$T$5=AQ16,$T$5=AR16,$T$5=AS16,$T$5=AT16,$T$5=AU16,$T$5=AV16,$T$5=AW16,$T$5=AX16,$T$5=AY16,$T$5=AZ16,$T$5=BA16,$T$5=BB16,$T$5=BC16,$T$5=BD16),"P","¡") -> P | O16: =P16 -> 0 | T16: 1 | U16: 2 | V16: 3 | W16: 4 | X16: 5 | Y16: 6 | Z16: 7 | AA16: 8 | AB16: 9 | AC16: 10 | AD16: 11 | AE16: 12 | AG16: 14 | AH16: 15 | AI16: 16 | AJ16: 17 | AK16: 18 | AL16: 19 | AM16: 20 | AN16: 21 | AO16: 22 | AP16: 23 | AQ16: 24 | AR16: 25 | AS16: 26 | AT16: 27 | AU16: 28 | AV16: 29 | AW16: 30 | AX16: 31 | AY16: 32 | AZ16: 33 | BA16: 34 | BB16: 35 | BC16: 36 | BD16: 37
A17: e | C17: Defectos del estado de alguno de los logotipos de la compañía, banderas a cuadros o números de identificación que no afecte o impida su visibilidad | I17: 1 IDENTIFICACION | J17: 1 IDENTIFICACION | K17: =+A17 -> e | L17: =C17 -> Defectos del estado de alguno de los logotipos de la compañía, banderas a cuadros o números de identificación que no afecte o impida su visibilidad | M17: =+IF(N17="O","DL",IF(N17="P","","N/A")) | N17: =+IF(OR($T$5=T17,$T$5=U17,$T$5=V17,$T$5=W17,$T$5=X17,$T$5=Y17,$T$5=Z17,$T$5=AA17,$T$5=AB17,$T$5=AC17,$T$5=AD17,$T$5=AE17,$T$5=AF17,$T$5=AG17,$T$5=AH17,$T$5=AI17,$T$5=AJ17,$T$5=AK17,$T$5=AL17,$T$5=AM17,$T$5=AN17,$T$5=AO17,$T$5=AP17,$T$5=AQ17,$T$5=AR17,$T$5=AS17,$T$5=AT17,$T$5=AU17,$T$5=AV17,$T$5=AW17,$T$5=AX17,$T$5=AY17,$T$5=AZ17,$T$5=BA17,$T$5=BB17,$T$5=BC17,$T$5=BD17),"P","¡") -> P | O17: =P17 -> 0 | T17: 1 | U17: 2 | V17: 3 | W17: 4 | X17: 5 | Y17: 6 | Z17: 7 | AA17: 8 | AB17: 9 | AC17: 10 | AD17: 11 | AE17: 12 | AG17: 14 | AH17: 15 | AI17: 16 | AJ17: 17 | AK17: 18 | AL17: 19 | AM17: 20 | AN17: 21 | AO17: 22 | AP17: 23 | AQ17: 24 | AR17: 25 | AS17: 26 | AT17: 27 | AU17: 28 | AV17: 29 | AW17: 30 | AX17: 31 | AY17: 32 | AZ17: 33 | BA17: 34 | BB17: 35 | BC17: 36 | BD17: 37
A18: f | C18: Banderas a cuadros, logotipos o números de identificación con dimensiones diferentes a 30 x 30 cm | I18: 1 IDENTIFICACION | J18: 1 IDENTIFICACION | K18: =+A18 -> f | L18: =C18 -> Banderas a cuadros, logotipos o números de identificación con dimensiones diferentes a 30 x 30 cm | M18: =+IF(N18="O","DG",IF(N18="P","","N/A")) | N18: =+IF(OR($T$5=T18,$T$5=U18,$T$5=V18,$T$5=W18,$T$5=X18,$T$5=Y18,$T$5=Z18,$T$5=AA18,$T$5=AB18,$T$5=AC18,$T$5=AD18,$T$5=AE18,$T$5=AF18,$T$5=AG18,$T$5=AH18,$T$5=AI18,$T$5=AJ18,$T$5=AK18,$T$5=AL18,$T$5=AM18,$T$5=AN18,$T$5=AO18,$T$5=AP18,$T$5=AQ18,$T$5=AR18,$T$5=AS18,$T$5=AT18,$T$5=AU18,$T$5=AV18,$T$5=AW18,$T$5=AX18,$T$5=AY18,$T$5=AZ18,$T$5=BA18,$T$5=BB18,$T$5=BC18,$T$5=BD18),"P","¡") -> P | O18: =P18 -> 0 | T18: 1 | U18: 2 | V18: 3 | W18: 4 | X18: 5 | Y18: 6 | Z18: 7 | AA18: 8 | AB18: 9 | AC18: 10 | AD18: 11 | AE18: 12 | AG18: 14 | AH18: 15 | AI18: 16 | AJ18: 17 | AK18: 18 | AL18: 19 | AM18: 20 | AN18: 21 | AO18: 22 | AP18: 23 | AQ18: 24 | AR18: 25 | AS18: 26 | AT18: 27 | AU18: 28 | AV18: 29 | AW18: 30 | AX18: 31 | AY18: 32 | AZ18: 33 | BA18: 34 | BB18: 35 | BC18: 36 | BD18: 37
A19: g | C19: Banderas a cuadros, logotipos o números de identificación con dimensiones inferior a 30 x 30 cm (cuando es el máximo tamaño que permite la estructura del equipo) | I19: 1 IDENTIFICACION | J19: 1 IDENTIFICACION | K19: =+A19 -> g | L19: =C19 -> Banderas a cuadros, logotipos o números de identificación con dimensiones inferior a 30 x 30 cm (cuando es el máximo tamaño que permite la estructura del equipo) | M19: =+IF(N19="O","DL",IF(N19="P","","N/A")) | N19: =+IF(OR($T$5=T19,$T$5=U19,$T$5=V19,$T$5=W19,$T$5=X19,$T$5=Y19,$T$5=Z19,$T$5=AA19,$T$5=AB19,$T$5=AC19,$T$5=AD19,$T$5=AE19,$T$5=AF19,$T$5=AG19,$T$5=AH19,$T$5=AI19,$T$5=AJ19,$T$5=AK19,$T$5=AL19,$T$5=AM19,$T$5=AN19,$T$5=AO19,$T$5=AP19,$T$5=AQ19,$T$5=AR19,$T$5=AS19,$T$5=AT19,$T$5=AU19,$T$5=AV19,$T$5=AW19,$T$5=AX19,$T$5=AY19,$T$5=AZ19,$T$5=BA19,$T$5=BB19,$T$5=BC19,$T$5=BD19),"P","¡") -> P | O19: =P19 -> 0 | T19: 1 | U19: 2 | V19: 3 | W19: 4 | X19: 5 | Y19: 6 | Z19: 7 | AA19: 8 | AB19: 9 | AC19: 10 | AD19: 11 | AE19: 12 | AG19: 14 | AH19: 15 | AI19: 16 | AJ19: 17 | AK19: 18 | AL19: 19 | AM19: 20 | AN19: 21 | AO19: 22 | AP19: 23 | AQ19: 24 | AR19: 25 | AS19: 26 | AT19: 27 | AU19: 28 | AV19: 29 | AW19: 30 | AX19: 31 | AY19: 32 | AZ19: 33 | BA19: 34 | BB19: 35 | BC19: 36 | BD19: 37
A20: h | C20: Bandera de cuadros de color o diseño no reglamentario | I20: 1 IDENTIFICACION | J20: 1 IDENTIFICACION | K20: =+A20 -> h | L20: =C20 -> Bandera de cuadros de color o diseño no reglamentario | M20: =+IF(N20="O","DG",IF(N20="P","","N/A")) | N20: =+IF(OR($T$5=T20,$T$5=U20,$T$5=V20,$T$5=W20,$T$5=X20,$T$5=Y20,$T$5=Z20,$T$5=AA20,$T$5=AB20,$T$5=AC20,$T$5=AD20,$T$5=AE20,$T$5=AF20,$T$5=AG20,$T$5=AH20,$T$5=AI20,$T$5=AJ20,$T$5=AK20,$T$5=AL20,$T$5=AM20,$T$5=AN20,$T$5=AO20,$T$5=AP20,$T$5=AQ20,$T$5=AR20,$T$5=AS20,$T$5=AT20,$T$5=AU20,$T$5=AV20,$T$5=AW20,$T$5=AX20,$T$5=AY20,$T$5=AZ20,$T$5=BA20,$T$5=BB20,$T$5=BC20,$T$5=BD20),"P","¡") -> P | O20: =P20 -> 0 | T20: 1 | U20: 2 | V20: 3 | W20: 4 | X20: 5 | Y20: 6 | Z20: 7 | AA20: 8 | AB20: 9 | AC20: 10 | AD20: 11 | AE20: 12 | AG20: 14 | AH20: 15 | AI20: 16 | AJ20: 17 | AK20: 18 | AL20: 19 | AM20: 20 | AN20: 21 | AO20: 22 | AP20: 23 | AQ20: 24 | AR20: 25 | AS20: 26 | AT20: 27 | AU20: 28 | AV20: 29 | AW20: 30 | AX20: 31 | AY20: 32 | AZ20: 33 | BA20: 34 | BB20: 35 | BC20: 36 | BD20: 37
A21: i | C21: Inexistencia o deterioro de cinta reflectiva o cantidad insuficiente para demarcar el tipo de equipo | I21: 1 IDENTIFICACION | J21: 1 IDENTIFICACION | K21: =+A21 -> i | L21: =C21 -> Inexistencia o deterioro de cinta reflectiva o cantidad insuficiente para demarcar el tipo de equipo | M21: =+IF(N21="O","DG",IF(N21="P","","N/A")) | N21: =+IF(OR($T$5=T21,$T$5=U21,$T$5=V21,$T$5=W21,$T$5=X21,$T$5=Y21,$T$5=Z21,$T$5=AA21,$T$5=AB21,$T$5=AC21,$T$5=AD21,$T$5=AE21,$T$5=AF21,$T$5=AG21,$T$5=AH21,$T$5=AI21,$T$5=AJ21,$T$5=AK21,$T$5=AL21,$T$5=AM21,$T$5=AN21,$T$5=AO21,$T$5=AP21,$T$5=AQ21,$T$5=AR21,$T$5=AS21,$T$5=AT21,$T$5=AU21,$T$5=AV21,$T$5=AW21,$T$5=AX21,$T$5=AY21,$T$5=AZ21,$T$5=BA21,$T$5=BB21,$T$5=BC21,$T$5=BD21),"P","¡") -> P | O21: =P21 -> 0 | T21: 1 | U21: 2 | V21: 3 | W21: 4 | X21: 5 | Y21: 6 | Z21: 7 | AA21: 8 | AB21: 9 | AC21: 10 | AD21: 11 | AE21: 12 | AG21: 14 | AH21: 15 | AI21: 16 | AJ21: 17 | AK21: 18 | AL21: 19 | AM21: 20 | AN21: 21 | AO21: 22 | AP21: 23 | AQ21: 24 | AR21: 25 | AS21: 26 | AT21: 27 | AU21: 28 | AV21: 29 | AW21: 30 | AX21: 31 | AY21: 32 | AZ21: 33 | BA21: 34 | BB21: 35 | BC21: 36 | BD21: 37
A22: j | C22: Ilegibilidad o deterioro avanzado del estado del marchamo Aeris | I22: 1 IDENTIFICACION | J22: 1 IDENTIFICACION | K22: =+A22 -> j | L22: =C22 -> Ilegibilidad o deterioro avanzado del estado del marchamo Aeris | M22: =+IF(N22="O","DG",IF(N22="P","","N/A")) | N22: =+IF(OR($T$5=T22,$T$5=U22,$T$5=V22,$T$5=W22,$T$5=X22,$T$5=Y22,$T$5=Z22,$T$5=AA22,$T$5=AB22,$T$5=AC22,$T$5=AD22,$T$5=AE22,$T$5=AF22,$T$5=AG22,$T$5=AH22,$T$5=AI22,$T$5=AJ22,$T$5=AK22,$T$5=AL22,$T$5=AM22,$T$5=AN22,$T$5=AO22,$T$5=AP22,$T$5=AQ22,$T$5=AR22,$T$5=AS22,$T$5=AT22,$T$5=AU22,$T$5=AV22,$T$5=AW22,$T$5=AX22,$T$5=AY22,$T$5=AZ22,$T$5=BA22,$T$5=BB22,$T$5=BC22,$T$5=BD22),"P","¡") -> P | O22: =P22 -> 0 | T22: 1 | U22: 2 | V22: 3 | W22: 4 | X22: 5 | Y22: 6 | Z22: 7 | AA22: 8 | AB22: 9 | AC22: 10 | AD22: 11 | AE22: 12 | AG22: 14 | AH22: 15 | AI22: 16 | AJ22: 17 | AK22: 18 | AL22: 19 | AM22: 20 | AN22: 21 | AO22: 22 | AP22: 23 | AQ22: 24 | AR22: 25 | AS22: 26 | AT22: 27 | AU22: 28 | AV22: 29 | AW22: 30 | AX22: 31 | AY22: 32 | AZ22: 33 | BA22: 34 | BB22: 35 | BC22: 36 | BD22: 37
A23: k | C23: Defectos leves de estado en el marchamo Aeris | I23: 1 IDENTIFICACION | J23: 1 IDENTIFICACION | K23: =+A23 -> k | L23: =C23 -> Defectos leves de estado en el marchamo Aeris | M23: =+IF(N23="O","DL",IF(N23="P","","N/A")) | N23: =+IF(OR($T$5=T23,$T$5=U23,$T$5=V23,$T$5=W23,$T$5=X23,$T$5=Y23,$T$5=Z23,$T$5=AA23,$T$5=AB23,$T$5=AC23,$T$5=AD23,$T$5=AE23,$T$5=AF23,$T$5=AG23,$T$5=AH23,$T$5=AI23,$T$5=AJ23,$T$5=AK23,$T$5=AL23,$T$5=AM23,$T$5=AN23,$T$5=AO23,$T$5=AP23,$T$5=AQ23,$T$5=AR23,$T$5=AS23,$T$5=AT23,$T$5=AU23,$T$5=AV23,$T$5=AW23,$T$5=AX23,$T$5=AY23,$T$5=AZ23,$T$5=BA23,$T$5=BB23,$T$5=BC23,$T$5=BD23),"P","¡") -> P | O23: =P23 -> 0 | T23: 1 | U23: 2 | V23: 3 | W23: 4 | X23: 5 | Y23: 6 | Z23: 7 | AA23: 8 | AB23: 9 | AC23: 10 | AD23: 11 | AE23: 12 | AG23: 14 | AH23: 15 | AI23: 16 | AJ23: 17 | AK23: 18 | AL23: 19 | AM23: 20 | AN23: 21 | AO23: 22 | AP23: 23 | AQ23: 24 | AR23: 25 | AS23: 26 | AT23: 27 | AU23: 28 | AV23: 29 | AW23: 30 | AX23: 31 | AY23: 32 | AZ23: 33 | BA23: 34 | BB23: 35 | BC23: 36 | BD23: 37
A24: l | C24: Ubicación de la pegatina Derecho de circulación, Revisión Técnica Vehicular o Matricula no permite su visibilidad o no esta colocado dentro de la cabina de conducción | I24: 1 IDENTIFICACION | J24: 1 IDENTIFICACION | K24: =+A24 -> l | L24: =C24 -> Ubicación de la pegatina Derecho de circulación, Revisión Técnica Vehicular o Matricula no permite su visibilidad o no esta colocado dentro de la cabina de conducción | M24: =+IF(N25="O","DG",IF(N25="P","","N/A")) -> N/A | N24: =+IF(OR($T$5=T24,$T$5=U24,$T$5=V24,$T$5=W24,$T$5=X24,$T$5=Y24,$T$5=Z24,$T$5=AA24,$T$5=AB24,$T$5=AC24,$T$5=AD24,$T$5=AE24,$T$5=AF24,$T$5=AG24,$T$5=AH24,$T$5=AI24,$T$5=AJ24,$T$5=AK24,$T$5=AL24,$T$5=AM24,$T$5=AN24,$T$5=AO24,$T$5=AP24,$T$5=AQ24,$T$5=AR24,$T$5=AS24,$T$5=AT24,$T$5=AU24,$T$5=AV24,$T$5=AW24,$T$5=AX24,$T$5=AY24,$T$5=AZ24,$T$5=BA24,$T$5=BB24,$T$5=BC24,$T$5=BD24),"P","¡") -> ¡ | O24: =P24 -> 0 | W24: 4 | AB24: 9 | AD24: 11 | AI24: 16 | AJ24: 17 | AQ24: 24 | AS24: 26 | AZ24: 33
A25: m | C25: Pegatina Derecho de circulación, Revisión Técnica Vehicular o Matrícula vencida o inexistente (vehículos con placas que le permiten circular en vías públicas) | I25: 1 IDENTIFICACION | J25: 1 IDENTIFICACION | K25: =+A25 -> m | L25: =C25 -> Pegatina Derecho de circulación, Revisión Técnica Vehicular o Matrícula vencida o inexistente (vehículos con placas que le permiten circular en vías públicas) | M25: =+IF(N25="O","DG",IF(N25="P","","N/A")) -> N/A | N25: =+IF(OR($T$5=T25,$T$5=U25,$T$5=V25,$T$5=W25,$T$5=X25,$T$5=Y25,$T$5=Z25,$T$5=AA25,$T$5=AB25,$T$5=AC25,$T$5=AD25,$T$5=AE25,$T$5=AF25,$T$5=AG25,$T$5=AH25,$T$5=AI25,$T$5=AJ25,$T$5=AK25,$T$5=AL25,$T$5=AM25,$T$5=AN25,$T$5=AO25,$T$5=AP25,$T$5=AQ25,$T$5=AR25,$T$5=AS25,$T$5=AT25,$T$5=AU25,$T$5=AV25,$T$5=AW25,$T$5=AX25,$T$5=AY25,$T$5=AZ25,$T$5=BA25,$T$5=BB25,$T$5=BC25,$T$5=BD25),"P","¡") -> ¡ | O25: =P25 -> 0 | W25: 4 | AB25: 9 | AD25: 11 | AI25: 16 | AJ25: 17 | AQ25: 24 | AS25: 26 | AZ25: 33
A26: 2 | B26: CARROCERIA Y CHASIS
A27: 2.1 | B27: Generalidades de estructura, remolque, Interfaz de enganche, calzas y extintor
B28: Interpretación de defectos | C28: Lista de defectos | I28: Código | J28: Subcódigo | K28: Índice | L28: Lista de defectos | M28: Gravedad | N28: Condición | O28: Observaciones | P28: Observaciones
A29: a | C29: Defectos de estado en la carrocería, estructura, timón o chasis que no afecten la seguridad | I29: 2 CARROCERIA Y CHASIS | J29: 2.1 Generalidades de estructura, remolque, Interfaz de enganche, calzas y extintor | K29: =+A29 -> a | L29: =+C29 -> Defectos de estado en la carrocería, estructura, timón o chasis que no afecten la seguridad | M29: =+IF(N29="O","DL",IF(N29="P","","N/A")) | N29: =+IF(OR($T$5=T29,$T$5=U29,$T$5=V29,$T$5=W29,$T$5=X29,$T$5=Y29,$T$5=Z29,$T$5=AA29,$T$5=AB29,$T$5=AC29,$T$5=AD29,$T$5=AE29,$T$5=AF29,$T$5=AG29,$T$5=AH29,$T$5=AI29,$T$5=AJ29,$T$5=AK29,$T$5=AL29,$T$5=AM29,$T$5=AN29,$T$5=AO29,$T$5=AP29,$T$5=AQ29,$T$5=AR29,$T$5=AS29,$T$5=AT29,$T$5=AU29,$T$5=AV29,$T$5=AW29,$T$5=AX29,$T$5=AY29,$T$5=AZ29,$T$5=BA29,$T$5=BB29,$T$5=BC29,$T$5=BD29),"P","¡") -> P | O29: =P29 -> 0 | T29: 1 | U29: 2 | V29: 3 | W29: 4 | X29: 5 | Y29: 6 | Z29: 7 | AA29: 8 | AB29: 9 | AC29: 10 | AD29: 11 | AE29: 12 | AG29: 14 | AH29: 15 | AI29: 16 | AJ29: 17 | AK29: 18 | AL29: 19 | AM29: 20 | AN29: 21 | AO29: 22 | AP29: 23 | AQ29: 24 | AR29: 25 | AS29: 26 | AT29: 27 | AU29: 28 | AV29: 29 | AW29: 30 | AX29: 31 | AY29: 32 | AZ29: 33 | BA29: 34 | BB29: 35 | BC29: 36 | BD29: 37
A30: b | C30: Defectos de estado en la carrocería, estructura, timón o chasis que entrañen peligro | I30: 2 CARROCERIA Y CHASIS | J30: 2.1 Generalidades de estructura, remolque, Interfaz de enganche, calzas y extintor | K30: =+A30 -> b | L30: =+C30 -> Defectos de estado en la carrocería, estructura, timón o chasis que entrañen peligro | M30: =+IF(N30="O","DG",IF(N30="P","","N/A")) | N30: =+IF(OR($T$5=T30,$T$5=U30,$T$5=V30,$T$5=W30,$T$5=X30,$T$5=Y30,$T$5=Z30,$T$5=AA30,$T$5=AB30,$T$5=AC30,$T$5=AD30,$T$5=AE30,$T$5=AF30,$T$5=AG30,$T$5=AH30,$T$5=AI30,$T$5=AJ30,$T$5=AK30,$T$5=AL30,$T$5=AM30,$T$5=AN30,$T$5=AO30,$T$5=AP30,$T$5=AQ30,$T$5=AR30,$T$5=AS30,$T$5=AT30,$T$5=AU30,$T$5=AV30,$T$5=AW30,$T$5=AX30,$T$5=AY30,$T$5=AZ30,$T$5=BA30,$T$5=BB30,$T$5=BC30,$T$5=BD30),"P","¡") -> P | O30: =P30 -> 0 | T30: 1 | U30: 2 | V30: 3 | W30: 4 | X30: 5 | Y30: 6 | Z30: 7 | AA30: 8 | AB30: 9 | AC30: 10 | AD30: 11 | AE30: 12 | AG30: 14 | AH30: 15 | AI30: 16 | AJ30: 17 | AK30: 18 | AL30: 19 | AM30: 20 | AN30: 21 | AO30: 22 | AP30: 23 | AQ30: 24 | AR30: 25 | AS30: 26 | AT30: 27 | AU30: 28 | AV30: 29 | AW30: 30 | AX30: 31 | AY30: 32 | AZ30: 33 | BA30: 34 | BB30: 35 | BC30: 36 | BD30: 37
A31: c | C31: Defectos de estado en los sujeciones de la carrocería, cajón o estructura general al chasis o base de la estructura | I31: 2 CARROCERIA Y CHASIS | J31: 2.1 Generalidades de estructura, remolque, Interfaz de enganche, calzas y extintor | K31: =+A31 -> c | L31: =+C31 -> Defectos de estado en los sujeciones de la carrocería, cajón o estructura general al chasis o base de la estructura | M31: =+IF(N31="O","DG",IF(N31="P","","N/A")) | N31: =+IF(OR($T$5=T31,$T$5=U31,$T$5=V31,$T$5=W31,$T$5=X31,$T$5=Y31,$T$5=Z31,$T$5=AA31,$T$5=AB31,$T$5=AC31,$T$5=AD31,$T$5=AE31,$T$5=AF31,$T$5=AG31,$T$5=AH31,$T$5=AI31,$T$5=AJ31,$T$5=AK31,$T$5=AL31,$T$5=AM31,$T$5=AN31,$T$5=AO31,$T$5=AP31,$T$5=AQ31,$T$5=AR31,$T$5=AS31,$T$5=AT31,$T$5=AU31,$T$5=AV31,$T$5=AW31,$T$5=AX31,$T$5=AY31,$T$5=AZ31,$T$5=BA31,$T$5=BB31,$T$5=BC31,$T$5=BD31),"P","¡") -> P | O31: =P31 -> 0 | T31: 1 | U31: 2 | V31: 3 | W31: 4 | X31: 5 | Y31: 6 | Z31: 7 | AA31: 8 | AB31: 9 | AC31: 10 | AD31: 11 | AE31: 12 | AG31: 14 | AH31: 15 | AI31: 16 | AJ31: 17 | AK31: 18 | AL31: 19 | AM31: 20 | AN31: 21 | AO31: 22 | AP31: 23 | AQ31: 24 | AR31: 25 | AS31: 26 | AT31: 27 | AU31: 28 | AV31: 29 | AW31: 30 | AX31: 31 | AY31: 32 | AZ31: 33 | BA31: 34 | BB31: 35 | BC31: 36 | BD31: 37
A32: d | C32: Presencia de corrosión avanzada o estado deteriorado avanzado de la pintura de la carrocería o estructura en general | I32: 2 CARROCERIA Y CHASIS | J32: 2.1 Generalidades de estructura, remolque, Interfaz de enganche, calzas y extintor | K32: =+A32 -> d | L32: =+C32 -> Presencia de corrosión avanzada o estado deteriorado avanzado de la pintura de la carrocería o estructura en general | M32: =+IF(N32="O","DG",IF(N32="P","","N/A")) | N32: =+IF(OR($T$5=T32,$T$5=U32,$T$5=V32,$T$5=W32,$T$5=X32,$T$5=Y32,$T$5=Z32,$T$5=AA32,$T$5=AB32,$T$5=AC32,$T$5=AD32,$T$5=AE32,$T$5=AF32,$T$5=AG32,$T$5=AH32,$T$5=AI32,$T$5=AJ32,$T$5=AK32,$T$5=AL32,$T$5=AM32,$T$5=AN32,$T$5=AO32,$T$5=AP32,$T$5=AQ32,$T$5=AR32,$T$5=AS32,$T$5=AT32,$T$5=AU32,$T$5=AV32,$T$5=AW32,$T$5=AX32,$T$5=AY32,$T$5=AZ32,$T$5=BA32,$T$5=BB32,$T$5=BC32,$T$5=BD32),"P","¡") -> P | O32: =P32 -> 0 | T32: 1 | U32: 2 | V32: 3 | W32: 4 | X32: 5 | Y32: 6 | Z32: 7 | AA32: 8 | AB32: 9 | AC32: 10 | AD32: 11 | AE32: 12 | AG32: 14 | AH32: 15 | AI32: 16 | AJ32: 17 | AK32: 18 | AL32: 19 | AM32: 20 | AN32: 21 | AO32: 22 | AP32: 23 | AQ32: 24 | AR32: 25 | AS32: 26 | AT32: 27 | AU32: 28 | AV32: 29 | AW32: 30 | AX32: 31 | AY32: 32 | AZ32: 33 | BA32: 34 | BB32: 35 | BC32: 36 | BD32: 37
A33: e | C33: Presencia de óxido o estado deteriorado leve de la pintura de la carrocería o estructura en general | I33: 2 CARROCERIA Y CHASIS | J33: 2.1 Generalidades de estructura, remolque, Interfaz de enganche, calzas y extintor | K33: =+A33 -> e | L33: =+C33 -> Presencia de óxido o estado deteriorado leve de la pintura de la carrocería o estructura en general | M33: =+IF(N33="O","DL",IF(N33="P","","N/A")) | N33: =+IF(OR($T$5=T33,$T$5=U33,$T$5=V33,$T$5=W33,$T$5=X33,$T$5=Y33,$T$5=Z33,$T$5=AA33,$T$5=AB33,$T$5=AC33,$T$5=AD33,$T$5=AE33,$T$5=AF33,$T$5=AG33,$T$5=AH33,$T$5=AI33,$T$5=AJ33,$T$5=AK33,$T$5=AL33,$T$5=AM33,$T$5=AN33,$T$5=AO33,$T$5=AP33,$T$5=AQ33,$T$5=AR33,$T$5=AS33,$T$5=AT33,$T$5=AU33,$T$5=AV33,$T$5=AW33,$T$5=AX33,$T$5=AY33,$T$5=AZ33,$T$5=BA33,$T$5=BB33,$T$5=BC33,$T$5=BD33),"P","¡") -> P | O33: =P33 -> 0 | T33: 1 | U33: 2 | V33: 3 | W33: 4 | X33: 5 | Y33: 6 | Z33: 7 | AA33: 8 | AB33: 9 | AC33: 10 | AD33: 11 | AE33: 12 | AG33: 14 | AH33: 15 | AI33: 16 | AJ33: 17 | AK33: 18 | AL33: 19 | AM33: 20 | AN33: 21 | AO33: 22 | AP33: 23 | AQ33: 24 | AR33: 25 | AS33: 26 | AT33: 27 | AU33: 28 | AV33: 29 | AW33: 30 | AX33: 31 | AY33: 32 | AZ33: 33 | BA33: 34 | BB33: 35 | BC33: 36 | BD33: 37
A34: f | C34: Interfaz de enganche diferente al "E" o el conocido como "Pico de Lora" | I34: 2 CARROCERIA Y CHASIS | J34: 2.1 Generalidades de estructura, remolque, Interfaz de enganche, calzas y extintor | K34: =+A34 -> f | L34: =+C34 -> Interfaz de enganche diferente al "E" o el conocido como "Pico de Lora" | M34: =+IF(N34="O","DG",IF(N34="P","","N/A")) | N34: =+IF(OR($T$5=T34,$T$5=U34,$T$5=V34,$T$5=W34,$T$5=X34,$T$5=Y34,$T$5=Z34,$T$5=AA34,$T$5=AB34,$T$5=AC34,$T$5=AD34,$T$5=AE34,$T$5=AF34,$T$5=AG34,$T$5=AH34,$T$5=AI34,$T$5=AJ34,$T$5=AK34,$T$5=AL34,$T$5=AM34,$T$5=AN34,$T$5=AO34,$T$5=AP34,$T$5=AQ34,$T$5=AR34,$T$5=AS34,$T$5=AT34,$T$5=AU34,$T$5=AV34,$T$5=AW34,$T$5=AX34,$T$5=AY34,$T$5=AZ34,$T$5=BA34,$T$5=BB34,$T$5=BC34,$T$5=BD34),"P","¡") -> P | O34: =P34 -> 0 | T34: 1 | V34: 3 | Y34: 6 | Z34: 7 | AC34: 10 | AG34: 14 | AH34: 15 | AI34: 16 | AK34: 18 | AM34: 20 | AN34: 21 | AS34: 26 | AT34: 27 | AU34: 28 | AV34: 29 | AW34: 30 | AX34: 31 | AY34: 32 | AZ34: 33 | BD34: 37
A35: g | C35: Interfaz de enganche no cumple con medidas mínimas, fallas de sujeción, defecto de estado de la estructura y/o componentes | I35: 2 CARROCERIA Y CHASIS | J35: 2.1 Generalidades de estructura, remolque, Interfaz de enganche, calzas y extintor | K35: =+A35 -> g | L35: =+C35 -> Interfaz de enganche no cumple con medidas mínimas, fallas de sujeción, defecto de estado de la estructura y/o componentes | M35: =+IF(N35="O","DG",IF(N35="P","","N/A")) | N35: =+IF(OR($T$5=T35,$T$5=U35,$T$5=V35,$T$5=W35,$T$5=X35,$T$5=Y35,$T$5=Z35,$T$5=AA35,$T$5=AB35,$T$5=AC35,$T$5=AD35,$T$5=AE35,$T$5=AF35,$T$5=AG35,$T$5=AH35,$T$5=AI35,$T$5=AJ35,$T$5=AK35,$T$5=AL35,$T$5=AM35,$T$5=AN35,$T$5=AO35,$T$5=AP35,$T$5=AQ35,$T$5=AR35,$T$5=AS35,$T$5=AT35,$T$5=AU35,$T$5=AV35,$T$5=AW35,$T$5=AX35,$T$5=AY35,$T$5=AZ35,$T$5=BA35,$T$5=BB35,$T$5=BC35,$T$5=BD35),"P","¡") -> P | O35: =P35 -> 0 | T35: 1 | V35: 3 | Y35: 6 | Z35: 7 | AC35: 10 | AG35: 14 | AH35: 15 | AI35: 16 | AK35: 18 | AM35: 20 | AN35: 21 | AS35: 26 | AT35: 27 | AU35: 28 | AV35: 29 | AW35: 30 | AX35: 31 | AY35: 32 | AZ35: 33 | BD35: 37
A36: h | C36: Pasador vertical del enganche (pegadero) no están sujetas al vehículo con cadena o similar | I36: 2 CARROCERIA Y CHASIS | J36: 2.1 Generalidades de estructura, remolque, Interfaz de enganche, calzas y extintor | K36: =+A36 -> h | L36: =+C36 -> Pasador vertical del enganche (pegadero) no están sujetas al vehículo con cadena o similar | M36: =+IF(N36="O","DG",IF(N36="P","","N/A")) | N36: =+IF(OR($T$5=T36,$T$5=U36,$T$5=V36,$T$5=W36,$T$5=X36,$T$5=Y36,$T$5=Z36,$T$5=AA36,$T$5=AB36,$T$5=AC36,$T$5=AD36,$T$5=AE36,$T$5=AF36,$T$5=AG36,$T$5=AH36,$T$5=AI36,$T$5=AJ36,$T$5=AK36,$T$5=AL36,$T$5=AM36,$T$5=AN36,$T$5=AO36,$T$5=AP36,$T$5=AQ36,$T$5=AR36,$T$5=AS36,$T$5=AT36,$T$5=AU36,$T$5=AV36,$T$5=AW36,$T$5=AX36,$T$5=AY36,$T$5=AZ36,$T$5=BA36,$T$5=BB36,$T$5=BC36,$T$5=BD36),"P","¡") -> P | O36: =P36 -> 0 | T36: 1 | V36: 3 | Y36: 6 | Z36: 7 | AC36: 10 | AG36: 14 | AH36: 15 | AI36: 16 | AK36: 18 | AM36: 20 | AN36: 21 | AS36: 26 | AT36: 27 | AU36: 28 | AV36: 29 | AW36: 30 | AX36: 31 | AY36: 32 | AZ36: 33 | BD36: 37
A37: i | C37: Sistema de seguridad anti desprendimiento del pasador del pegadero inexistes (si este es original de fabricación) | I37: 2 CARROCERIA Y CHASIS | J37: 2.1 Generalidades de estructura, remolque, Interfaz de enganche, calzas y extintor | K37: =+A37 -> i | L37: =+C37 -> Sistema de seguridad anti desprendimiento del pasador del pegadero inexistes (si este es original de fabricación) | M37: =+IF(N37="O","DG",IF(N37="P","","N/A")) | N37: =+IF(OR($T$5=T37,$T$5=U37,$T$5=V37,$T$5=W37,$T$5=X37,$T$5=Y37,$T$5=Z37,$T$5=AA37,$T$5=AB37,$T$5=AC37,$T$5=AD37,$T$5=AE37,$T$5=AF37,$T$5=AG37,$T$5=AH37,$T$5=AI37,$T$5=AJ37,$T$5=AK37,$T$5=AL37,$T$5=AM37,$T$5=AN37,$T$5=AO37,$T$5=AP37,$T$5=AQ37,$T$5=AR37,$T$5=AS37,$T$5=AT37,$T$5=AU37,$T$5=AV37,$T$5=AW37,$T$5=AX37,$T$5=AY37,$T$5=AZ37,$T$5=BA37,$T$5=BB37,$T$5=BC37,$T$5=BD37),"P","¡") -> P | O37: =P37 -> 0 | T37: 1 | V37: 3 | Y37: 6 | Z37: 7 | AC37: 10 | AG37: 14 | AH37: 15 | AI37: 16 | AK37: 18 | AM37: 20 | AN37: 21 | AS37: 26 | AT37: 27 | AU37: 28 | AV37: 29 | AW37: 30 | AX37: 31 | AY37: 32 | AZ37: 33 | BD37: 37
A38: j | C38: Estructura y/o componentes del enganche (pegadero) presenta oxidación | I38: 2 CARROCERIA Y CHASIS | J38: 2.1 Generalidades de estructura, remolque, Interfaz de enganche, calzas y extintor | K38: =+A38 -> j | L38: =+C38 -> Estructura y/o componentes del enganche (pegadero) presenta oxidación | M38: =+IF(N38="O","DL",IF(N38="P","","N/A")) | N38: =+IF(OR($T$5=T38,$T$5=U38,$T$5=V38,$T$5=W38,$T$5=X38,$T$5=Y38,$T$5=Z38,$T$5=AA38,$T$5=AB38,$T$5=AC38,$T$5=AD38,$T$5=AE38,$T$5=AF38,$T$5=AG38,$T$5=AH38,$T$5=AI38,$T$5=AJ38,$T$5=AK38,$T$5=AL38,$T$5=AM38,$T$5=AN38,$T$5=AO38,$T$5=AP38,$T$5=AQ38,$T$5=AR38,$T$5=AS38,$T$5=AT38,$T$5=AU38,$T$5=AV38,$T$5=AW38,$T$5=AX38,$T$5=AY38,$T$5=AZ38,$T$5=BA38,$T$5=BB38,$T$5=BC38,$T$5=BD38),"P","¡") -> P | O38: =P38 -> 0 | T38: 1 | V38: 3 | Y38: 6 | Z38: 7 | AC38: 10 | AG38: 14 | AH38: 15 | AI38: 16 | AK38: 18 | AM38: 20 | AN38: 21 | AS38: 26 | AT38: 27 | AU38: 28 | AV38: 29 | AW38: 30 | AX38: 31 | AY38: 32 | AZ38: 33 | BD38: 37
A39: k | C39: Ausencia, mal sujeción o deterioro avanzado del parachoques o dispositivo similar | I39: 2 CARROCERIA Y CHASIS | J39: 2.1 Generalidades de estructura, remolque, Interfaz de enganche, calzas y extintor | K39: =+A39 -> k | L39: =+C39 -> Ausencia, mal sujeción o deterioro avanzado del parachoques o dispositivo similar | M39: =+IF(N39="O","DG",IF(N39="P","","N/A")) -> N/A | N39: =+IF(OR($T$5=T39,$T$5=U39,$T$5=V39,$T$5=W39,$T$5=X39,$T$5=Y39,$T$5=Z39,$T$5=AA39,$T$5=AB39,$T$5=AC39,$T$5=AD39,$T$5=AE39,$T$5=AF39,$T$5=AG39,$T$5=AH39,$T$5=AI39,$T$5=AJ39,$T$5=AK39,$T$5=AL39,$T$5=AM39,$T$5=AN39,$T$5=AO39,$T$5=AP39,$T$5=AQ39,$T$5=AR39,$T$5=AS39,$T$5=AT39,$T$5=AU39,$T$5=AV39,$T$5=AW39,$T$5=AX39,$T$5=AY39,$T$5=AZ39,$T$5=BA39,$T$5=BB39,$T$5=BC39,$T$5=BD39),"P","¡") -> ¡ | O39: =P39 -> 0 | U39: 2 | V39: 3 | W39: 4 | X39: 5 | AA39: 8 | AB39: 9 | AD39: 11 | AE39: 12 | AI39: 16 | AJ39: 17 | AL39: 19 | AM39: 20 | AO39: 22 | AP39: 23 | AQ39: 24 | AS39: 26 | AT39: 27 | AU39: 28 | AY39: 32 | AZ39: 33 | BA39: 34 | BB39: 35 | BC39: 36
A40: l | C40: Deterioro leve de hules protectores (topes) | I40: 2 CARROCERIA Y CHASIS | J40: 2.1 Generalidades de estructura, remolque, Interfaz de enganche, calzas y extintor | K40: =+A40 -> l | L40: =+C40 -> Deterioro leve de hules protectores (topes) | M40: =+IF(N40="O","DL",IF(N40="P","","N/A")) | N40: =+IF(OR($T$5=T40,$T$5=U40,$T$5=V40,$T$5=W40,$T$5=X40,$T$5=Y40,$T$5=Z40,$T$5=AA40,$T$5=AB40,$T$5=AC40,$T$5=AD40,$T$5=AE40,$T$5=AF40,$T$5=AG40,$T$5=AH40,$T$5=AI40,$T$5=AJ40,$T$5=AK40,$T$5=AL40,$T$5=AM40,$T$5=AN40,$T$5=AO40,$T$5=AP40,$T$5=AQ40,$T$5=AR40,$T$5=AS40,$T$5=AT40,$T$5=AU40,$T$5=AV40,$T$5=AW40,$T$5=AX40,$T$5=AY40,$T$5=AZ40,$T$5=BA40,$T$5=BB40,$T$5=BC40,$T$5=BD40),"P","¡") -> P | O40: =P40 -> 0 | T40: 1 | U40: 2 | V40: 3 | X40: 5 | AA40: 8 | AB40: 9 | AC40: 10 | AG40: 14 | AK40: 18 | AL40: 19 | AM40: 20 | AN40: 21 | AO40: 22 | AS40: 26 | AT40: 27 | AU40: 28 | AV40: 29 | AW40: 30 | AX40: 31 | AY40: 32 | AZ40: 33 | BA40: 34 | BB40: 35 | BC40: 36
A41: m | C41: Ausencia o deterioro avanzado de hules protectores (topes) | I41: 2 CARROCERIA Y CHASIS | J41: 2.1 Generalidades de estructura, remolque, Interfaz de enganche, calzas y extintor | K41: =+A41 -> m | L41: =+C41 -> Ausencia o deterioro avanzado de hules protectores (topes) | M41: =+IF(N41="O","DG",IF(N41="P","","N/A")) | N41: =+IF(OR($T$5=T41,$T$5=U41,$T$5=V41,$T$5=W41,$T$5=X41,$T$5=Y41,$T$5=Z41,$T$5=AA41,$T$5=AB41,$T$5=AC41,$T$5=AD41,$T$5=AE41,$T$5=AF41,$T$5=AG41,$T$5=AH41,$T$5=AI41,$T$5=AJ41,$T$5=AK41,$T$5=AL41,$T$5=AM41,$T$5=AN41,$T$5=AO41,$T$5=AP41,$T$5=AQ41,$T$5=AR41,$T$5=AS41,$T$5=AT41,$T$5=AU41,$T$5=AV41,$T$5=AW41,$T$5=AX41,$T$5=AY41,$T$5=AZ41,$T$5=BA41,$T$5=BB41,$T$5=BC41,$T$5=BD41),"P","¡") -> P | O41: =P41 -> 0 | T41: 1 | U41: 2 | V41: 3 | X41: 5 | AA41: 8 | AB41: 9 | AC41: 10 | AG41: 14 | AK41: 18 | AL41: 19 | AM41: 20 | AN41: 21 | AO41: 22 | AS41: 26 | AT41: 27 | AU41: 28 | AV41: 29 | AW41: 30 | AX41: 31 | AY41: 32 | AZ41: 33 | BA41: 34 | BB41: 35 | BC41: 36
A42: n | C42: Existencia de puntas salientes o filos cortantes, elementos y accesorios mal sujetos con peligro de desprendimiento (FOD) | I42: 2 CARROCERIA Y CHASIS | J42: 2.1 Generalidades de estructura, remolque, Interfaz de enganche, calzas y extintor | K42: =+A42 -> n | L42: =+C42 -> Existencia de puntas salientes o filos cortantes, elementos y accesorios mal sujetos con peligro de desprendimiento (FOD) | M42: =+IF(N42="O","DG",IF(N42="P","","N/A")) | N42: =+IF(OR($T$5=T42,$T$5=U42,$T$5=V42,$T$5=W42,$T$5=X42,$T$5=Y42,$T$5=Z42,$T$5=AA42,$T$5=AB42,$T$5=AC42,$T$5=AD42,$T$5=AE42,$T$5=AF42,$T$5=AG42,$T$5=AH42,$T$5=AI42,$T$5=AJ42,$T$5=AK42,$T$5=AL42,$T$5=AM42,$T$5=AN42,$T$5=AO42,$T$5=AP42,$T$5=AQ42,$T$5=AR42,$T$5=AS42,$T$5=AT42,$T$5=AU42,$T$5=AV42,$T$5=AW42,$T$5=AX42,$T$5=AY42,$T$5=AZ42,$T$5=BA42,$T$5=BB42,$T$5=BC42,$T$5=BD42),"P","¡") -> P | O42: =P42 -> 0 | T42: 1 | U42: 2 | V42: 3 | W42: 4 | X42: 5 | Y42: 6 | Z42: 7 | AA42: 8 | AB42: 9 | AC42: 10 | AD42: 11 | AE42: 12 | AG42: 14 | AH42: 15 | AI42: 16 | AJ42: 17 | AK42: 18 | AL42: 19 | AM42: 20 | AN42: 21 | AO42: 22 | AP42: 23 | AQ42: 24 | AR42: 25 | AS42: 26 | AT42: 27 | AU42: 28 | AV42: 29 | AW42: 30 | AX42: 31 | AY42: 32 | AZ42: 33 | BA42: 34 | BB42: 35 | BC42: 36 | BD42: 37
A43: o | C43: Calzas de hule inexistentes, defectos de sujeción al chasis o estructura, defectos de estado o no es de hule | I43: 2 CARROCERIA Y CHASIS | J43: 2.1 Generalidades de estructura, remolque, Interfaz de enganche, calzas y extintor | K43: =+A43 -> o | L43: =+C43 -> Calzas de hule inexistentes, defectos de sujeción al chasis o estructura, defectos de estado o no es de hule | M43: =+IF(N43="O","DG",IF(N43="P","","N/A")) | N43: =+IF(OR($T$5=T43,$T$5=U43,$T$5=V43,$T$5=W43,$T$5=X43,$T$5=Y43,$T$5=Z43,$T$5=AA43,$T$5=AB43,$T$5=AC43,$T$5=AD43,$T$5=AE43,$T$5=AF43,$T$5=AG43,$T$5=AH43,$T$5=AI43,$T$5=AJ43,$T$5=AK43,$T$5=AL43,$T$5=AM43,$T$5=AN43,$T$5=AO43,$T$5=AP43,$T$5=AQ43,$T$5=AR43,$T$5=AS43,$T$5=AT43,$T$5=AU43,$T$5=AV43,$T$5=AW43,$T$5=AX43,$T$5=AY43,$T$5=AZ43,$T$5=BA43,$T$5=BB43,$T$5=BC43,$T$5=BD43),"P","¡") -> P | O43: =P43 -> 0 | T43: 1 | U43: 2 | V43: 3 | W43: 4 | X43: 5 | AA43: 8 | AB43: 9 | AC43: 10 | AD43: 11 | AE43: 12 | AG43: 14 | AH43: 15 | AI43: 16 | AJ43: 17 | AK43: 18 | AL43: 19 | AM43: 20 | AN43: 21 | AP43: 23 | AQ43: 24 | AS43: 26 | AT43: 27 | AU43: 28 | AV43: 29 | AW43: 30 | AX43: 31 | AY43: 32 | AZ43: 33 | BA43: 34 | BB43: 35 | BC43: 36 | BD43: 37
A44: p | C44: Calza de hule no cumple con las características reguladas para el tipo de equipo | L44: =+C44 -> Calza de hule no cumple con las características reguladas para el tipo de equipo | M44: =+IF(N44="O","DG",IF(N44="P","","N/A")) | N44: =+IF(OR($T$5=T44,$T$5=U44,$T$5=V44,$T$5=W44,$T$5=X44,$T$5=Y44,$T$5=Z44,$T$5=AA44,$T$5=AB44,$T$5=AC44,$T$5=AD44,$T$5=AE44,$T$5=AF44,$T$5=AG44,$T$5=AH44,$T$5=AI44,$T$5=AJ44,$T$5=AK44,$T$5=AL44,$T$5=AM44,$T$5=AN44,$T$5=AO44,$T$5=AP44,$T$5=AQ44,$T$5=AR44,$T$5=AS44,$T$5=AT44,$T$5=AU44,$T$5=AV44,$T$5=AW44,$T$5=AX44,$T$5=AY44,$T$5=AZ44,$T$5=BA44,$T$5=BB44,$T$5=BC44,$T$5=BD44),"P","¡") -> P | T44: 1 | U44: 2 | V44: 3 | W44: 4 | X44: 5 | AA44: 8 | AB44: 9 | AC44: 10 | AD44: 11 | AE44: 12 | AG44: 14 | AH44: 15 | AI44: 16 | AJ44: 17 | AK44: 18 | AL44: 19 | AM44: 20 | AN44: 21 | AP44: 23 | AQ44: 24 | AS44: 26 | AT44: 27 | AU44: 28 | AV44: 29 | AW44: 30 | AX44: 31 | AY44: 32 | AZ44: 33 | BA44: 34 | BB44: 35 | BC44: 36 | BD44: 37
A45: q | C45: Extintor inexistente, vencido o alguno de sus componentes defectuoso | I45: 2 CARROCERIA Y CHASIS | J45: 2.1 Generalidades de estructura, remolque, Interfaz de enganche, calzas y extintor | K45: =+A45 -> q | L45: =+C45 -> Extintor inexistente, vencido o alguno de sus componentes defectuoso | M45: =+IF(N45="O","DG",IF(N45="P","","N/A")) | N45: =+IF(OR($T$5=T45,$T$5=U45,$T$5=V45,$T$5=W45,$T$5=X45,$T$5=Y45,$T$5=Z45,$T$5=AA45,$T$5=AB45,$T$5=AC45,$T$5=AD45,$T$5=AE45,$T$5=AF45,$T$5=AG45,$T$5=AH45,$T$5=AI45,$T$5=AJ45,$T$5=AK45,$T$5=AL45,$T$5=AM45,$T$5=AN45,$T$5=AO45,$T$5=AP45,$T$5=AQ45,$T$5=AR45,$T$5=AS45,$T$5=AT45,$T$5=AU45,$T$5=AV45,$T$5=AW45,$T$5=AX45,$T$5=AY45,$T$5=AZ45,$T$5=BA45,$T$5=BB45,$T$5=BC45,$T$5=BD45),"P","¡") -> P | O45: =P45 -> 0 | T45: 1 | U45: 2 | V45: 3 | W45: 4 | X45: 5 | AA45: 8 | AB45: 9 | AD45: 11 | AE45: 12 | AI45: 16 | AJ45: 17 | AK45: 18 | AL45: 19 | AM45: 20 | AO45: 22 | AP45: 23 | AQ45: 24 | AS45: 26 | AT45: 27 | AU45: 28 | AV45: 29 | AW45: 30 | AX45: 31 | AY45: 32 | AZ45: 33 | BA45: 34 | BB45: 35 | BC45: 36
A46: r | C46: Etiqueta de información del extintor inexistente o ilegible o alterada | I46: 2 CARROCERIA Y CHASIS | J46: 2.1 Generalidades de estructura, remolque, Interfaz de enganche, calzas y extintor | K46: =+A46 -> r | L46: =+C46 -> Etiqueta de información del extintor inexistente o ilegible o alterada | M46: =+IF(N46="O","DG",IF(N46="P","","N/A")) | N46: =+IF(OR($T$5=T46,$T$5=U46,$T$5=V46,$T$5=W46,$T$5=X46,$T$5=Y46,$T$5=Z46,$T$5=AA46,$T$5=AB46,$T$5=AC46,$T$5=AD46,$T$5=AE46,$T$5=AF46,$T$5=AG46,$T$5=AH46,$T$5=AI46,$T$5=AJ46,$T$5=AK46,$T$5=AL46,$T$5=AM46,$T$5=AN46,$T$5=AO46,$T$5=AP46,$T$5=AQ46,$T$5=AR46,$T$5=AS46,$T$5=AT46,$T$5=AU46,$T$5=AV46,$T$5=AW46,$T$5=AX46,$T$5=AY46,$T$5=AZ46,$T$5=BA46,$T$5=BB46,$T$5=BC46,$T$5=BD46),"P","¡") -> P | O46: =P46 -> 0 | T46: 1 | U46: 2 | V46: 3 | W46: 4 | X46: 5 | AA46: 8 | AB46: 9 | AD46: 11 | AE46: 12 | AI46: 16 | AJ46: 17 | AK46: 18 | AL46: 19 | AM46: 20 | AO46: 22 | AP46: 23 | AQ46: 24 | AS46: 26 | AT46: 27 | AU46: 28 | AV46: 29 | AW46: 30 | AX46: 31 | AY46: 32 | AZ46: 33 | BA46: 34 | BB46: 35 | BC46: 36
A47: s | C47: Tamaño y/o tipo de fuego del extintor no corresponde al del equipo | K47: =+A47 -> s | L47: =+C47 -> Tamaño y/o tipo de fuego del extintor no corresponde al del equipo | M47: =+IF(N47="O","DG",IF(N47="P","","N/A")) | N47: =+IF(OR($T$5=T47,$T$5=U47,$T$5=V47,$T$5=W47,$T$5=X47,$T$5=Y47,$T$5=Z47,$T$5=AA47,$T$5=AB47,$T$5=AC47,$T$5=AD47,$T$5=AE47,$T$5=AF47,$T$5=AG47,$T$5=AH47,$T$5=AI47,$T$5=AJ47,$T$5=AK47,$T$5=AL47,$T$5=AM47,$T$5=AN47,$T$5=AO47,$T$5=AP47,$T$5=AQ47,$T$5=AR47,$T$5=AS47,$T$5=AT47,$T$5=AU47,$T$5=AV47,$T$5=AW47,$T$5=AX47,$T$5=AY47,$T$5=AZ47,$T$5=BA47,$T$5=BB47,$T$5=BC47,$T$5=BD47),"P","¡") -> P | T47: 1 | U47: 2 | V47: 3 | W47: 4 | X47: 5 | AA47: 8 | AB47: 9 | AD47: 11 | AE47: 12 | AI47: 16 | AJ47: 17 | AK47: 18 | AL47: 19 | AM47: 20 | AO47: 22 | AP47: 23 | AQ47: 24 | AS47: 26 | AT47: 27 | AU47: 28 | AV47: 29 | AW47: 30 | AX47: 31 | AY47: 32 | AZ47: 33 | BA47: 34 | BB47: 35 | BC47: 36
A48: t | C48: Defecto de sujeción del extintor | I48: 2 CARROCERIA Y CHASIS | J48: 2.1 Generalidades de estructura, remolque, Interfaz de enganche, calzas y extintor | K48: =+A48 -> t | L48: =+C48 -> Defecto de sujeción del extintor | M48: =+IF(N48="O","DL",IF(N48="P","","N/A")) | N48: =+IF(OR($T$5=T48,$T$5=U48,$T$5=V48,$T$5=W48,$T$5=X48,$T$5=Y48,$T$5=Z48,$T$5=AA48,$T$5=AB48,$T$5=AC48,$T$5=AD48,$T$5=AE48,$T$5=AF48,$T$5=AG48,$T$5=AH48,$T$5=AI48,$T$5=AJ48,$T$5=AK48,$T$5=AL48,$T$5=AM48,$T$5=AN48,$T$5=AO48,$T$5=AP48,$T$5=AQ48,$T$5=AR48,$T$5=AS48,$T$5=AT48,$T$5=AU48,$T$5=AV48,$T$5=AW48,$T$5=AX48,$T$5=AY48,$T$5=AZ48,$T$5=BA48,$T$5=BB48,$T$5=BC48,$T$5=BD48),"P","¡") -> P | O48: =P48 -> 0 | T48: 1 | U48: 2 | V48: 3 | W48: 4 | X48: 5 | AA48: 8 | AB48: 9 | AD48: 11 | AE48: 12 | AI48: 16 | AJ48: 17 | AK48: 18 | AL48: 19 | AM48: 20 | AO48: 22 | AP48: 23 | AQ48: 24 | AS48: 26 | AT48: 27 | AV48: 29 | AW48: 30 | AX48: 31 | AY48: 32 | AZ48: 33 | BA48: 34 | BB48: 35 | BC48: 36
A49: #VALUE! | C49: SISTEMA DE GESTIÓN DE CALIDAD | S49: Código: F-140-1
C50: INFORME DE INSPECCIÓN TÉCNICA DE EQUIPOS Y VEHÍCULOS QUE INGRESAN AL LADO AÉREO | S50: Versión: 4
S51: Página: 2 de 12
A52: 2.2 | B52: Puertas y Tapa de Motor
B53: Interpretación de defectos | C53: Lista de defectos | I53: Código | J53: Subcódigo | K53: Índice | L53: Lista de defectos | M53: Gravedad | N53: Condición | O53: Observaciones | P53: Observaciones
A54: a | C54: Defectos de accionamiento en puerta en el acceso al vehículo | I54: 2 CARROCERIA Y CHASIS | J54: 2.2 Puertas y Tapa de Motor | K54: =+A54 -> a | L54: =+C54 -> Defectos de accionamiento en puerta en el acceso al vehículo | M54: =+IF(N54="O","DL",IF(N54="P","","N/A")) -> N/A | N54: =+IF(OR($T$5=T54,$T$5=U54,$T$5=V54,$T$5=W54,$T$5=X54,$T$5=Y54,$T$5=Z54,$T$5=AA54,$T$5=AB54,$T$5=AC54,$T$5=AD54,$T$5=AE54,$T$5=AF54,$T$5=AG54,$T$5=AH54,$T$5=AI54,$T$5=AJ54,$T$5=AK54,$T$5=AL54,$T$5=AM54,$T$5=AN54,$T$5=AO54,$T$5=AP54,$T$5=AQ54,$T$5=AR54,$T$5=AS54,$T$5=AT54,$T$5=AU54,$T$5=AV54,$T$5=AW54,$T$5=AX54,$T$5=AY54,$T$5=AZ54,$T$5=BA54,$T$5=BB54,$T$5=BC54,$T$5=BD54),"P","¡") -> ¡ | O54: =P54 -> 0 | U54: 2 | W54: 4 | AA54: 8 | AB54: 9 | AD54: 11 | AI54: 16 | AJ54: 17 | AL54: 19 | AP54: 23 | AS54: 26 | AT54: 27 | AU54: 28 | AY54: 32 | AZ54: 33 | BA54: 34 | BB54: 35 | BC54: 36
A55: b | C55: Defectos de accionamiento en puerta en la salida del vehículo | I55: 2 CARROCERIA Y CHASIS | J55: 2.2 Puertas y Tapa de Motor | K55: =+A55 -> b | L55: =+C55 -> Defectos de accionamiento en puerta en la salida del vehículo | M55: =+IF(N55="O","DG",IF(N55="P","","N/A")) -> N/A | N55: =+IF(OR($T$5=T55,$T$5=U55,$T$5=V55,$T$5=W55,$T$5=X55,$T$5=Y55,$T$5=Z55,$T$5=AA55,$T$5=AB55,$T$5=AC55,$T$5=AD55,$T$5=AE55,$T$5=AF55,$T$5=AG55,$T$5=AH55,$T$5=AI55,$T$5=AJ55,$T$5=AK55,$T$5=AL55,$T$5=AM55,$T$5=AN55,$T$5=AO55,$T$5=AP55,$T$5=AQ55,$T$5=AR55,$T$5=AS55,$T$5=AT55,$T$5=AU55,$T$5=AV55,$T$5=AW55,$T$5=AX55,$T$5=AY55,$T$5=AZ55,$T$5=BA55,$T$5=BB55,$T$5=BC55,$T$5=BD55),"P","¡") -> ¡ | O55: =P55 -> 0 | U55: 2 | W55: 4 | AA55: 8 | AB55: 9 | AD55: 11 | AI55: 16 | AJ55: 17 | AL55: 19 | AP55: 23 | AS55: 26 | AT55: 27 | AU55: 28 | AY55: 32 | AZ55: 33 | BA55: 34 | BB55: 35 | BC55: 36
A56: c | C56: Bisagras defectuosas en puertas y compartimentos | I56: 2 CARROCERIA Y CHASIS | J56: 2.2 Puertas y Tapa de Motor | K56: =+A56 -> c | L56: =+C56 -> Bisagras defectuosas en puertas y compartimentos | M56: =+IF(N56="O","DL",IF(N56="P","","N/A")) | N56: =+IF(OR($T$5=T56,$T$5=U56,$T$5=V56,$T$5=W56,$T$5=X56,$T$5=Y56,$T$5=Z56,$T$5=AA56,$T$5=AB56,$T$5=AC56,$T$5=AD56,$T$5=AE56,$T$5=AF56,$T$5=AG56,$T$5=AH56,$T$5=AI56,$T$5=AJ56,$T$5=AK56,$T$5=AL56,$T$5=AM56,$T$5=AN56,$T$5=AO56,$T$5=AP56,$T$5=AQ56,$T$5=AR56,$T$5=AS56,$T$5=AT56,$T$5=AU56,$T$5=AV56,$T$5=AW56,$T$5=AX56,$T$5=AY56,$T$5=AZ56,$T$5=BA56,$T$5=BB56,$T$5=BC56,$T$5=BD56),"P","¡") -> P | O56: =P56 -> 0 | T56: 1 | U56: 2 | V56: 3 | W56: 4 | X56: 5 | AA56: 8 | AB56: 9 | AC56: 10 | AD56: 11 | AE56: 12 | AI56: 16 | AJ56: 17 | AK56: 18 | AL56: 19 | AM56: 20 | AN56: 21 | AO56: 22 | AP56: 23 | AQ56: 24 | AS56: 26 | AT56: 27 | AU56: 28 | AV56: 29 | AW56: 30 | AX56: 31 | AY56: 32 | AZ56: 33 | BA56: 34 | BB56: 35 | BC56: 36
A57: d | C57: Puertas y/o tapa de motor con riesgo de desprendimiento y/o apertura repentina | I57: 2 CARROCERIA Y CHASIS | J57: 2.2 Puertas y Tapa de Motor | K57: =+A57 -> d | L57: =+C57 -> Puertas y/o tapa de motor con riesgo de desprendimiento y/o apertura repentina | M57: =+IF(N57="O","DG",IF(N57="P","","N/A")) | N57: =+IF(OR($T$5=T57,$T$5=U57,$T$5=V57,$T$5=W57,$T$5=X57,$T$5=Y57,$T$5=Z57,$T$5=AA57,$T$5=AB57,$T$5=AC57,$T$5=AD57,$T$5=AE57,$T$5=AF57,$T$5=AG57,$T$5=AH57,$T$5=AI57,$T$5=AJ57,$T$5=AK57,$T$5=AL57,$T$5=AM57,$T$5=AN57,$T$5=AO57,$T$5=AP57,$T$5=AQ57,$T$5=AR57,$T$5=AS57,$T$5=AT57,$T$5=AU57,$T$5=AV57,$T$5=AW57,$T$5=AX57,$T$5=AY57,$T$5=AZ57,$T$5=BA57,$T$5=BB57,$T$5=BC57,$T$5=BD57),"P","¡") -> P | O57: =P57 -> 0 | T57: 1 | U57: 2 | V57: 3 | W57: 4 | AA57: 8 | AB57: 9 | AC57: 10 | AD57: 11 | AE57: 12 | AI57: 16 | AJ57: 17 | AL57: 19 | AM57: 20 | AO57: 22 | AP57: 23 | AQ57: 24 | AS57: 26 | AT57: 27 | AU57: 28 | AY57: 32 | AZ57: 33 | BA57: 34 | BB57: 35 | BC57: 36
A58: 2.3 | B58: Parabrisas y ventanas
B59: Interpretación de defectos | C59: Lista de defectos | I59: Código | J59: Subcódigo | K59: Índice | L59: Lista de defectos | M59: Gravedad | N59: Condición | O59: Observaciones | P59: Observaciones
A60: a | C60: Parabrisas delantero inexistente (si el equipo cuenta con este de fabricación) | I60: =+$I$54 -> 2 CARROCERIA Y CHASIS | J60: 2.3 Parabrisas y ventanas | K60: =+A60 -> a | L60: =+C60 -> Parabrisas delantero inexistente (si el equipo cuenta con este de fabricación) | M60: =+IF(N60="O","DG",IF(N60="P","","N/A")) -> N/A | N60: =+IF(OR($T$5=T60,$T$5=U60,$T$5=V60,$T$5=W60,$T$5=X60,$T$5=Y60,$T$5=Z60,$T$5=AA60,$T$5=AB60,$T$5=AC60,$T$5=AD60,$T$5=AE60,$T$5=AF60,$T$5=AG60,$T$5=AH60,$T$5=AI60,$T$5=AJ60,$T$5=AK60,$T$5=AL60,$T$5=AM60,$T$5=AN60,$T$5=AO60,$T$5=AP60,$T$5=AQ60,$T$5=AR60,$T$5=AS60,$T$5=AT60,$T$5=AU60,$T$5=AV60,$T$5=AW60,$T$5=AX60,$T$5=AY60,$T$5=AZ60,$T$5=BA60,$T$5=BB60,$T$5=BC60,$T$5=BD60),"P","¡") -> ¡ | O60: =P60 -> 0 | U60: 2 | W60: 4 | AA60: 8 | AB60: 9 | AD60: 11 | AI60: 16 | AJ60: 17 | AL60: 19 | AP60: 23 | AQ60: 24 | AS60: 26 | AT60: 27 | AU60: 28 | AY60: 32 | AZ60: 33 | BA60: 34 | BB60: 35 | BC60: 36
A61: b | C61: Accionamiento de ventanas defectuoso | I61: =+$I$54 -> 2 CARROCERIA Y CHASIS | J61: 2.3 Parabrisas y ventanas | K61: =+A61 -> b | L61: =+C61 -> Accionamiento de ventanas defectuoso | M61: =+IF(N61="O","DL",IF(N61="P","","N/A")) -> N/A | N61: =+IF(OR($T$5=T61,$T$5=U61,$T$5=V61,$T$5=W61,$T$5=X61,$T$5=Y61,$T$5=Z61,$T$5=AA61,$T$5=AB61,$T$5=AC61,$T$5=AD61,$T$5=AE61,$T$5=AF61,$T$5=AG61,$T$5=AH61,$T$5=AI61,$T$5=AJ61,$T$5=AK61,$T$5=AL61,$T$5=AM61,$T$5=AN61,$T$5=AO61,$T$5=AP61,$T$5=AQ61,$T$5=AR61,$T$5=AS61,$T$5=AT61,$T$5=AU61,$T$5=AV61,$T$5=AW61,$T$5=AX61,$T$5=AY61,$T$5=AZ61,$T$5=BA61,$T$5=BB61,$T$5=BC61,$T$5=BD61),"P","¡") -> ¡ | O61: =P61 -> 0 | U61: 2 | W61: 4 | AA61: 8 | AB61: 9 | AD61: 11 | AI61: 16 | AJ61: 17 | AL61: 19 | AP61: 23 | AQ61: 24 | AS61: 26 | AT61: 27 | AU61: 28 | AY61: 32 | AZ61: 33 | BA61: 34 | BB61: 35 | BC61: 36
A62: c | C62: Existencia de lámina adhesiva anti solar, polarizado, sticker, adhesivos o similares en el parabrisas delantero. | I62: =+$I$54 -> 2 CARROCERIA Y CHASIS | J62: 2.3 Parabrisas y ventanas | K62: =+A62 -> c | L62: =+C62 -> Existencia de lámina adhesiva anti solar, polarizado, sticker, adhesivos o similares en el parabrisas delantero. | M62: =+IF(N62="O","DG",IF(N62="P","","N/A")) -> N/A | N62: =+IF(OR($T$5=T62,$T$5=U62,$T$5=V62,$T$5=W62,$T$5=X62,$T$5=Y62,$T$5=Z62,$T$5=AA62,$T$5=AB62,$T$5=AC62,$T$5=AD62,$T$5=AE62,$T$5=AF62,$T$5=AG62,$T$5=AH62,$T$5=AI62,$T$5=AJ62,$T$5=AK62,$T$5=AL62,$T$5=AM62,$T$5=AN62,$T$5=AO62,$T$5=AP62,$T$5=AQ62,$T$5=AR62,$T$5=AS62,$T$5=AT62,$T$5=AU62,$T$5=AV62,$T$5=AW62,$T$5=AX62,$T$5=AY62,$T$5=AZ62,$T$5=BA62,$T$5=BB62,$T$5=BC62,$T$5=BD62),"P","¡") -> ¡ | O62: =P62 -> 0 | U62: 2 | W62: 4 | AA62: 8 | AB62: 9 | AD62: 11 | AI62: 16 | AJ62: 17 | AL62: 19 | AP62: 23 | AQ62: 24 | AS62: 26 | AT62: 27 | AU62: 28 | AY62: 32 | AZ62: 33 | BA62: 34 | BB62: 35 | BC62: 36
A63: d | C63: Existencia de lámina adhesiva anti solar, ,adhesivos o similares en ventanillas y/o parabrisas trasero | I63: =+$I$54 -> 2 CARROCERIA Y CHASIS | J63: 2.3 Parabrisas y ventanas | K63: =+A63 -> d | L63: =+C63 -> Existencia de lámina adhesiva anti solar, ,adhesivos o similares en ventanillas y/o parabrisas trasero | M63: =+IF(N63="O","DL",IF(N63="P","","N/A")) -> N/A | N63: =+IF(OR($T$5=T63,$T$5=U63,$T$5=V63,$T$5=W63,$T$5=X63,$T$5=Y63,$T$5=Z63,$T$5=AA63,$T$5=AB63,$T$5=AC63,$T$5=AD63,$T$5=AE63,$T$5=AF63,$T$5=AG63,$T$5=AH63,$T$5=AI63,$T$5=AJ63,$T$5=AK63,$T$5=AL63,$T$5=AM63,$T$5=AN63,$T$5=AO63,$T$5=AP63,$T$5=AQ63,$T$5=AR63,$T$5=AS63,$T$5=AT63,$T$5=AU63,$T$5=AV63,$T$5=AW63,$T$5=AX63,$T$5=AY63,$T$5=AZ63,$T$5=BA63,$T$5=BB63,$T$5=BC63,$T$5=BD63),"P","¡") -> ¡ | O63: =P63 -> 0 | U63: 2 | W63: 4 | AA63: 8 | AB63: 9 | AD63: 11 | AI63: 16 | AJ63: 17 | AL63: 19 | AP63: 23 | AQ63: 24 | AS63: 26 | AT63: 27 | AU63: 28 | AY63: 32 | AZ63: 33 | BA63: 34 | BB63: 35 | BC63: 36
A64: e | C64: Fisuras o impactos con radio mayor a 5 cm pero menor a 15 cm en el parabrisas delantero, fuera del campo de visión del conductor. | I64: =+$I$54 -> 2 CARROCERIA Y CHASIS | J64: 2.3 Parabrisas y ventanas | K64: =+A64 -> e | L64: =+C64 -> Fisuras o impactos con radio mayor a 5 cm pero menor a 15 cm en el parabrisas delantero, fuera del campo de visión del conductor. | M64: =+IF(N64="O","DL",IF(N64="P","","N/A")) -> N/A | N64: =+IF(OR($T$5=T64,$T$5=U64,$T$5=V64,$T$5=W64,$T$5=X64,$T$5=Y64,$T$5=Z64,$T$5=AA64,$T$5=AB64,$T$5=AC64,$T$5=AD64,$T$5=AE64,$T$5=AF64,$T$5=AG64,$T$5=AH64,$T$5=AI64,$T$5=AJ64,$T$5=AK64,$T$5=AL64,$T$5=AM64,$T$5=AN64,$T$5=AO64,$T$5=AP64,$T$5=AQ64,$T$5=AR64,$T$5=AS64,$T$5=AT64,$T$5=AU64,$T$5=AV64,$T$5=AW64,$T$5=AX64,$T$5=AY64,$T$5=AZ64,$T$5=BA64,$T$5=BB64,$T$5=BC64,$T$5=BD64),"P","¡") -> ¡ | O64: =P64 -> 0 | U64: 2 | W64: 4 | AA64: 8 | AB64: 9 | AD64: 11 | AI64: 16 | AJ64: 17 | AL64: 19 | AP64: 23 | AQ64: 24 | AS64: 26 | AT64: 27 | AU64: 28 | AY64: 32 | AZ64: 33 | BA64: 34 | BB64: 35 | BC64: 36
A65: f | C65: Fisuras o impactos con radio mayor a 5 cm en el parabrisas delantero, dentro del campo de visión del conductor. | I65: =+$I$54 -> 2 CARROCERIA Y CHASIS | J65: 2.3 Parabrisas y ventanas | K65: =+A65 -> f | L65: =+C65 -> Fisuras o impactos con radio mayor a 5 cm en el parabrisas delantero, dentro del campo de visión del conductor. | M65: =+IF(N65="O","DG",IF(N65="P","","N/A")) -> N/A | N65: =+IF(OR($T$5=T65,$T$5=U65,$T$5=V65,$T$5=W65,$T$5=X65,$T$5=Y65,$T$5=Z65,$T$5=AA65,$T$5=AB65,$T$5=AC65,$T$5=AD65,$T$5=AE65,$T$5=AF65,$T$5=AG65,$T$5=AH65,$T$5=AI65,$T$5=AJ65,$T$5=AK65,$T$5=AL65,$T$5=AM65,$T$5=AN65,$T$5=AO65,$T$5=AP65,$T$5=AQ65,$T$5=AR65,$T$5=AS65,$T$5=AT65,$T$5=AU65,$T$5=AV65,$T$5=AW65,$T$5=AX65,$T$5=AY65,$T$5=AZ65,$T$5=BA65,$T$5=BB65,$T$5=BC65,$T$5=BD65),"P","¡") -> ¡ | O65: =P65 -> 0 | U65: 2 | W65: 4 | AA65: 8 | AB65: 9 | AD65: 11 | AI65: 16 | AJ65: 17 | AL65: 19 | AP65: 23 | AQ65: 24 | AS65: 26 | AT65: 27 | AU65: 28 | AY65: 32 | AZ65: 33 | BA65: 34 | BB65: 35 | BC65: 36
A66: g | C66: Fisura o impactos con radio mayor a 5 cm en las ventanillas o parabrisas trasero. | I66: =+$I$54 -> 2 CARROCERIA Y CHASIS | J66: 2.3 Parabrisas y ventanas | K66: =+A66 -> g | L66: =+C66 -> Fisura o impactos con radio mayor a 5 cm en las ventanillas o parabrisas trasero. | M66: =+IF(N66="O","DL",IF(N66="P","","N/A")) -> N/A | N66: =+IF(OR($T$5=T66,$T$5=U66,$T$5=V66,$T$5=W66,$T$5=X66,$T$5=Y66,$T$5=Z66,$T$5=AA66,$T$5=AB66,$T$5=AC66,$T$5=AD66,$T$5=AE66,$T$5=AF66,$T$5=AG66,$T$5=AH66,$T$5=AI66,$T$5=AJ66,$T$5=AK66,$T$5=AL66,$T$5=AM66,$T$5=AN66,$T$5=AO66,$T$5=AP66,$T$5=AQ66,$T$5=AR66,$T$5=AS66,$T$5=AT66,$T$5=AU66,$T$5=AV66,$T$5=AW66,$T$5=AX66,$T$5=AY66,$T$5=AZ66,$T$5=BA66,$T$5=BB66,$T$5=BC66,$T$5=BD66),"P","¡") -> ¡ | O66: =P66 -> 0 | U66: 2 | W66: 4 | AA66: 8 | AB66: 9 | AD66: 11 | AI66: 16 | AJ66: 17 | AL66: 19 | AP66: 23 | AQ66: 24 | AS66: 26 | AT66: 27 | AU66: 28 | AY66: 32 | AZ66: 33 | BA66: 34 | BB66: 35 | BC66: 36
A67: 2.4 | B67: Limpiaparabrisas
B68: Interpretación de defectos | C68: Lista de defectos | I68: Código | J68: Subcódigo | K68: Índice | L68: Lista de defectos | M68: Gravedad | N68: Condición | O68: Observaciones | P68: Observaciones
A69: a | C69: Inexistencia de los limpiaparabrisas (escobillas) | I69: =+$I$60 -> 2 CARROCERIA Y CHASIS | J69: 2.4 Limpiaparabrisas | K69: =+A69 -> a | L69: =+C69 -> Inexistencia de los limpiaparabrisas (escobillas) | M69: =+IF(N69="O","DG",IF(N69="P","","N/A")) -> N/A | N69: =+IF(OR($T$5=T69,$T$5=U69,$T$5=V69,$T$5=W69,$T$5=X69,$T$5=Y69,$T$5=Z69,$T$5=AA69,$T$5=AB69,$T$5=AC69,$T$5=AD69,$T$5=AE69,$T$5=AF69,$T$5=AG69,$T$5=AH69,$T$5=AI69,$T$5=AJ69,$T$5=AK69,$T$5=AL69,$T$5=AM69,$T$5=AN69,$T$5=AO69,$T$5=AP69,$T$5=AQ69,$T$5=AR69,$T$5=AS69,$T$5=AT69,$T$5=AU69,$T$5=AV69,$T$5=AW69,$T$5=AX69,$T$5=AY69,$T$5=AZ69,$T$5=BA69,$T$5=BB69,$T$5=BC69,$T$5=BD69),"P","¡") -> ¡ | O69: =P69 -> 0 | U69: 2 | W69: 4 | AA69: 8 | AB69: 9 | AD69: 11 | AI69: 16 | AJ69: 17 | AL69: 19 | AP69: 23 | AQ69: 24 | AS69: 26 | AT69: 27 | AU69: 28 | AY69: 32 | AZ69: 33 | BA69: 34 | BB69: 35 | BC69: 36
A70: b | C70: Mal funcionamiento del limpiaparabrisas (escobillas) | I70: =+$I$60 -> 2 CARROCERIA Y CHASIS | J70: 2.4 Limpiaparabrisas | K70: =+A70 -> b | L70: =+C70 -> Mal funcionamiento del limpiaparabrisas (escobillas) | M70: =+IF(N70="O","DG",IF(N70="P","","N/A")) -> N/A | N70: =+IF(OR($T$5=T70,$T$5=U70,$T$5=V70,$T$5=W70,$T$5=X70,$T$5=Y70,$T$5=Z70,$T$5=AA70,$T$5=AB70,$T$5=AC70,$T$5=AD70,$T$5=AE70,$T$5=AF70,$T$5=AG70,$T$5=AH70,$T$5=AI70,$T$5=AJ70,$T$5=AK70,$T$5=AL70,$T$5=AM70,$T$5=AN70,$T$5=AO70,$T$5=AP70,$T$5=AQ70,$T$5=AR70,$T$5=AS70,$T$5=AT70,$T$5=AU70,$T$5=AV70,$T$5=AW70,$T$5=AX70,$T$5=AY70,$T$5=AZ70,$T$5=BA70,$T$5=BB70,$T$5=BC70,$T$5=BD70),"P","¡") -> ¡ | O70: =P70 -> 0 | U70: 2 | W70: 4 | AA70: 8 | AB70: 9 | AD70: 11 | AI70: 16 | AJ70: 17 | AL70: 19 | AP70: 23 | AQ70: 24 | AS70: 26 | AT70: 27 | AU70: 28 | AY70: 32 | AZ70: 33 | BA70: 34 | BB70: 35 | BC70: 36
A71: c | C71: Mal estado de los limpiaparabrisas (escobillas) | I71: =+$I$60 -> 2 CARROCERIA Y CHASIS | J71: 2.4 Limpiaparabrisas | K71: =+A71 -> c | L71: =+C71 -> Mal estado de los limpiaparabrisas (escobillas) | M71: =+IF(N71="O","DL",IF(N71="P","","N/A")) -> N/A | N71: =+IF(OR($T$5=T71,$T$5=U71,$T$5=V71,$T$5=W71,$T$5=X71,$T$5=Y71,$T$5=Z71,$T$5=AA71,$T$5=AB71,$T$5=AC71,$T$5=AD71,$T$5=AE71,$T$5=AF71,$T$5=AG71,$T$5=AH71,$T$5=AI71,$T$5=AJ71,$T$5=AK71,$T$5=AL71,$T$5=AM71,$T$5=AN71,$T$5=AO71,$T$5=AP71,$T$5=AQ71,$T$5=AR71,$T$5=AS71,$T$5=AT71,$T$5=AU71,$T$5=AV71,$T$5=AW71,$T$5=AX71,$T$5=AY71,$T$5=AZ71,$T$5=BA71,$T$5=BB71,$T$5=BC71,$T$5=BD71),"P","¡") -> ¡ | O71: =P71 -> 0 | U71: 2 | W71: 4 | AA71: 8 | AB71: 9 | AD71: 11 | AI71: 16 | AJ71: 17 | AL71: 19 | AP71: 23 | AQ71: 24 | AS71: 26 | AT71: 27 | AU71: 28 | AY71: 32 | AZ71: 33 | BA71: 34 | BB71: 35 | BC71: 36
A72: 2.5 | B72: Retrovisores exteriores
B73: Interpretación de defectos | C73: Lista de defectos | I73: Código | J73: Subcódigo | K73: Índice | L73: Lista de defectos | M73: Gravedad | N73: Condición | O73: Observaciones | P73: Observaciones
A74: a | C74: Inexistencia de retrovisores (izquierdo o derecho), cuando es obligatorio. | I74: =+$I$69 -> 2 CARROCERIA Y CHASIS | J74: 2.5 Retrovisores exteriores | K74: =+A74 -> a | L74: =+C74 -> Inexistencia de retrovisores (izquierdo o derecho), cuando es obligatorio. | M74: =+IF(N74="O","DG",IF(N74="P","","N/A")) -> N/A | N74: =+IF(OR($T$5=T74,$T$5=U74,$T$5=V74,$T$5=W74,$T$5=X74,$T$5=Y74,$T$5=Z74,$T$5=AA74,$T$5=AB74,$T$5=AC74,$T$5=AD74,$T$5=AE74,$T$5=AF74,$T$5=AG74,$T$5=AH74,$T$5=AI74,$T$5=AJ74,$T$5=AK74,$T$5=AL74,$T$5=AM74,$T$5=AN74,$T$5=AO74,$T$5=AP74,$T$5=AQ74,$T$5=AR74,$T$5=AS74,$T$5=AT74,$T$5=AU74,$T$5=AV74,$T$5=AW74,$T$5=AX74,$T$5=AY74,$T$5=AZ74,$T$5=BA74,$T$5=BB74,$T$5=BC74,$T$5=BD74),"P","¡") -> ¡ | O74: =P74 -> 0 | U74: 2 | W74: 4 | X74: 5 | AA74: 8 | AB74: 9 | AD74: 11 | AI74: 16 | AJ74: 17 | AL74: 19 | AP74: 23 | AQ74: 24 | AR74: 25 | AS74: 26 | AT74: 27 | AU74: 28 | AY74: 32 | AZ74: 33 | BA74: 34 | BB74: 35 | BC74: 36
A75: b | C75: Inexistencia de retrovisor derecho en vehículos, cuando no es obligatorio. | I75: =+$I$69 -> 2 CARROCERIA Y CHASIS | J75: 2.5 Retrovisores exteriores | K75: =+A75 -> b | L75: =+C75 -> Inexistencia de retrovisor derecho en vehículos, cuando no es obligatorio. | M75: =+IF(N75="O","DL",IF(N75="P","","N/A")) -> N/A | N75: =+IF(OR($T$5=T75,$T$5=U75,$T$5=V75,$T$5=W75,$T$5=X75,$T$5=Y75,$T$5=Z75,$T$5=AA75,$T$5=AB75,$T$5=AC75,$T$5=AD75,$T$5=AE75,$T$5=AF75,$T$5=AG75,$T$5=AH75,$T$5=AI75,$T$5=AJ75,$T$5=AK75,$T$5=AL75,$T$5=AM75,$T$5=AN75,$T$5=AO75,$T$5=AP75,$T$5=AQ75,$T$5=AR75,$T$5=AS75,$T$5=AT75,$T$5=AU75,$T$5=AV75,$T$5=AW75,$T$5=AX75,$T$5=AY75,$T$5=AZ75,$T$5=BA75,$T$5=BB75,$T$5=BC75,$T$5=BD75),"P","¡") -> ¡ | O75: =P75 -> 0 | U75: 2 | W75: 4 | X75: 5 | AA75: 8 | AB75: 9 | AD75: 11 | AI75: 16 | AJ75: 17 | AL75: 19 | AP75: 23 | AQ75: 24 | AR75: 25 | AS75: 26 | AT75: 27 | AU75: 28 | AY75: 32 | AZ75: 33 | BA75: 34 | BB75: 35 | BC75: 36
A76: c | C76: Deterioro de las superficies que no afecten la retro visión. | I76: =+$I$69 -> 2 CARROCERIA Y CHASIS | J76: 2.5 Retrovisores exteriores | K76: =+A76 -> c | L76: =+C76 -> Deterioro de las superficies que no afecten la retro visión. | M76: =+IF(N76="O","DL",IF(N76="P","","N/A")) -> N/A | N76: =+IF(OR($T$5=T76,$T$5=U76,$T$5=V76,$T$5=W76,$T$5=X76,$T$5=Y76,$T$5=Z76,$T$5=AA76,$T$5=AB76,$T$5=AC76,$T$5=AD76,$T$5=AE76,$T$5=AF76,$T$5=AG76,$T$5=AH76,$T$5=AI76,$T$5=AJ76,$T$5=AK76,$T$5=AL76,$T$5=AM76,$T$5=AN76,$T$5=AO76,$T$5=AP76,$T$5=AQ76,$T$5=AR76,$T$5=AS76,$T$5=AT76,$T$5=AU76,$T$5=AV76,$T$5=AW76,$T$5=AX76,$T$5=AY76,$T$5=AZ76,$T$5=BA76,$T$5=BB76,$T$5=BC76,$T$5=BD76),"P","¡") -> ¡ | O76: =P76 -> 0 | U76: 2 | W76: 4 | X76: 5 | AA76: 8 | AB76: 9 | AD76: 11 | AI76: 16 | AJ76: 17 | AL76: 19 | AP76: 23 | AQ76: 24 | AR76: 25 | AS76: 26 | AT76: 27 | AU76: 28 | AY76: 32 | AZ76: 33 | BA76: 34 | BB76: 35 | BC76: 36
A77: d | C77: Deterioro excesivo de la superficie que impidan la retro visión. | I77: =+$I$69 -> 2 CARROCERIA Y CHASIS | J77: 2.5 Retrovisores exteriores | K77: =+A77 -> d | L77: =+C77 -> Deterioro excesivo de la superficie que impidan la retro visión. | M77: =+IF(N77="O","DG",IF(N77="P","","N/A")) -> N/A | N77: =+IF(OR($T$5=T77,$T$5=U77,$T$5=V77,$T$5=W77,$T$5=X77,$T$5=Y77,$T$5=Z77,$T$5=AA77,$T$5=AB77,$T$5=AC77,$T$5=AD77,$T$5=AE77,$T$5=AF77,$T$5=AG77,$T$5=AH77,$T$5=AI77,$T$5=AJ77,$T$5=AK77,$T$5=AL77,$T$5=AM77,$T$5=AN77,$T$5=AO77,$T$5=AP77,$T$5=AQ77,$T$5=AR77,$T$5=AS77,$T$5=AT77,$T$5=AU77,$T$5=AV77,$T$5=AW77,$T$5=AX77,$T$5=AY77,$T$5=AZ77,$T$5=BA77,$T$5=BB77,$T$5=BC77,$T$5=BD77),"P","¡") -> ¡ | O77: =P77 -> 0 | U77: 2 | W77: 4 | X77: 5 | AA77: 8 | AB77: 9 | AD77: 11 | AI77: 16 | AJ77: 17 | AL77: 19 | AP77: 23 | AQ77: 24 | AR77: 25 | AS77: 26 | AT77: 27 | AU77: 28 | AY77: 32 | AZ77: 33 | BA77: 34 | BB77: 35 | BC77: 36
A78: e | C78: Fijación defectuosa. | I78: =+$I$69 -> 2 CARROCERIA Y CHASIS | J78: 2.5 Retrovisores exteriores | K78: =+A78 -> e | L78: =+C78 -> Fijación defectuosa. | M78: =+IF(N78="O","DL",IF(N78="P","","N/A")) -> N/A | N78: =+IF(OR($T$5=T78,$T$5=U78,$T$5=V78,$T$5=W78,$T$5=X78,$T$5=Y78,$T$5=Z78,$T$5=AA78,$T$5=AB78,$T$5=AC78,$T$5=AD78,$T$5=AE78,$T$5=AF78,$T$5=AG78,$T$5=AH78,$T$5=AI78,$T$5=AJ78,$T$5=AK78,$T$5=AL78,$T$5=AM78,$T$5=AN78,$T$5=AO78,$T$5=AP78,$T$5=AQ78,$T$5=AR78,$T$5=AS78,$T$5=AT78,$T$5=AU78,$T$5=AV78,$T$5=AW78,$T$5=AX78,$T$5=AY78,$T$5=AZ78,$T$5=BA78,$T$5=BB78,$T$5=BC78,$T$5=BD78),"P","¡") -> ¡ | O78: =P78 -> 0 | U78: 2 | W78: 4 | X78: 5 | AA78: 8 | AB78: 9 | AD78: 11 | AI78: 16 | AJ78: 17 | AL78: 19 | AP78: 23 | AQ78: 24 | AR78: 25 | AS78: 26 | AT78: 27 | AU78: 28 | AY78: 32 | AZ78: 33 | BA78: 34 | BB78: 35 | BC78: 36
A79: f | C79: Mal estado de la estructura o fijación defectuosa con riesgo de desprendimiento. | I79: =+$I$69 -> 2 CARROCERIA Y CHASIS | J79: 2.5 Retrovisores exteriores | K79: =+A79 -> f | L79: =+C79 -> Mal estado de la estructura o fijación defectuosa con riesgo de desprendimiento. | M79: =+IF(N79="O","DG",IF(N79="P","","N/A")) -> N/A | N79: =+IF(OR($T$5=T79,$T$5=U79,$T$5=V79,$T$5=W79,$T$5=X79,$T$5=Y79,$T$5=Z79,$T$5=AA79,$T$5=AB79,$T$5=AC79,$T$5=AD79,$T$5=AE79,$T$5=AF79,$T$5=AG79,$T$5=AH79,$T$5=AI79,$T$5=AJ79,$T$5=AK79,$T$5=AL79,$T$5=AM79,$T$5=AN79,$T$5=AO79,$T$5=AP79,$T$5=AQ79,$T$5=AR79,$T$5=AS79,$T$5=AT79,$T$5=AU79,$T$5=AV79,$T$5=AW79,$T$5=AX79,$T$5=AY79,$T$5=AZ79,$T$5=BA79,$T$5=BB79,$T$5=BC79,$T$5=BD79),"P","¡") -> ¡ | O79: =P79 -> 0 | U79: 2 | W79: 4 | X79: 5 | AA79: 8 | AB79: 9 | AD79: 11 | AI79: 16 | AJ79: 17 | AL79: 19 | AP79: 23 | AQ79: 24 | AR79: 25 | AS79: 26 | AT79: 27 | AU79: 28 | AY79: 32 | AZ79: 33 | BA79: 34 | BB79: 35 | BC79: 36
A80: 3 | B80: ACONDICIONAMIENTO INTERIOR
A81: 3.1 | B81: Asientos y sus anclajes
B82: Interpretación de defectos | C82: Lista de defectos | I82: Código | J82: Subcódigo | K82: Índice | L82: Lista de defectos | M82: Gravedad | N82: Condición | O82: Observaciones | P82: Observaciones
A83: a | C83: Asiento con deterioro | I83: 3 ACONDICIONAMIENTO INTERIOR | J83: 3.1 Asientos y sus anclajes | K83: =+A83 -> a | L83: =+C83 -> Asiento con deterioro | M83: =+IF(N83="O","DL",IF(N83="P","","N/A")) -> N/A | N83: =+IF(OR($T$5=T83,$T$5=U83,$T$5=V83,$T$5=W83,$T$5=X83,$T$5=Y83,$T$5=Z83,$T$5=AA83,$T$5=AB83,$T$5=AC83,$T$5=AD83,$T$5=AE83,$T$5=AF83,$T$5=AG83,$T$5=AH83,$T$5=AI83,$T$5=AJ83,$T$5=AK83,$T$5=AL83,$T$5=AM83,$T$5=AN83,$T$5=AO83,$T$5=AP83,$T$5=AQ83,$T$5=AR83,$T$5=AS83,$T$5=AT83,$T$5=AU83,$T$5=AV83,$T$5=AW83,$T$5=AX83,$T$5=AY83,$T$5=AZ83,$T$5=BA83,$T$5=BB83,$T$5=BC83,$T$5=BD83),"P","¡") -> ¡ | O83: =P83 -> 0 | U83: 2 | W83: 4 | X83: 5 | AA83: 8 | AB83: 9 | AD83: 11 | AI83: 16 | AJ83: 17 | AL83: 19 | AP83: 23 | AR83: 25 | AS83: 26 | AT83: 27 | AU83: 28 | AY83: 32 | AZ83: 33 | BA83: 34 | BB83: 35 | BC83: 36
A84: b | C84: Asiento muy deteriorado. | I84: 3 ACONDICIONAMIENTO INTERIOR | J84: 3.1 Asientos y sus anclajes | K84: =+A84 -> b | L84: =+C84 -> Asiento muy deteriorado. | M84: =+IF(N84="O","DG",IF(N84="P","","N/A")) -> N/A | N84: =+IF(OR($T$5=T84,$T$5=U84,$T$5=V84,$T$5=W84,$T$5=X84,$T$5=Y84,$T$5=Z84,$T$5=AA84,$T$5=AB84,$T$5=AC84,$T$5=AD84,$T$5=AE84,$T$5=AF84,$T$5=AG84,$T$5=AH84,$T$5=AI84,$T$5=AJ84,$T$5=AK84,$T$5=AL84,$T$5=AM84,$T$5=AN84,$T$5=AO84,$T$5=AP84,$T$5=AQ84,$T$5=AR84,$T$5=AS84,$T$5=AT84,$T$5=AU84,$T$5=AV84,$T$5=AW84,$T$5=AX84,$T$5=AY84,$T$5=AZ84,$T$5=BA84,$T$5=BB84,$T$5=BC84,$T$5=BD84),"P","¡") -> ¡ | O84: =P84 -> 0 | U84: 2 | W84: 4 | X84: 5 | AA84: 8 | AB84: 9 | AD84: 11 | AI84: 16 | AJ84: 17 | AL84: 19 | AP84: 23 | AR84: 25 | AS84: 26 | AT84: 27 | AU84: 28 | AY84: 32 | AZ84: 33 | BA84: 34 | BB84: 35 | BC84: 36
A85: c | C85: Fijación defectuosa. | I85: 3 ACONDICIONAMIENTO INTERIOR | J85: 3.1 Asientos y sus anclajes | K85: =+A84 -> b | L85: =+C85 -> Fijación defectuosa. | M85: =+IF(N85="O","DL",IF(N85="P","","N/A")) -> N/A | N85: =+IF(OR($T$5=T85,$T$5=U85,$T$5=V85,$T$5=W85,$T$5=X85,$T$5=Y85,$T$5=Z85,$T$5=AA85,$T$5=AB85,$T$5=AC85,$T$5=AD85,$T$5=AE85,$T$5=AF85,$T$5=AG85,$T$5=AH85,$T$5=AI85,$T$5=AJ85,$T$5=AK85,$T$5=AL85,$T$5=AM85,$T$5=AN85,$T$5=AO85,$T$5=AP85,$T$5=AQ85,$T$5=AR85,$T$5=AS85,$T$5=AT85,$T$5=AU85,$T$5=AV85,$T$5=AW85,$T$5=AX85,$T$5=AY85,$T$5=AZ85,$T$5=BA85,$T$5=BB85,$T$5=BC85,$T$5=BD85),"P","¡") -> ¡ | O85: =P85 -> 0 | U85: 2 | W85: 4 | X85: 5 | AA85: 8 | AB85: 9 | AD85: 11 | AI85: 16 | AJ85: 17 | AL85: 19 | AP85: 23 | AR85: 25 | AS85: 26 | AT85: 27 | AU85: 28 | AY85: 32 | AZ85: 33 | BA85: 34 | BB85: 35 | BC85: 36
A86: d | C86: Fijación defectuosa con riesgo de desprendimiento. | I86: 3 ACONDICIONAMIENTO INTERIOR | J86: 3.1 Asientos y sus anclajes | K86: =+A85 -> c | L86: =+C86 -> Fijación defectuosa con riesgo de desprendimiento. | M86: =+IF(N86="O","DG",IF(N86="P","","N/A")) -> N/A | N86: =+IF(OR($T$5=T86,$T$5=U86,$T$5=V86,$T$5=W86,$T$5=X86,$T$5=Y86,$T$5=Z86,$T$5=AA86,$T$5=AB86,$T$5=AC86,$T$5=AD86,$T$5=AE86,$T$5=AF86,$T$5=AG86,$T$5=AH86,$T$5=AI86,$T$5=AJ86,$T$5=AK86,$T$5=AL86,$T$5=AM86,$T$5=AN86,$T$5=AO86,$T$5=AP86,$T$5=AQ86,$T$5=AR86,$T$5=AS86,$T$5=AT86,$T$5=AU86,$T$5=AV86,$T$5=AW86,$T$5=AX86,$T$5=AY86,$T$5=AZ86,$T$5=BA86,$T$5=BB86,$T$5=BC86,$T$5=BD86),"P","¡") -> ¡ | O86: =P86 -> 0 | U86: 2 | W86: 4 | X86: 5 | AA86: 8 | AB86: 9 | AD86: 11 | AI86: 16 | AJ86: 17 | AL86: 19 | AP86: 23 | AR86: 25 | AS86: 26 | AT86: 27 | AU86: 28 | AY86: 32 | AZ86: 33 | BA86: 34 | BB86: 35 | BC86: 36
A87: e | C87: Capacidad de ocupantes distinta a la espesificada por el fabricante | I87: 3 ACONDICIONAMIENTO INTERIOR | J87: 3.1 Asientos y sus anclajes | K87: =+A86 -> d | L87: =+C87 -> Capacidad de ocupantes distinta a la espesificada por el fabricante | M87: =+IF(N87="O","DL",IF(N87="P","","N/A")) -> N/A | N87: =+IF(OR($T$5=T87,$T$5=U87,$T$5=V87,$T$5=W87,$T$5=X87,$T$5=Y87,$T$5=Z87,$T$5=AA87,$T$5=AB87,$T$5=AC87,$T$5=AD87,$T$5=AE87,$T$5=AF87,$T$5=AG87,$T$5=AH87,$T$5=AI87,$T$5=AJ87,$T$5=AK87,$T$5=AL87,$T$5=AM87,$T$5=AN87,$T$5=AO87,$T$5=AP87,$T$5=AQ87,$T$5=AR87,$T$5=AS87,$T$5=AT87,$T$5=AU87,$T$5=AV87,$T$5=AW87,$T$5=AX87,$T$5=AY87,$T$5=AZ87,$T$5=BA87,$T$5=BB87,$T$5=BC87,$T$5=BD87),"P","¡") -> ¡ | O87: =P87 -> 0 | U87: 2 | W87: 4 | X87: 5 | AA87: 8 | AB87: 9 | AD87: 11 | AI87: 16 | AJ87: 17 | AL87: 19 | AP87: 23 | AR87: 25 | AS87: 26 | AT87: 27 | AU87: 28 | AY87: 32 | AZ87: 33 | BA87: 34 | BB87: 35 | BC87: 36
A88: f | C88: Mecanismos de ajuste que no permiten la fijación (según aplique). | I88: 3 ACONDICIONAMIENTO INTERIOR | J88: 3.1 Asientos y sus anclajes | K88: =+A87 -> e | L88: =+C88 -> Mecanismos de ajuste que no permiten la fijación (según aplique). | M88: =+IF(N88="O","DL",IF(N88="P","","N/A")) -> N/A | N88: =+IF(OR($T$5=T88,$T$5=U88,$T$5=V88,$T$5=W88,$T$5=X88,$T$5=Y88,$T$5=Z88,$T$5=AA88,$T$5=AB88,$T$5=AC88,$T$5=AD88,$T$5=AE88,$T$5=AF88,$T$5=AG88,$T$5=AH88,$T$5=AI88,$T$5=AJ88,$T$5=AK88,$T$5=AL88,$T$5=AM88,$T$5=AN88,$T$5=AO88,$T$5=AP88,$T$5=AQ88,$T$5=AR88,$T$5=AS88,$T$5=AT88,$T$5=AU88,$T$5=AV88,$T$5=AW88,$T$5=AX88,$T$5=AY88,$T$5=AZ88,$T$5=BA88,$T$5=BB88,$T$5=BC88,$T$5=BD88),"P","¡") -> ¡ | O88: =P88 -> 0 | U88: 2 | W88: 4 | X88: 5 | AA88: 8 | AB88: 9 | AD88: 11 | AI88: 16 | AJ88: 17 | AL88: 19 | AP88: 23 | AR88: 25 | AS88: 26 | AT88: 27 | AU88: 28 | AY88: 32 | AZ88: 33 | BA88: 34 | BB88: 35 | BC88: 36
A89: 3.2 | B89: Cinturones de seguridad y sus anclajes
B90: Interpretación de defectos | C90: Lista de defectos | I90: Código | J90: Subcódigo | K90: Índice | L90: Lista de defectos | M90: Gravedad | N90: Condición | O90: Observaciones | P90: Observaciones
A91: a | C91: Inexistencia de algún cinturón | I91: =+$I$83 -> 3 ACONDICIONAMIENTO INTERIOR | J91: 3.2 Cinturones de seguridad y sus anclajes | K91: =+A91 -> a | L91: =+C91 -> Inexistencia de algún cinturón | M91: =+IF(N91="O","DG",IF(N91="P","","N/A")) -> N/A | N91: =+IF(OR($T$5=T91,$T$5=U91,$T$5=V91,$T$5=W91,$T$5=X91,$T$5=Y91,$T$5=Z91,$T$5=AA91,$T$5=AB91,$T$5=AC91,$T$5=AD91,$T$5=AE91,$T$5=AF91,$T$5=AG91,$T$5=AH91,$T$5=AI91,$T$5=AJ91,$T$5=AK91,$T$5=AL91,$T$5=AM91,$T$5=AN91,$T$5=AO91,$T$5=AP91,$T$5=AQ91,$T$5=AR91,$T$5=AS91,$T$5=AT91,$T$5=AU91,$T$5=AV91,$T$5=AW91,$T$5=AX91,$T$5=AY91,$T$5=AZ91,$T$5=BA91,$T$5=BB91,$T$5=BC91,$T$5=BD91),"P","¡") -> ¡ | O91: =P91 -> 0 | U91: 2 | W91: 4 | X91: 5 | AA91: 8 | AB91: 9 | AD91: 11 | AI91: 16 | AJ91: 17 | AL91: 19 | AP91: 23 | AR91: 25 | AS91: 26 | AT91: 27 | AU91: 28 | AY91: 32 | AZ91: 33 | BA91: 34 | BB91: 35 | BC91: 36
A92: b | C92: Defectos de estado en las bandas de cinturones | I92: =+$I$83 -> 3 ACONDICIONAMIENTO INTERIOR | J92: 3.2 Cinturones de seguridad y sus anclajes | K92: =+A92 -> b | L92: =+C92 -> Defectos de estado en las bandas de cinturones | M92: =+IF(N92="O","DL",IF(N92="P","","N/A")) -> N/A | N92: =+IF(OR($T$5=T92,$T$5=U92,$T$5=V92,$T$5=W92,$T$5=X92,$T$5=Y92,$T$5=Z92,$T$5=AA92,$T$5=AB92,$T$5=AC92,$T$5=AD92,$T$5=AE92,$T$5=AF92,$T$5=AG92,$T$5=AH92,$T$5=AI92,$T$5=AJ92,$T$5=AK92,$T$5=AL92,$T$5=AM92,$T$5=AN92,$T$5=AO92,$T$5=AP92,$T$5=AQ92,$T$5=AR92,$T$5=AS92,$T$5=AT92,$T$5=AU92,$T$5=AV92,$T$5=AW92,$T$5=AX92,$T$5=AY92,$T$5=AZ92,$T$5=BA92,$T$5=BB92,$T$5=BC92,$T$5=BD92),"P","¡") -> ¡ | O92: =P92 -> 0 | U92: 2 | W92: 4 | X92: 5 | AA92: 8 | AB92: 9 | AD92: 11 | AI92: 16 | AJ92: 17 | AL92: 19 | AP92: 23 | AR92: 25 | AS92: 26 | AT92: 27 | AU92: 28 | AY92: 32 | AZ92: 33 | BA92: 34 | BB92: 35 | BC92: 36
A93: c | C93: Defectos de estado de los anclajes y trancas | I93: =+$I$83 -> 3 ACONDICIONAMIENTO INTERIOR | J93: 3.2 Cinturones de seguridad y sus anclajes | K93: =+A93 -> c | L93: =+C93 -> Defectos de estado de los anclajes y trancas | M93: =+IF(N93="O","DL",IF(N93="P","","N/A")) -> N/A | N93: =+IF(OR($T$5=T93,$T$5=U93,$T$5=V93,$T$5=W93,$T$5=X93,$T$5=Y93,$T$5=Z93,$T$5=AA93,$T$5=AB93,$T$5=AC93,$T$5=AD93,$T$5=AE93,$T$5=AF93,$T$5=AG93,$T$5=AH93,$T$5=AI93,$T$5=AJ93,$T$5=AK93,$T$5=AL93,$T$5=AM93,$T$5=AN93,$T$5=AO93,$T$5=AP93,$T$5=AQ93,$T$5=AR93,$T$5=AS93,$T$5=AT93,$T$5=AU93,$T$5=AV93,$T$5=AW93,$T$5=AX93,$T$5=AY93,$T$5=AZ93,$T$5=BA93,$T$5=BB93,$T$5=BC93,$T$5=BD93),"P","¡") -> ¡ | O93: =P93 -> 0 | U93: 2 | W93: 4 | X93: 5 | AA93: 8 | AB93: 9 | AD93: 11 | AI93: 16 | AJ93: 17 | AL93: 19 | AP93: 23 | AR93: 25 | AS93: 26 | AT93: 27 | AU93: 28 | AY93: 32 | AZ93: 33 | BA93: 34 | BB93: 35 | BC93: 36
A94: d | C94: Defectos de estado en las bandas con peligro de rotura | I94: =+$I$83 -> 3 ACONDICIONAMIENTO INTERIOR | J94: 3.2 Cinturones de seguridad y sus anclajes | K94: =+A94 -> d | L94: =+C94 -> Defectos de estado en las bandas con peligro de rotura | M94: =+IF(N94="O","DG",IF(N94="P","","N/A")) -> N/A | N94: =+IF(OR($T$5=T94,$T$5=U94,$T$5=V94,$T$5=W94,$T$5=X94,$T$5=Y94,$T$5=Z94,$T$5=AA94,$T$5=AB94,$T$5=AC94,$T$5=AD94,$T$5=AE94,$T$5=AF94,$T$5=AG94,$T$5=AH94,$T$5=AI94,$T$5=AJ94,$T$5=AK94,$T$5=AL94,$T$5=AM94,$T$5=AN94,$T$5=AO94,$T$5=AP94,$T$5=AQ94,$T$5=AR94,$T$5=AS94,$T$5=AT94,$T$5=AU94,$T$5=AV94,$T$5=AW94,$T$5=AX94,$T$5=AY94,$T$5=AZ94,$T$5=BA94,$T$5=BB94,$T$5=BC94,$T$5=BD94),"P","¡") -> ¡ | O94: =P94 -> 0 | U94: 2 | W94: 4 | X94: 5 | AA94: 8 | AB94: 9 | AD94: 11 | AI94: 16 | AJ94: 17 | AL94: 19 | AP94: 23 | AR94: 25 | AS94: 26 | AT94: 27 | AU94: 28 | AY94: 32 | AZ94: 33 | BA94: 34 | BB94: 35 | BC94: 36
A95: e | C95: Defectos de estado en el sistema de tranca de los aclajes no funciona correctamente | I95: =+$I$83 -> 3 ACONDICIONAMIENTO INTERIOR | J95: 3.2 Cinturones de seguridad y sus anclajes | K95: =+A95 -> e | L95: =+C95 -> Defectos de estado en el sistema de tranca de los aclajes no funciona correctamente | M95: =+IF(N95="O","DG",IF(N95="P","","N/A")) -> N/A | N95: =+IF(OR($T$5=T95,$T$5=U95,$T$5=V95,$T$5=W95,$T$5=X95,$T$5=Y95,$T$5=Z95,$T$5=AA95,$T$5=AB95,$T$5=AC95,$T$5=AD95,$T$5=AE95,$T$5=AF95,$T$5=AG95,$T$5=AH95,$T$5=AI95,$T$5=AJ95,$T$5=AK95,$T$5=AL95,$T$5=AM95,$T$5=AN95,$T$5=AO95,$T$5=AP95,$T$5=AQ95,$T$5=AR95,$T$5=AS95,$T$5=AT95,$T$5=AU95,$T$5=AV95,$T$5=AW95,$T$5=AX95,$T$5=AY95,$T$5=AZ95,$T$5=BA95,$T$5=BB95,$T$5=BC95,$T$5=BD95),"P","¡") -> ¡ | O95: =P95 -> 0 | U95: 2 | W95: 4 | X95: 5 | AA95: 8 | AB95: 9 | AD95: 11 | AI95: 16 | AJ95: 17 | AL95: 19 | AP95: 23 | AR95: 25 | AS95: 26 | AT95: 27 | AU95: 28 | AY95: 32 | AZ95: 33 | BA95: 34 | BB95: 35 | BC95: 36
A96: 3.3 | B96: Indicador de Velocidad y/o Horómetro
B97: Interpretación de defectos | C97: Lista de defectos | I97: Código | J97: Subcódigo | K97: Índice | L97: Lista de defectos | M97: Gravedad | N97: Condición | O97: Observaciones | P97: Observaciones
A98: a | C98: Inexistencia del velocímetro (si el equipo cuenta con este de fabricación) | I98: =+$I$91 -> 3 ACONDICIONAMIENTO INTERIOR | J98: 3.3 Indicador de Velocidad y Horómetro | K98: =+A98 -> a | L98: =+C98 -> Inexistencia del velocímetro (si el equipo cuenta con este de fabricación) | M98: =+IF(N98="O","DG",IF(N98="P","","N/A")) | N98: =+IF(OR($T$5=T98,$T$5=U98,$T$5=V98,$T$5=W98,$T$5=X98,$T$5=Y98,$T$5=Z98,$T$5=AA98,$T$5=AB98,$T$5=AC98,$T$5=AD98,$T$5=AE98,$T$5=AF98,$T$5=AG98,$T$5=AH98,$T$5=AI98,$T$5=AJ98,$T$5=AK98,$T$5=AL98,$T$5=AM98,$T$5=AN98,$T$5=AO98,$T$5=AP98,$T$5=AQ98,$T$5=AR98,$T$5=AS98,$T$5=AT98,$T$5=AU98,$T$5=AV98,$T$5=AW98,$T$5=AX98,$T$5=AY98,$T$5=AZ98,$T$5=BA98,$T$5=BB98,$T$5=BC98,$T$5=BD98),"P","¡") -> P | O98: =P98 -> 0 | T98: 1 | U98: 2 | V98: 3 | W98: 4 | X98: 5 | AA98: 8 | AB98: 9 | AD98: 11 | AE98: 12 | AI98: 16 | AJ98: 17 | AL98: 19 | AM98: 20 | AO98: 22 | AP98: 23 | AQ98: 24 | AR98: 25 | AS98: 26 | AT98: 27 | AU98: 28 | AY98: 32 | AZ98: 33 | BA98: 34 | BB98: 35 | BC98: 36
A99: b | C99: Defectos de estado de los componentes que no afecten su funcionamiento | I99: =+$I$91 -> 3 ACONDICIONAMIENTO INTERIOR | J99: 3.3 Indicador de Velocidad y Horómetro | K99: =+A99 -> b | L99: =+C99 -> Defectos de estado de los componentes que no afecten su funcionamiento | M99: =+IF(N99="O","DL",IF(N99="P","","N/A")) | N99: =+IF(OR($T$5=T99,$T$5=U99,$T$5=V99,$T$5=W99,$T$5=X99,$T$5=Y99,$T$5=Z99,$T$5=AA99,$T$5=AB99,$T$5=AC99,$T$5=AD99,$T$5=AE99,$T$5=AF99,$T$5=AG99,$T$5=AH99,$T$5=AI99,$T$5=AJ99,$T$5=AK99,$T$5=AL99,$T$5=AM99,$T$5=AN99,$T$5=AO99,$T$5=AP99,$T$5=AQ99,$T$5=AR99,$T$5=AS99,$T$5=AT99,$T$5=AU99,$T$5=AV99,$T$5=AW99,$T$5=AX99,$T$5=AY99,$T$5=AZ99,$T$5=BA99,$T$5=BB99,$T$5=BC99,$T$5=BD99),"P","¡") -> P | O99: =P99 -> 0 | T99: 1 | U99: 2 | V99: 3 | W99: 4 | X99: 5 | AA99: 8 | AB99: 9 | AD99: 11 | AE99: 12 | AI99: 16 | AJ99: 17 | AL99: 19 | AM99: 20 | AO99: 22 | AP99: 23 | AQ99: 24 | AR99: 25 | AS99: 26 | AT99: 27 | AU99: 28 | AY99: 32 | AZ99: 33 | BA99: 34 | BB99: 35 | BC99: 36
A100: c | C100: Defectos de estado de los componentes que afecten su funcionamiento | I100: =+$I$91 -> 3 ACONDICIONAMIENTO INTERIOR | J100: 3.3 Indicador de Velocidad y Horómetro | K100: =+A100 -> c | L100: =+C100 -> Defectos de estado de los componentes que afecten su funcionamiento | M100: =+IF(N100="O","DL",IF(N100="P","","N/A")) | N100: =+IF(OR($T$5=T100,$T$5=U100,$T$5=V100,$T$5=W100,$T$5=X100,$T$5=Y100,$T$5=Z100,$T$5=AA100,$T$5=AB100,$T$5=AC100,$T$5=AD100,$T$5=AE100,$T$5=AF100,$T$5=AG100,$T$5=AH100,$T$5=AI100,$T$5=AJ100,$T$5=AK100,$T$5=AL100,$T$5=AM100,$T$5=AN100,$T$5=AO100,$T$5=AP100,$T$5=AQ100,$T$5=AR100,$T$5=AS100,$T$5=AT100,$T$5=AU100,$T$5=AV100,$T$5=AW100,$T$5=AX100,$T$5=AY100,$T$5=AZ100,$T$5=BA100,$T$5=BB100,$T$5=BC100,$T$5=BD100),"P","¡") -> P | O100: =P100 -> 0 | T100: 1 | U100: 2 | V100: 3 | W100: 4 | X100: 5 | AA100: 8 | AB100: 9 | AD100: 11 | AE100: 12 | AI100: 16 | AJ100: 17 | AL100: 19 | AM100: 20 | AO100: 22 | AP100: 23 | AQ100: 24 | AR100: 25 | AS100: 26 | AT100: 27 | AU100: 28 | AY100: 32 | AZ100: 33 | BA100: 34 | BB100: 35 | BC100: 36
A101: d | C101: Lectura de horómetro igual o no coincide con respecto a la registrada en la inspección anterior | I101: =+$I$91 -> 3 ACONDICIONAMIENTO INTERIOR | J101: 3.3 Indicador de Velocidad y Horómetro | K101: =+A101 -> d | L101: =+C101 -> Lectura de horómetro igual o no coincide con respecto a la registrada en la inspección anterior | M101: =+IF(N101="O","DL",IF(N101="P","","N/A")) | N101: =+IF(OR($T$5=T101,$T$5=U101,$T$5=V101,$T$5=W101,$T$5=X101,$T$5=Y101,$T$5=Z101,$T$5=AA101,$T$5=AB101,$T$5=AC101,$T$5=AD101,$T$5=AE101,$T$5=AF101,$T$5=AG101,$T$5=AH101,$T$5=AI101,$T$5=AJ101,$T$5=AK101,$T$5=AL101,$T$5=AM101,$T$5=AN101,$T$5=AO101,$T$5=AP101,$T$5=AQ101,$T$5=AR101,$T$5=AS101,$T$5=AT101,$T$5=AU101,$T$5=AV101,$T$5=AW101,$T$5=AX101,$T$5=AY101,$T$5=AZ101,$T$5=BA101,$T$5=BB101,$T$5=BC101,$T$5=BD101),"P","¡") -> P | O101: =P101 -> 0 | T101: 1 | U101: 2 | V101: 3 | W101: 4 | X101: 5 | AA101: 8 | AB101: 9 | AD101: 11 | AE101: 12 | AI101: 16 | AJ101: 17 | AL101: 19 | AM101: 20 | AO101: 22 | AP101: 23 | AQ101: 24 | AR101: 25 | AS101: 26 | AT101: 27 | AU101: 28 | AY101: 32 | AZ101: 33 | BA101: 34 | BB101: 35 | BC101: 36
...

Sheet Certificado
A1: #VALUE! | D1: SISTEMA DE GESTIÓN DE CALIDAD | P1: Código: F-140-1
D2: INFORME DE INSPECCIÓN TÉCNICA DE EQUIPOS Y VEHÍCULOS QUE INGRESAN AL LADO AÉREO | P2: Versión: 4
P3: Página: 11 de 12
A5: CERTIFICADO DE LA INSPECCIÓN TÉCNICA
A7: Número de equipo: | D7: Tipo de equipo: | J7: Categoría: | O7: Número de Revisión:
A8: =+'Formulario de Inspección'!A5 -> 0 | D8: =+'Formulario de Inspección'!D5 -> Aire acondicionado | J8: =+'Formulario de Inspección'!H5 -> 0 | O8: =+'Formulario de Inspección'!R5 -> 0
A9: Marca: | D9: Modelo: | J9: Año Modelo: | M9: Antigüedad: | O9: Empresa GSE propietaria del equipo:
A10: =+'Formulario de Inspección'!A7 -> Desconocida | D10: =+'Formulario de Inspección'!D7 -> Desconocido | J10: =+'Formulario de Inspección'!H7 -> Desconocido | M10: =+'Formulario de Inspección'!P7 -> Desconocido | O10: =+'Formulario de Inspección'!R7 -> 0
A11: Fecha de la revisión: | D11: Motivo de la revisión: | J11: Fecha máxima para la reinspección: | M11: Número de revisión anterior: | O11: Fecha en que se genera el Informe:
A12: =+'Formulario de Inspección'!A9 -> 0 | D12: =+'Formulario de Inspección'!D9 -> INSPECCION ANUAL | J12: =+'Formulario de Inspección'!H9 -> N/A | M12: =+'Formulario de Inspección'!P9 -> N/A | O12: =+'Formulario de Inspección'!R9 -> 0
A14: Código | C14: Subcódigo | E14: Índice | F14: Defecto | M14: Gravedad | O14: Observaciones
A15: =+Dinamica!A4 -> 0 | C15: =+Dinamica!B4 -> 0 | E15: =+Dinamica!C4 -> 0 | F15: =+Dinamica!D4 -> 0 | M15: =+Dinamica!E4 -> 0 | O15: =+Dinamica!F4 -> 0
A16: =+Dinamica!A5 -> 0 | C16: =+Dinamica!B5 -> 0 | E16: =+Dinamica!C5 -> 0 | F16: =+Dinamica!D5 -> 0 | M16: =+Dinamica!E5 -> 0 | O16: =+Dinamica!F5 -> 0
A17: =+Dinamica!A6 -> 0 | C17: =+Dinamica!B6 -> 0 | E17: =+Dinamica!C6 -> 0 | F17: =+Dinamica!D6 -> 0 | M17: =+Dinamica!E6 -> 0 | O17: =+Dinamica!F6 -> 0
A18: =+Dinamica!A7 -> 0 | C18: =+Dinamica!B7 -> 0 | E18: =+Dinamica!C7 -> 0 | F18: =+Dinamica!D7 -> 0 | M18: =+Dinamica!E7 -> 0 | O18: =+Dinamica!F7 -> 0
A19: =+Dinamica!A8 -> 0 | C19: =+Dinamica!B8 -> 0 | E19: =+Dinamica!C8 -> 0 | F19: =+Dinamica!D8 -> 0 | M19: =+Dinamica!E8 -> 0 | O19: =+Dinamica!F8 -> 0
A20: =+Dinamica!A9 -> 0 | C20: =+Dinamica!B9 -> 0 | E20: =+Dinamica!C9 -> 0 | F20: =+Dinamica!D9 -> 0 | M20: =+Dinamica!E9 -> 0 | O20: =+Dinamica!F9 -> 0
A21: =+Dinamica!A10 -> 0 | C21: =+Dinamica!B10 -> 0 | E21: =+Dinamica!C10 -> 0 | F21: =+Dinamica!D10 -> 0 | M21: =+Dinamica!E10 -> 0 | O21: =+Dinamica!F10 -> 0
A22: =+Dinamica!A11 -> 0 | C22: =+Dinamica!B11 -> 0 | E22: =+Dinamica!C11 -> 0 | F22: =+Dinamica!D11 -> 0 | M22: =+Dinamica!E11 -> 0 | O22: =+Dinamica!F11 -> 0
A23: =+Dinamica!A12 -> 0 | C23: =+Dinamica!B12 -> 0 | E23: =+Dinamica!C12 -> 0 | F23: =+Dinamica!D12 -> 0 | M23: =+Dinamica!E12 -> 0 | O23: =+Dinamica!F12 -> 0
A24: =+Dinamica!A13 -> 0 | C24: =+Dinamica!B13 -> 0 | E24: =+Dinamica!C13 -> 0 | F24: =+Dinamica!D13 -> 0 | M24: =+Dinamica!E13 -> 0 | O24: =+Dinamica!F13 -> 0
A25: =+Dinamica!A14 -> 0 | C25: =+Dinamica!B14 -> 0 | E25: =+Dinamica!C14 -> 0 | F25: =+Dinamica!D14 -> 0 | M25: =+Dinamica!E14 -> 0 | O25: =+Dinamica!F14 -> 0
A26: =+Dinamica!A15 -> 0 | C26: =+Dinamica!B15 -> 0 | E26: =+Dinamica!C15 -> 0 | F26: =+Dinamica!D15 -> 0 | M26: =+Dinamica!E15 -> 0 | O26: =+Dinamica!F15 -> 0
... A38: =+Dinamica!A27 -> 0 | C38: =+Dinamica!B27 -> 0 | E38: =+Dinamica!C27 -> 0 | F38: =+Dinamica!D27 -> 0 | M38: =+Dinamica!E27 -> 0 | O38: =+Dinamica!F27 -> 0
A39: =+'Formulario de Inspección'!M504 -> Compromiso de confidencialidad:
A40: ='Formulario de Inspección'!M505 -> “La Unidad de Supervisión de Proveedores de Servicios de Asistencia Técnica en Tierra de Aeris Holding Costa Rica, S.A, declara su responsabilidad de gestionar como información confidencial, la información obtenida o generada durante la realización de las actividades de inspección, y/o obtenida producto de denuncias de terceros. Se excluye del alcance de esta obligación los casos en que deba procederse con la divulgación de esta información en razón de requerimientos judiciales y/o administrativos emanados de autoridad competente, y/o obligaciones contractuales adquiridas con el Consejo Técnico de Aviación Civil.”
A42: Resultado de la Inspección: | D42: Nota 1: | G42: Nota 2: | J42: En caso de ser favorable:
A43: =+'Formulario de Inspección'!C498 -> FAVORABLE | D43: Este Certificado no debe reproducirse parcial o totalmente sin autorización del Organismo de Inspección. | G43: De requerirlo, el propietario del equipo inspeccionado puede solicitar el Informe de Inspección al Organismo de Inspección . | J43: Número de marchamo colocado | M43: Número de marchamo anterior | P43: Inspección valida hasta:
J44: =+'Formulario de Inspección'!S499 -> N/A | M44: =+'Formulario de Inspección'!S501 -> N/A | P44: =+'Formulario de Inspección'!P499 -> N/A | R44: =+'Formulario de Inspección'!R499 -> N/A
A46: Nombre del Encargado Técnico | E46: Nombre del inspector: | J46: Equipos de medición utilizados en la inspección
A47: =+IF(OR($E$47=Referencias!A2),"Andrés Bonilla Sánchez","William Ramírez Chavarría") -> William Ramírez Chavarría | D47: =+IF(OR($A$47=Referencias!A2),"Titular","Suplente 1") -> Titular | E47: =+'Formulario de Inspección'!H514 -> 0 | J47: =+'Formulario de Inspección'!A511 -> N/A | K47: =+'Formulario de Inspección'!C511 -> N/A | L47: =+'Formulario de Inspección'!E511 -> N/A | M47: =+'Formulario de Inspección'!F511 -> N/A | N47: =+'Formulario de Inspección'!H511 -> N/A | O47: =+'Formulario de Inspección'!P511 -> N/A | P47: =+'Formulario de Inspección'!R511 -> N/A | Q47: =+'Formulario de Inspección'!S511 -> N/A | R47: =+'Formulario de Inspección'!T511 -> 0

Sheet Certificado 2
A1: #VALUE! | D1: SISTEMA DE GESTIÓN DE CALIDAD | P1: Código: F-140-1
D2: INFORME DE INSPECCIÓN TÉCNICA DE EQUIPOS Y VEHÍCULOS QUE INGRESAN AL LADO AÉREO | P2: Versión: 4
P3: Página: 12 de 12
A5: CERTIFICADO DE LA INSPECCIÓN TÉCNICA
A7: Número de equipo: | D7: Tipo de equipo: | J7: Categoría: | O7: Número de Revisión:
A8: =+'Formulario de Inspección'!A5 -> 0 | D8: =+'Formulario de Inspección'!D5 -> Aire acondicionado | J8: =+'Formulario de Inspección'!H5 -> 0 | O8: =+'Formulario de Inspección'!R5 -> 0
A9: Marca: | D9: Modelo: | J9: Año Modelo: | M9: Antigüedad: | O9: Empresa GSE propietaria del equipo:
A10: =+'Formulario de Inspección'!A7 -> Desconocida | D10: =+'Formulario de Inspección'!D7 -> Desconocido | J10: =+'Formulario de Inspección'!H7 -> Desconocido | M10: =+'Formulario de Inspección'!P7 -> Desconocido | O10: =+'Formulario de Inspección'!R7 -> 0
A11: Fecha de la revisión: | D11: Motivo de la revisión: | J11: Fecha máxima para la reinspección: | M11: Número de revisión anterior: | O11: Fecha en que se genera el Informe:
A12: =+'Formulario de Inspección'!A9 -> 0 | D12: =+'Formulario de Inspección'!D9 -> INSPECCION ANUAL | J12: =+'Formulario de Inspección'!H9 -> N/A | M12: =+'Formulario de Inspección'!P9 -> N/A | O12: =+'Formulario de Inspección'!R9 -> 0
A14: Código | C14: Subcódigo | E14: Índice | F14: Defecto | M14: Gravedad | O14: Observaciones
A15: =+Dinamica!A28 -> 0 | C15: =+Dinamica!B28 -> 0 | E15: =+Dinamica!C28 -> 0 | F15: =+Dinamica!D28 -> 0 | M15: =+Dinamica!E28 -> 0 | O15: =+Dinamica!F28 -> 0
A16: =+Dinamica!A29 -> 0 | C16: =+Dinamica!B29 -> 0 | E16: =+Dinamica!C29 -> 0 | F16: =+Dinamica!D29 -> 0 | M16: =+Dinamica!E29 -> 0 | O16: =+Dinamica!F29 -> 0
A17: =+Dinamica!A30 -> 0 | C17: =+Dinamica!B30 -> 0 | E17: =+Dinamica!C30 -> 0 | F17: =+Dinamica!D30 -> 0 | M17: =+Dinamica!E30 -> 0 | O17: =+Dinamica!F30 -> 0
A18: =+Dinamica!A31 -> 0 | C18: =+Dinamica!B31 -> 0 | E18: =+Dinamica!C31 -> 0 | F18: =+Dinamica!D31 -> 0 | M18: =+Dinamica!E31 -> 0 | O18: =+Dinamica!F31 -> 0
A19: =+Dinamica!A32 -> 0 | C19: =+Dinamica!B32 -> 0 | E19: =+Dinamica!C32 -> 0 | F19: =+Dinamica!D32 -> 0 | M19: =+Dinamica!E32 -> 0 | O19: =+Dinamica!F32 -> 0
A20: =+Dinamica!A33 -> 0 | C20: =+Dinamica!B33 -> 0 | E20: =+Dinamica!C33 -> 0 | F20: =+Dinamica!D33 -> 0 | M20: =+Dinamica!E33 -> 0 | O20: =+Dinamica!F33 -> 0
A21: =+Dinamica!A34 -> 0 | C21: =+Dinamica!B34 -> 0 | E21: =+Dinamica!C34 -> 0 | F21: =+Dinamica!D34 -> 0 | M21: =+Dinamica!E34 -> 0 | O21: =+Dinamica!F34 -> 0
A22: =+Dinamica!A35 -> 0 | C22: =+Dinamica!B35 -> 0 | E22: =+Dinamica!C35 -> 0 | F22: =+Dinamica!D35 -> 0 | M22: =+Dinamica!E35 -> 0 | O22: =+Dinamica!F35 -> 0
A23: =+Dinamica!A36 -> 0 | C23: =+Dinamica!B36 -> 0 | E23: =+Dinamica!C36 -> 0 | F23: =+Dinamica!D36 -> 0 | M23: =+Dinamica!E36 -> 0 | O23: =+Dinamica!F36 -> 0
A24: =+Dinamica!A37 -> 0 | C24: =+Dinamica!B37 -> 0 | E24: =+Dinamica!C37 -> 0 | F24: =+Dinamica!D37 -> 0 | M24: =+Dinamica!E37 -> 0 | O24: =+Dinamica!F37 -> 0
A25: =+Dinamica!A38 -> 0 | C25: =+Dinamica!B38 -> 0 | E25: =+Dinamica!C38 -> 0 | F25: =+Dinamica!D38 -> 0 | M25: =+Dinamica!E38 -> 0 | O25: =+Dinamica!F38 -> 0
A26: =+Dinamica!A39 -> 0 | C26: =+Dinamica!B39 -> 0 | E26: =+Dinamica!C39 -> 0 | F26: =+Dinamica!D39 -> 0 | M26: =+Dinamica!E39 -> 0 | O26: =+Dinamica!F39 -> 0
... A38: =+Dinamica!A51 -> 0 | C38: =+Dinamica!B51 -> 0 | E38: =+Dinamica!C51 -> 0 | F38: =+Dinamica!D51 -> 0 | M38: =+Dinamica!E51 -> 0 | O38: =+Dinamica!F51 -> 0
A39: =+'Formulario de Inspección'!M504 -> Compromiso de confidencialidad:
A40: ='Formulario de Inspección'!M505 -> “La Unidad de Supervisión de Proveedores de Servicios de Asistencia Técnica en Tierra de Aeris Holding Costa Rica, S.A, declara su responsabilidad de gestionar como información confidencial, la información obtenida o generada durante la realización de las actividades de inspección, y/o obtenida producto de denuncias de terceros. Se excluye del alcance de esta obligación los casos en que deba procederse con la divulgación de esta información en razón de requerimientos judiciales y/o administrativos emanados de autoridad competente, y/o obligaciones contractuales adquiridas con el Consejo Técnico de Aviación Civil.”
A42: Resultado de la Inspección: | D42: Nota 1: | G42: Nota 2: | J42: En caso de ser favorable:
A43: =+'Formulario de Inspección'!C498 -> FAVORABLE | D43: Este Certificado no debe reproducirse parcial o totalmente sin autorización del Organismo de Inspección. | G43: De requerirlo, el propietario del equipo inspeccionado puede solicoitar el Informe de Inspección al Organismo de Inspección . | J43: Número de marchamo colocado | M43: Número de marchamo anterior | P43: Inspección valida hasta:
J44: =+'Formulario de Inspección'!S499 -> N/A | M44: =+'Formulario de Inspección'!S501 -> N/A | P44: =+'Formulario de Inspección'!P499 -> N/A | R44: =+'Formulario de Inspección'!R499 -> N/A
A46: Nombre Gerente Técnico | E46: Nombre del inspector: | J46: Equipos de medición utilizados en la inspección
A47: =+IF(OR($E$47=Referencias!A2),"Andrés Bonilla Sánchez","William Ramírez Chavarría") -> William Ramírez Chavarría | D47: =+IF(OR($A$47=Referencias!A2),"Titular","Suplente 1") -> Titular | E47: =+'Formulario de Inspección'!H514 -> 0 | J47: =+'Formulario de Inspección'!A511 -> N/A | K47: =+'Formulario de Inspección'!C511 -> N/A | L47: =+'Formulario de Inspección'!E511 -> N/A | M47: =+'Formulario de Inspección'!F511 -> N/A | N47: =+'Formulario de Inspección'!H511 -> N/A | O47: =+'Formulario de Inspección'!P511 -> N/A | P47: =+'Formulario de Inspección'!R511 -> N/A

Sheet Dinamica
A1: Condición | B1: (Varios elementos)
A3: Código | B3: Subcódigo | C3: Índice | D3: Lista de defectos | E3: Gravedad | F3: Observaciones

Sheet Resumen
A1: Número de Revisión: | B1: Número de equipo: | C1: Tipo de equipo: | D1: Categoría: | E1: Marca: | F1: Modelo: | G1: Año Modelo: | H1: Antigüedad: | I1: Empresa GSE propietaria del equipo: | J1: Fecha de la revisión: | K1: Motivo de la revisión: | L1: Fecha máxima para la reinspección: | M1: Número de revisión anterior (S/A): | N1: Fecha en que se genera el Informe: | O1: Código o subcódigo | P1: Índice | Q1: Lista de defectos | R1: Gravedad | S1: Condición | T1: Observaciones | U1: Resultado de la Inspección: | V1: Valida hasta: | X1: Número de marchamo | Y1: Nombre del inspector:
A2: =+'Formulario de Inspección'!$R$5 -> 0 | B2: ='Formulario de Inspección'!$A$5 -> 0 | C2: =+'Formulario de Inspección'!$D$5 -> Aire acondicionado | D2: =+'Formulario de Inspección'!$H$5 -> 0 | E2: =+'Formulario de Inspección'!$A$7 -> Desconocida | F2: =+'Formulario de Inspección'!$D$7 -> Desconocido | G2: =+'Formulario de Inspección'!$H$7 -> Desconocido | H2: =+'Formulario de Inspección'!$P$7 -> Desconocido | I2: =+'Formulario de Inspección'!$R$7 -> 0 | J2: =+'Formulario de Inspección'!$A$9 -> 0 | K2: =+'Formulario de Inspección'!$D$9 -> INSPECCION ANUAL | L2: =+'Formulario de Inspección'!$H$9 -> N/A | M2: =+'Formulario de Inspección'!$P$9 -> N/A | N2: =+'Formulario de Inspección'!$R$9 -> 0 | O2: 1 IDENTIFICACION | P2: =+'Lista de defectos'!D2 -> #REF! | Q2: =+'Lista de defectos'!G2 -> #REF! | R2: =+'Lista de defectos'!F2 -> DG | S2: ='Formulario de Inspección'!#REF! -> #REF! | T2: ='Formulario de Inspección'!#REF! -> #REF! | U2: =+'Formulario de Inspección'!$C$498 -> FAVORABLE | V2: =+'Formulario de Inspección'!$P$499 -> N/A | W2: =+'Formulario de Inspección'!$R$499 -> N/A | X2: =+'Formulario de Inspección'!$S$499 -> N/A | Y2: =+'Formulario de Inspección'!$H$514 -> 0
A3: =+'Formulario de Inspección'!$R$5 -> 0 | B3: ='Formulario de Inspección'!$A$5 -> 0 | C3: =+'Formulario de Inspección'!$D$5 -> Aire acondicionado | D3: =+'Formulario de Inspección'!$H$5 -> 0 | E3: =+'Formulario de Inspección'!$A$7 -> Desconocida | F3: =+'Formulario de Inspección'!$D$7 -> Desconocido | G3: =+'Formulario de Inspección'!$H$7 -> Desconocido | H3: =+'Formulario de Inspección'!$P$7 -> Desconocido | I3: =+'Formulario de Inspección'!$R$7 -> 0 | J3: =+'Formulario de Inspección'!$A$9 -> 0 | K3: =+'Formulario de Inspección'!$D$9 -> INSPECCION ANUAL | L3: =+'Formulario de Inspección'!$H$9 -> N/A | M3: =+'Formulario de Inspección'!$P$9 -> N/A | N3: =+'Formulario de Inspección'!$R$9 -> 0 | O3: 1 IDENTIFICACION | P3: =+'Lista de defectos'!D3 -> a | Q3: =+'Lista de defectos'!G3 -> Número de Marchamo Aeris registrado no coincide con el que porta | R3: =+'Lista de defectos'!F3 -> DG | S3: ='Formulario de Inspección'!N13 -> P | T3: ='Formulario de Inspección'!O13 -> 0 | U3: =+'Formulario de Inspección'!$C$498 -> FAVORABLE | V3: =+'Formulario de Inspección'!$P$499 -> N/A | W3: =+'Formulario de Inspección'!$R$499 -> N/A | X3: =+'Formulario de Inspección'!$S$499 -> N/A | Y3: =+'Formulario de Inspección'!$H$514 -> 0
A4: =+'Formulario de Inspección'!$R$5 -> 0 | B4: ='Formulario de Inspección'!$A$5 -> 0 | C4: =+'Formulario de Inspección'!$D$5 -> Aire acondicionado | D4: =+'Formulario de Inspección'!$H$5 -> 0 | E4: =+'Formulario de Inspección'!$A$7 -> Desconocida | F4: =+'Formulario de Inspección'!$D$7 -> Desconocido | G4: =+'Formulario de Inspección'!$H$7 -> Desconocido | H4: =+'Formulario de Inspección'!$P$7 -> Desconocido | I4: =+'Formulario de Inspección'!$R$7 -> 0 | J4: =+'Formulario de Inspección'!$A$9 -> 0 | K4: =+'Formulario de Inspección'!$D$9 -> INSPECCION ANUAL | L4: =+'Formulario de Inspección'!$H$9 -> N/A | M4: =+'Formulario de Inspección'!$P$9 -> N/A | N4: =+'Formulario de Inspección'!$R$9 -> 0 | O4: 1 IDENTIFICACION | P4: =+'Lista de defectos'!D4 -> b | Q4: =+'Lista de defectos'!G4 -> Número de identificación no coincide con registros de AERIS o esta duplicado con otro equipo del mismo tipo | R4: =+'Lista de defectos'!F4 -> DG | S4: ='Formulario de Inspección'!N14 -> P | T4: ='Formulario de Inspección'!O14 -> 0 | U4: =+'Formulario de Inspección'!$C$498 -> FAVORABLE | V4: =+'Formulario de Inspección'!$P$499 -> N/A | W4: =+'Formulario de Inspección'!$R$499 -> N/A | X4: =+'Formulario de Inspección'!$S$499 -> N/A | Y4: =+'Formulario de Inspección'!$H$514 -> 0
A5: =+'Formulario de Inspección'!$R$5 -> 0 | B5: ='Formulario de Inspección'!$A$5 -> 0 | C5: =+'Formulario de Inspección'!$D$5 -> Aire acondicionado | D5: =+'Formulario de Inspección'!$H$5 -> 0 | E5: =+'Formulario de Inspección'!$A$7 -> Desconocida | F5: =+'Formulario de Inspección'!$D$7 -> Desconocido | G5: =+'Formulario de Inspección'!$H$7 -> Desconocido | H5: =+'Formulario de Inspección'!$P$7 -> Desconocido | I5: =+'Formulario de Inspección'!$R$7 -> 0 | J5: =+'Formulario de Inspección'!$A$9 -> 0 | K5: =+'Formulario de Inspección'!$D$9 -> INSPECCION ANUAL | L5: =+'Formulario de Inspección'!$H$9 -> N/A | M5: =+'Formulario de Inspección'!$P$9 -> N/A | N5: =+'Formulario de Inspección'!$R$9 -> 0 | O5: 1 IDENTIFICACION | P5: =+'Lista de defectos'!D5 -> c | Q5: =+'Lista de defectos'!G5 -> Inexistencia de alguna de las señalización obligatorias como los logotipo de la compañía, bandera a cuadros o numero de identificación. | R5: =+'Lista de defectos'!F5 -> DG | S5: ='Formulario de Inspección'!N15 -> P | T5: ='Formulario de Inspección'!O15 -> 0 | U5: =+'Formulario de Inspección'!$C$498 -> FAVORABLE | V5: =+'Formulario de Inspección'!$P$499 -> N/A | W5: =+'Formulario de Inspección'!$R$499 -> N/A | X5: =+'Formulario de Inspección'!$S$499 -> N/A | Y5: =+'Formulario de Inspección'!$H$514 -> 0
A6: =+'Formulario de Inspección'!$R$5 -> 0 | B6: ='Formulario de Inspección'!$A$5 -> 0 | C6: =+'Formulario de Inspección'!$D$5 -> Aire acondicionado | D6: =+'Formulario de Inspección'!$H$5 -> 0 | E6: =+'Formulario de Inspección'!$A$7 -> Desconocida | F6: =+'Formulario de Inspección'!$D$7 -> Desconocido | G6: =+'Formulario de Inspección'!$H$7 -> Desconocido | H6: =+'Formulario de Inspección'!$P$7 -> Desconocido | I6: =+'Formulario de Inspección'!$R$7 -> 0 | J6: =+'Formulario de Inspección'!$A$9 -> 0 | K6: =+'Formulario de Inspección'!$D$9 -> INSPECCION ANUAL | L6: =+'Formulario de Inspección'!$H$9 -> N/A | M6: =+'Formulario de Inspección'!$P$9 -> N/A | N6: =+'Formulario de Inspección'!$R$9 -> 0 | O6: 1 IDENTIFICACION | P6: =+'Lista de defectos'!D6 -> d | Q6: =+'Lista de defectos'!G6 -> Defectos del estado de alguno de los logotipos de la compañía, banderas a cuadros o números de identificación que afecta o impida su visibilidad | R6: =+'Lista de defectos'!F6 -> DG | S6: ='Formulario de Inspección'!N16 -> P | T6: ='Formulario de Inspección'!O16 -> 0 | U6: =+'Formulario de Inspección'!$C$498 -> FAVORABLE | V6: =+'Formulario de Inspección'!$P$499 -> N/A | W6: =+'Formulario de Inspección'!$R$499 -> N/A | X6: =+'Formulario de Inspección'!$S$499 -> N/A | Y6: =+'Formulario de Inspección'!$H$514 -> 0
A7: =+'Formulario de Inspección'!$R$5 -> 0 | B7: ='Formulario de Inspección'!$A$5 -> 0 | C7: =+'Formulario de Inspección'!$D$5 -> Aire acondicionado | D7: =+'Formulario de Inspección'!$H$5 -> 0 | E7: =+'Formulario de Inspección'!$A$7 -> Desconocida | F7: =+'Formulario de Inspección'!$D$7 -> Desconocido | G7: =+'Formulario de Inspección'!$H$7 -> Desconocido | H7: =+'Formulario de Inspección'!$P$7 -> Desconocido | I7: =+'Formulario de Inspección'!$R$7 -> 0 | J7: =+'Formulario de Inspección'!$A$9 -> 0 | K7: =+'Formulario de Inspección'!$D$9 -> INSPECCION ANUAL | L7: =+'Formulario de Inspección'!$H$9 -> N/A | M7: =+'Formulario de Inspección'!$P$9 -> N/A | N7: =+'Formulario de Inspección'!$R$9 -> 0 | O7: 1 IDENTIFICACION | P7: =+'Lista de defectos'!D7 -> e | Q7: =+'Lista de defectos'!G7 -> Defectos del estado de alguno de los logotipos de la compañía, banderas a cuadros o números de identificación que no afecte o impida su visibilidad | R7: =+'Lista de defectos'!F7 -> DL | S7: ='Formulario de Inspección'!N17 -> P | T7: ='Formulario de Inspección'!O17 -> 0 | U7: =+'Formulario de Inspección'!$C$498 -> FAVORABLE | V7: =+'Formulario de Inspección'!$P$499 -> N/A | W7: =+'Formulario de Inspección'!$R$499 -> N/A | X7: =+'Formulario de Inspección'!$S$499 -> N/A | Y7: =+'Formulario de Inspección'!$H$514 -> 0
A8: =+'Formulario de Inspección'!$R$5 -> 0 | B8: ='Formulario de Inspección'!$A$5 -> 0 | C8: =+'Formulario de Inspección'!$D$5 -> Aire acondicionado | D8: =+'Formulario de Inspección'!$H$5 -> 0 | E8: =+'Formulario de Inspección'!$A$7 -> Desconocida | F8: =+'Formulario de Inspección'!$D$7 -> Desconocido | G8: =+'Formulario de Inspección'!$H$7 -> Desconocido | H8: =+'Formulario de Inspección'!$P$7 -> Desconocido | I8: =+'Formulario de Inspección'!$R$7 -> 0 | J8: =+'Formulario de Inspección'!$A$9 -> 0 | K8: =+'Formulario de Inspección'!$D$9 -> INSPECCION ANUAL | L8: =+'Formulario de Inspección'!$H$9 -> N/A | M8: =+'Formulario de Inspección'!$P$9 -> N/A | N8: =+'Formulario de Inspección'!$R$9 -> 0 | O8: 1 IDENTIFICACION | P8: =+'Lista de defectos'!D8 -> f | Q8: =+'Lista de defectos'!G8 -> Banderas a cuadros, logotipos o números de identificación con dimensiones diferentes a 30 x 30 cm | R8: =+'Lista de defectos'!F8 -> DG | S8: ='Formulario de Inspección'!N18 -> P | T8: ='Formulario de Inspección'!O18 -> 0 | U8: =+'Formulario de Inspección'!$C$498 -> FAVORABLE | V8: =+'Formulario de Inspección'!$P$499 -> N/A | W8: =+'Formulario de Inspección'!$R$499 -> N/A | X8: =+'Formulario de Inspección'!$S$499 -> N/A | Y8: =+'Formulario de Inspección'!$H$514 -> 0
A9: =+'Formulario de Inspección'!$R$5 -> 0 | B9: ='Formulario de Inspección'!$A$5 -> 0 | C9: =+'Formulario de Inspección'!$D$5 -> Aire acondicionado | D9: =+'Formulario de Inspección'!$H$5 -> 0 | E9: =+'Formulario de Inspección'!$A$7 -> Desconocida | F9: =+'Formulario de Inspección'!$D$7 -> Desconocido | G9: =+'Formulario de Inspección'!$H$7 -> Desconocido | H9: =+'Formulario de Inspección'!$P$7 -> Desconocido | I9: =+'Formulario de Inspección'!$R$7 -> 0 | J9: =+'Formulario de Inspección'!$A$9 -> 0 | K9: =+'Formulario de Inspección'!$D$9 -> INSPECCION ANUAL | L9: =+'Formulario de Inspección'!$H$9 -> N/A | M9: =+'Formulario de Inspección'!$P$9 -> N/A | N9: =+'Formulario de Inspección'!$R$9 -> 0 | O9: 1 IDENTIFICACION | P9: =+'Lista de defectos'!D9 -> g | Q9: =+'Lista de defectos'!G9 -> Banderas a cuadros, logotipos o números de identificación con dimensiones inferior a 30 x 30 cm (cuando es el máximo tamaño que permite la estructura del equipo) | R9: =+'Lista de defectos'!F9 -> DL | S9: ='Formulario de Inspección'!N19 -> P | T9: ='Formulario de Inspección'!O19 -> 0 | U9: =+'Formulario de Inspección'!$C$498 -> FAVORABLE | V9: =+'Formulario de Inspección'!$P$499 -> N/A | W9: =+'Formulario de Inspección'!$R$499 -> N/A | X9: =+'Formulario de Inspección'!$S$499 -> N/A | Y9: =+'Formulario de Inspección'!$H$514 -> 0
A10: =+'Formulario de Inspección'!$R$5 -> 0 | B10: ='Formulario de Inspección'!$A$5 -> 0 | C10: =+'Formulario de Inspección'!$D$5 -> Aire acondicionado | D10: =+'Formulario de Inspección'!$H$5 -> 0 | E10: =+'Formulario de Inspección'!$A$7 -> Desconocida | F10: =+'Formulario de Inspección'!$D$7 -> Desconocido | G10: =+'Formulario de Inspección'!$H$7 -> Desconocido | H10: =+'Formulario de Inspección'!$P$7 -> Desconocido | I10: =+'Formulario de Inspección'!$R$7 -> 0 | J10: =+'Formulario de Inspección'!$A$9 -> 0 | K10: =+'Formulario de Inspección'!$D$9 -> INSPECCION ANUAL | L10: =+'Formulario de Inspección'!$H$9 -> N/A | M10: =+'Formulario de Inspección'!$P$9 -> N/A | N10: =+'Formulario de Inspección'!$R$9 -> 0 | O10: 1 IDENTIFICACION | P10: =+'Lista de defectos'!D10 -> h | Q10: =+'Lista de defectos'!G10 -> Bandera de cuadros de color o diseño no reglamentario | R10: =+'Lista de defectos'!F10 -> DG | S10: ='Formulario de Inspección'!N20 -> P | T10: ='Formulario de Inspección'!O20 -> 0 | U10: =+'Formulario de Inspección'!$C$498 -> FAVORABLE | V10: =+'Formulario de Inspección'!$P$499 -> N/A | W10: =+'Formulario de Inspección'!$R$499 -> N/A | X10: =+'Formulario de Inspección'!$S$499 -> N/A | Y10: =+'Formulario de Inspección'!$H$514 -> 0
A11: =+'Formulario de Inspección'!$R$5 -> 0 | B11: ='Formulario de Inspección'!$A$5 -> 0 | C11: =+'Formulario de Inspección'!$D$5 -> Aire acondicionado | D11: =+'Formulario de Inspección'!$H$5 -> 0 | E11: =+'Formulario de Inspección'!$A$7 -> Desconocida | F11: =+'Formulario de Inspección'!$D$7 -> Desconocido | G11: =+'Formulario de Inspección'!$H$7 -> Desconocido | H11: =+'Formulario de Inspección'!$P$7 -> Desconocido | I11: =+'Formulario de Inspección'!$R$7 -> 0 | J11: =+'Formulario de Inspección'!$A$9 -> 0 | K11: =+'Formulario de Inspección'!$D$9 -> INSPECCION ANUAL | L11: =+'Formulario de Inspección'!$H$9 -> N/A | M11: =+'Formulario de Inspección'!$P$9 -> N/A | N11: =+'Formulario de Inspección'!$R$9 -> 0 | O11: 1 IDENTIFICACION | P11: =+'Lista de defectos'!D11 -> i | Q11: =+'Lista de defectos'!G11 -> Inexistencia o deterioro de cinta reflectiva o cantidad insuficiente para demarcar el tipo de equipo | R11: =+'Lista de defectos'!F11 -> DG | S11: ='Formulario de Inspección'!N21 -> P | T11: ='Formulario de Inspección'!O21 -> 0 | U11: =+'Formulario de Inspección'!$C$498 -> FAVORABLE | V11: =+'Formulario de Inspección'!$P$499 -> N/A | W11: =+'Formulario de Inspección'!$R$499 -> N/A | X11: =+'Formulario de Inspección'!$S$499 -> N/A | Y11: =+'Formulario de Inspección'!$H$514 -> 0
A12: =+'Formulario de Inspección'!$R$5 -> 0 | B12: ='Formulario de Inspección'!$A$5 -> 0 | C12: =+'Formulario de Inspección'!$D$5 -> Aire acondicionado | D12: =+'Formulario de Inspección'!$H$5 -> 0 | E12: =+'Formulario de Inspección'!$A$7 -> Desconocida | F12: =+'Formulario de Inspección'!$D$7 -> Desconocido | G12: =+'Formulario de Inspección'!$H$7 -> Desconocido | H12: =+'Formulario de Inspección'!$P$7 -> Desconocido | I12: =+'Formulario de Inspección'!$R$7 -> 0 | J12: =+'Formulario de Inspección'!$A$9 -> 0 | K12: =+'Formulario de Inspección'!$D$9 -> INSPECCION ANUAL | L12: =+'Formulario de Inspección'!$H$9 -> N/A | M12: =+'Formulario de Inspección'!$P$9 -> N/A | N12: =+'Formulario de Inspección'!$R$9 -> 0 | O12: 1 IDENTIFICACION | P12: =+'Lista de defectos'!D12 -> j | Q12: =+'Lista de defectos'!G12 -> Ilegibilidad o deterioro avanzado del estado del marchamo Aeris | R12: =+'Lista de defectos'!F12 -> DG | S12: ='Formulario de Inspección'!N22 -> P | T12: ='Formulario de Inspección'!O22 -> 0 | U12: =+'Formulario de Inspección'!$C$498 -> FAVORABLE | V12: =+'Formulario de Inspección'!$P$499 -> N/A | W12: =+'Formulario de Inspección'!$R$499 -> N/A | X12: =+'Formulario de Inspección'!$S$499 -> N/A | Y12: =+'Formulario de Inspección'!$H$514 -> 0
A13: =+'Formulario de Inspección'!$R$5 -> 0 | B13: ='Formulario de Inspección'!$A$5 -> 0 | C13: =+'Formulario de Inspección'!$D$5 -> Aire acondicionado | D13: =+'Formulario de Inspección'!$H$5 -> 0 | E13: =+'Formulario de Inspección'!$A$7 -> Desconocida | F13: =+'Formulario de Inspección'!$D$7 -> Desconocido | G13: =+'Formulario de Inspección'!$H$7 -> Desconocido | H13: =+'Formulario de Inspección'!$P$7 -> Desconocido | I13: =+'Formulario de Inspección'!$R$7 -> 0 | J13: =+'Formulario de Inspección'!$A$9 -> 0 | K13: =+'Formulario de Inspección'!$D$9 -> INSPECCION ANUAL | L13: =+'Formulario de Inspección'!$H$9 -> N/A | M13: =+'Formulario de Inspección'!$P$9 -> N/A | N13: =+'Formulario de Inspección'!$R$9 -> 0 | O13: 1 IDENTIFICACION | P13: =+'Lista de defectos'!D13 -> k | Q13: =+'Lista de defectos'!G13 -> Defectos leves de estado en el marchamo Aeris | R13: =+'Lista de defectos'!F13 -> DL | S13: ='Formulario de Inspección'!N23 -> P | T13: ='Formulario de Inspección'!O23 -> 0 | U13: =+'Formulario de Inspección'!$C$498 -> FAVORABLE | V13: =+'Formulario de Inspección'!$P$499 -> N/A | W13: =+'Formulario de Inspección'!$R$499 -> N/A | X13: =+'Formulario de Inspección'!$S$499 -> N/A | Y13: =+'Formulario de Inspección'!$H$514 -> 0
A14: =+'Formulario de Inspección'!$R$5 -> 0 | B14: ='Formulario de Inspección'!$A$5 -> 0 | C14: =+'Formulario de Inspección'!$D$5 -> Aire acondicionado | D14: =+'Formulario de Inspección'!$H$5 -> 0 | E14: =+'Formulario de Inspección'!$A$7 -> Desconocida | F14: =+'Formulario de Inspección'!$D$7 -> Desconocido | G14: =+'Formulario de Inspección'!$H$7 -> Desconocido | H14: =+'Formulario de Inspección'!$P$7 -> Desconocido | I14: =+'Formulario de Inspección'!$R$7 -> 0 | J14: =+'Formulario de Inspección'!$A$9 -> 0 | K14: =+'Formulario de Inspección'!$D$9 -> INSPECCION ANUAL | L14: =+'Formulario de Inspección'!$H$9 -> N/A | M14: =+'Formulario de Inspección'!$P$9 -> N/A | N14: =+'Formulario de Inspección'!$R$9 -> 0 | O14: 1 IDENTIFICACION | P14: =+'Lista de defectos'!D14 -> l | Q14: =+'Lista de defectos'!G14 -> Ubicación de la pegatina Derecho de circulación, Revisión Técnica Vehicular o Matricula no permite su visibilidad o no esta colocado dentro de la cabina de conducción | R14: =+'Lista de defectos'!F14 -> DL | S14: ='Formulario de Inspección'!N24 -> ¡ | T14: ='Formulario de Inspección'!O24 -> 0 | U14: =+'Formulario de Inspección'!$C$498 -> FAVORABLE | V14: =+'Formulario de Inspección'!$P$499 -> N/A | W14: =+'Formulario de Inspección'!$R$499 -> N/A | X14: =+'Formulario de Inspección'!$S$499 -> N/A | Y14: =+'Formulario de Inspección'!$H$514 -> 0
A15: =+'Formulario de Inspección'!$R$5 -> 0 | B15: ='Formulario de Inspección'!$A$5 -> 0 | C15: =+'Formulario de Inspección'!$D$5 -> Aire acondicionado | D15: =+'Formulario de Inspección'!$H$5 -> 0 | E15: =+'Formulario de Inspección'!$A$7 -> Desconocida | F15: =+'Formulario de Inspección'!$D$7 -> Desconocido | G15: =+'Formulario de Inspección'!$H$7 -> Desconocido | H15: =+'Formulario de Inspección'!$P$7 -> Desconocido | I15: =+'Formulario de Inspección'!$R$7 -> 0 | J15: =+'Formulario de Inspección'!$A$9 -> 0 | K15: =+'Formulario de Inspección'!$D$9 -> INSPECCION ANUAL | L15: =+'Formulario de Inspección'!$H$9 -> N/A | M15: =+'Formulario de Inspección'!$P$9 -> N/A | N15: =+'Formulario de Inspección'!$R$9 -> 0 | O15: 1 IDENTIFICACION | P15: =+'Lista de defectos'!D15 -> m | Q15: =+'Lista de defectos'!G15 -> Pegatina Derecho de circulación, Revisión Técnica Vehicular o Matrícula vencida o inexistente (vehículos con placas que le permiten circular en vías públicas) | R15: =+'Lista de defectos'!F15 -> DG | S15: ='Formulario de Inspección'!N25 -> ¡ | T15: ='Formulario de Inspección'!O25 -> 0 | U15: =+'Formulario de Inspección'!$C$498 -> FAVORABLE | V15: =+'Formulario de Inspección'!$P$499 -> N/A | W15: =+'Formulario de Inspección'!$R$499 -> N/A | X15: =+'Formulario de Inspección'!$S$499 -> N/A | Y15: =+'Formulario de Inspección'!$H$514 -> 0
A16: =+'Formulario de Inspección'!$R$5 -> 0 | B16: ='Formulario de Inspección'!$A$5 -> 0 | C16: =+'Formulario de Inspección'!$D$5 -> Aire acondicionado | D16: =+'Formulario de Inspección'!$H$5 -> 0 | E16: =+'Formulario de Inspección'!$A$7 -> Desconocida | F16: =+'Formulario de Inspección'!$D$7 -> Desconocido | G16: =+'Formulario de Inspección'!$H$7 -> Desconocido | H16: =+'Formulario de Inspección'!$P$7 -> Desconocido | I16: =+'Formulario de Inspección'!$R$7 -> 0 | J16: =+'Formulario de Inspección'!$A$9 -> 0 | K16: =+'Formulario de Inspección'!$D$9 -> INSPECCION ANUAL | L16: =+'Formulario de Inspección'!$H$9 -> N/A | M16: =+'Formulario de Inspección'!$P$9 -> N/A | N16: =+'Formulario de Inspección'!$R$9 -> 0 | O16: 2.1 Generalidades de estructura, remolque, Interfaz de enganche, calzas y extintor | P16: =+'Lista de defectos'!D16 -> a | Q16: =+'Lista de defectos'!G16 -> Defectos de estado en la carrocería, estructura, timón o chasis que no afecten la seguridad | R16: =+'Lista de defectos'!F16 -> DL | S16: =+'Formulario de Inspección'!N29 -> P | T16: =+'Formulario de Inspección'!O29 -> 0 | U16: =+'Formulario de Inspección'!$C$498 -> FAVORABLE | V16: =+'Formulario de Inspección'!$P$499 -> N/A | W16: =+'Formulario de Inspección'!$R$499 -> N/A | X16: =+'Formulario de Inspección'!$S$499 -> N/A | Y16: =+'Formulario de Inspección'!$H$514 -> 0
A17: =+'Formulario de Inspección'!$R$5 -> 0 | B17: ='Formulario de Inspección'!$A$5 -> 0 | C17: =+'Formulario de Inspección'!$D$5 -> Aire acondicionado | D17: =+'Formulario de Inspección'!$H$5 -> 0 | E17: =+'Formulario de Inspección'!$A$7 -> Desconocida | F17: =+'Formulario de Inspección'!$D$7 -> Desconocido | G17: =+'Formulario de Inspección'!$H$7 -> Desconocido | H17: =+'Formulario de Inspección'!$P$7 -> Desconocido | I17: =+'Formulario de Inspección'!$R$7 -> 0 | J17: =+'Formulario de Inspección'!$A$9 -> 0 | K17: =+'Formulario de Inspección'!$D$9 -> INSPECCION ANUAL | L17: =+'Formulario de Inspección'!$H$9 -> N/A | M17: =+'Formulario de Inspección'!$P$9 -> N/A | N17: =+'Formulario de Inspección'!$R$9 -> 0 | O17: 2.1 Generalidades de estructura, remolque, Interfaz de enganche, calzas y extintor | P17: =+'Lista de defectos'!D17 -> b | Q17: =+'Lista de defectos'!G17 -> Defectos de estado en la carrocería, estructura, timón o chasis que entrañen peligro | R17: =+'Lista de defectos'!F17 -> DG | S17: =+'Formulario de Inspección'!N30 -> P | T17: =+'Formulario de Inspección'!O30 -> 0 | U17: =+'Formulario de Inspección'!$C$498 -> FAVORABLE | V17: =+'Formulario de Inspección'!$P$499 -> N/A | W17: =+'Formulario de Inspección'!$R$499 -> N/A | X17: =+'Formulario de Inspección'!$S$499 -> N/A | Y17: =+'Formulario de Inspección'!$H$514 -> 0
A18: =+'Formulario de Inspección'!$R$5 -> 0 | B18: ='Formulario de Inspección'!$A$5 -> 0 | C18: =+'Formulario de Inspección'!$D$5 -> Aire acondicionado | D18: =+'Formulario de Inspección'!$H$5 -> 0 | E18: =+'Formulario de Inspección'!$A$7 -> Desconocida | F18: =+'Formulario de Inspección'!$D$7 -> Desconocido | G18: =+'Formulario de Inspección'!$H$7 -> Desconocido | H18: =+'Formulario de Inspección'!$P$7 -> Desconocido | I18: =+'Formulario de Inspección'!$R$7 -> 0 | J18: =+'Formulario de Inspección'!$A$9 -> 0 | K18: =+'Formulario de Inspección'!$D$9 -> INSPECCION ANUAL | L18: =+'Formulario de Inspección'!$H$9 -> N/A | M18: =+'Formulario de Inspección'!$P$9 -> N/A | N18: =+'Formulario de Inspección'!$R$9 -> 0 | O18: 2.1 Generalidades de estructura, remolque, Interfaz de enganche, calzas y extintor | P18: =+'Lista de defectos'!D18 -> c | Q18: =+'Lista de defectos'!G18 -> Defectos de estado en los sujeciones de la carrocería, cajón o estructura general al chasis o base de la estructura | R18: =+'Lista de defectos'!F18 -> DG | S18: =+'Formulario de Inspección'!N31 -> P | T18: =+'Formulario de Inspección'!O31 -> 0 | U18: =+'Formulario de Inspección'!$C$498 -> FAVORABLE | V18: =+'Formulario de Inspección'!$P$499 -> N/A | W18: =+'Formulario de Inspección'!$R$499 -> N/A | X18: =+'Formulario de Inspección'!$S$499 -> N/A | Y18: =+'Formulario de Inspección'!$H$514 -> 0
A19: =+'Formulario de Inspección'!$R$5 -> 0 | B19: ='Formulario de Inspección'!$A$5 -> 0 | C19: =+'Formulario de Inspección'!$D$5 -> Aire acondicionado | D19: =+'Formulario de Inspección'!$H$5 -> 0 | E19: =+'Formulario de Inspección'!$A$7 -> Desconocida | F19: =+'Formulario de Inspección'!$D$7 -> Desconocido | G19: =+'Formulario de Inspección'!$H$7 -> Desconocido | H19: =+'Formulario de Inspección'!$P$7 -> Desconocido | I19: =+'Formulario de Inspección'!$R$7 -> 0 | J19: =+'Formulario de Inspección'!$A$9 -> 0 | K19: =+'Formulario de Inspección'!$D$9 -> INSPECCION ANUAL | L19: =+'Formulario de Inspección'!$H$9 -> N/A | M19: =+'Formulario de Inspección'!$P$9 -> N/A | N19: =+'Formulario de Inspección'!$R$9 -> 0 | O19: 2.1 Generalidades de estructura, remolque, Interfaz de enganche, calzas y extintor | P19: =+'Lista de defectos'!D19 -> d | Q19: =+'Lista de defectos'!G19 -> Presencia de corrosión avanzada o estado deteriorado avanzado de la pintura de la carrocería o estructura en general | R19: =+'Lista de defectos'!F19 -> DG | S19: =+'Formulario de Inspección'!N32 -> P | T19: =+'Formulario de Inspección'!O32 -> 0 | U19: =+'Formulario de Inspección'!$C$498 -> FAVORABLE | V19: =+'Formulario de Inspección'!$P$499 -> N/A | W19: =+'Formulario de Inspección'!$R$499 -> N/A | X19: =+'Formulario de Inspección'!$S$499 -> N/A | Y19: =+'Formulario de Inspección'!$H$514 -> 0
A20: =+'Formulario de Inspección'!$R$5 -> 0 | B20: ='Formulario de Inspección'!$A$5 -> 0 | C20: =+'Formulario de Inspección'!$D$5 -> Aire acondicionado | D20: =+'Formulario de Inspección'!$H$5 -> 0 | E20: =+'Formulario de Inspección'!$A$7 -> Desconocida | F20: =+'Formulario de Inspección'!$D$7 -> Desconocido | G20: =+'Formulario de Inspección'!$H$7 -> Desconocido | H20: =+'Formulario de Inspección'!$P$7 -> Desconocido | I20: =+'Formulario de Inspección'!$R$7 -> 0 | J20: =+'Formulario de Inspección'!$A$9 -> 0 | K20: =+'Formulario de Inspección'!$D$9 -> INSPECCION ANUAL | L20: =+'Formulario de Inspección'!$H$9 -> N/A | M20: =+'Formulario de Inspección'!$P$9 -> N/A | N20: =+'Formulario de Inspección'!$R$9 -> 0 | O20: 2.1 Generalidades de estructura, remolque, Interfaz de enganche, calzas y extintor | P20: =+'Lista de defectos'!D20 -> e | Q20: =+'Lista de defectos'!G20 -> Presencia de óxido o estado deteriorado leve de la pintura de la carrocería o estructura en general | R20: =+'Lista de defectos'!F20 -> DL | S20: =+'Formulario de Inspección'!N33 -> P | T20: =+'Formulario de Inspección'!O33 -> 0 | U20: =+'Formulario de Inspección'!$C$498 -> FAVORABLE | V20: =+'Formulario de Inspección'!$P$499 -> N/A | W20: =+'Formulario de Inspección'!$R$499 -> N/A | X20: =+'Formulario de Inspección'!$S$499 -> N/A | Y20: =+'Formulario de Inspección'!$H$514 -> 0
A21: =+'Formulario de Inspección'!$R$5 -> 0 | B21: ='Formulario de Inspección'!$A$5 -> 0 | C21: =+'Formulario de Inspección'!$D$5 -> Aire acondicionado | D21: =+'Formulario de Inspección'!$H$5 -> 0 | E21: =+'Formulario de Inspección'!$A$7 -> Desconocida | F21: =+'Formulario de Inspección'!$D$7 -> Desconocido | G21: =+'Formulario de Inspección'!$H$7 -> Desconocido | H21: =+'Formulario de Inspección'!$P$7 -> Desconocido | I21: =+'Formulario de Inspección'!$R$7 -> 0 | J21: =+'Formulario de Inspección'!$A$9 -> 0 | K21: =+'Formulario de Inspección'!$D$9 -> INSPECCION ANUAL | L21: =+'Formulario de Inspección'!$H$9 -> N/A | M21: =+'Formulario de Inspección'!$P$9 -> N/A | N21: =+'Formulario de Inspección'!$R$9 -> 0 | O21: 2.1 Generalidades de estructura, remolque, Interfaz de enganche, calzas y extintor | P21: =+'Lista de defectos'!D21 -> f | Q21: =+'Lista de defectos'!G21 -> Interfaz de enganche diferente al "E" o el conocido como "Pico de Lora" | R21: =+'Lista de defectos'!F21 -> DG | S21: =+'Formulario de Inspección'!N34 -> P | T21: =+'Formulario de Inspección'!O34 -> 0 | U21: =+'Formulario de Inspección'!$C$498 -> FAVORABLE | V21: =+'Formulario de Inspección'!$P$499 -> N/A | W21: =+'Formulario de Inspección'!$R$499 -> N/A | X21: =+'Formulario de Inspección'!$S$499 -> N/A | Y21: =+'Formulario de Inspección'!$H$514 -> 0
A22: =+'Formulario de Inspección'!$R$5 -> 0 | B22: ='Formulario de Inspección'!$A$5 -> 0 | C22: =+'Formulario de Inspección'!$D$5 -> Aire acondicionado | D22: =+'Formulario de Inspección'!$H$5 -> 0 | E22: =+'Formulario de Inspección'!$A$7 -> Desconocida | F22: =+'Formulario de Inspección'!$D$7 -> Desconocido | G22: =+'Formulario de Inspección'!$H$7 -> Desconocido | H22: =+'Formulario de Inspección'!$P$7 -> Desconocido | I22: =+'Formulario de Inspección'!$R$7 -> 0 | J22: =+'Formulario de Inspección'!$A$9 -> 0 | K22: =+'Formulario de Inspección'!$D$9 -> INSPECCION ANUAL | L22: =+'Formulario de Inspección'!$H$9 -> N/A | M22: =+'Formulario de Inspección'!$P$9 -> N/A | N22: =+'Formulario de Inspección'!$R$9 -> 0 | O22: 2.1 Generalidades de estructura, remolque, Interfaz de enganche, calzas y extintor | P22: =+'Lista de defectos'!D22 -> g | Q22: =+'Lista de defectos'!G22 -> Interfaz de enganche no cumple con medidas mínimas, fallas de sujeción, defecto de estado de la estructura y/o componentes | R22: =+'Lista de defectos'!F22 -> DG | S22: =+'Formulario de Inspección'!N35 -> P | T22: =+'Formulario de Inspección'!O35 -> 0 | U22: =+'Formulario de Inspección'!$C$498 -> FAVORABLE | V22: =+'Formulario de Inspección'!$P$499 -> N/A | W22: =+'Formulario de Inspección'!$R$499 -> N/A | X22: =+'Formulario de Inspección'!$S$499 -> N/A | Y22: =+'Formulario de Inspección'!$H$514 -> 0
A23: =+'Formulario de Inspección'!$R$5 -> 0 | B23: ='Formulario de Inspección'!$A$5 -> 0 | C23: =+'Formulario de Inspección'!$D$5 -> Aire acondicionado | D23: =+'Formulario de Inspección'!$H$5 -> 0 | E23: =+'Formulario de Inspección'!$A$7 -> Desconocida | F23: =+'Formulario de Inspección'!$D$7 -> Desconocido | G23: =+'Formulario de Inspección'!$H$7 -> Desconocido | H23: =+'Formulario de Inspección'!$P$7 -> Desconocido | I23: =+'Formulario de Inspección'!$R$7 -> 0 | J23: =+'Formulario de Inspección'!$A$9 -> 0 | K23: =+'Formulario de Inspección'!$D$9 -> INSPECCION ANUAL | L23: =+'Formulario de Inspección'!$H$9 -> N/A | M23: =+'Formulario de Inspección'!$P$9 -> N/A | N23: =+'Formulario de Inspección'!$R$9 -> 0 | O23: 2.1 Generalidades de estructura, remolque, Interfaz de enganche, calzas y extintor | P23: =+'Lista de defectos'!D23 -> h | Q23: =+'Lista de defectos'!G23 -> Pasador vertical del enganche (pegadero) no están sujetas al vehículo con cadena o similar | R23: =+'Lista de defectos'!F23 -> DG | S23: =+'Formulario de Inspección'!N36 -> P | T23: =+'Formulario de Inspección'!O36 -> 0 | U23: =+'Formulario de Inspección'!$C$498 -> FAVORABLE | V23: =+'Formulario de Inspección'!$P$499 -> N/A | W23: =+'Formulario de Inspección'!$R$499 -> N/A | X23: =+'Formulario de Inspección'!$S$499 -> N/A | Y23: =+'Formulario de Inspección'!$H$514 -> 0
A24: =+'Formulario de Inspección'!$R$5 -> 0 | B24: ='Formulario de Inspección'!$A$5 -> 0 | C24: =+'Formulario de Inspección'!$D$5 -> Aire acondicionado | D24: =+'Formulario de Inspección'!$H$5 -> 0 | E24: =+'Formulario de Inspección'!$A$7 -> Desconocida | F24: =+'Formulario de Inspección'!$D$7 -> Desconocido | G24: =+'Formulario de Inspección'!$H$7 -> Desconocido | H24: =+'Formulario de Inspección'!$P$7 -> Desconocido | I24: =+'Formulario de Inspección'!$R$7 -> 0 | J24: =+'Formulario de Inspección'!$A$9 -> 0 | K24: =+'Formulario de Inspección'!$D$9 -> INSPECCION ANUAL | L24: =+'Formulario de Inspección'!$H$9 -> N/A | M24: =+'Formulario de Inspección'!$P$9 -> N/A | N24: =+'Formulario de Inspección'!$R$9 -> 0 | O24: 2.1 Generalidades de estructura, remolque, Interfaz de enganche, calzas y extintor | P24: =+'Lista de defectos'!D24 -> i | Q24: =+'Lista de defectos'!G24 -> Sistema de seguridad anti desprendimiento del pasador del pegadero inexistes (si este es original de fabricación) | R24: =+'Lista de defectos'!F24 -> DG | S24: =+'Formulario de Inspección'!N37 -> P | T24: =+'Formulario de Inspección'!O37 -> 0 | U24: =+'Formulario de Inspección'!$C$498 -> FAVORABLE | V24: =+'Formulario de Inspección'!$P$499 -> N/A | W24: =+'Formulario de Inspección'!$R$499 -> N/A | X24: =+'Formulario de Inspección'!$S$499 -> N/A | Y24: =+'Formulario de Inspección'!$H$514 -> 0
A25: =+'Formulario de Inspección'!$R$5 -> 0 | B25: ='Formulario de Inspección'!$A$5 -> 0 | C25: =+'Formulario de Inspección'!$D$5 -> Aire acondicionado | D25: =+'Formulario de Inspección'!$H$5 -> 0 | E25: =+'Formulario de Inspección'!$A$7 -> Desconocida | F25: =+'Formulario de Inspección'!$D$7 -> Desconocido | G25: =+'Formulario de Inspección'!$H$7 -> Desconocido | H25: =+'Formulario de Inspección'!$P$7 -> Desconocido | I25: =+'Formulario de Inspección'!$R$7 -> 0 | J25: =+'Formulario de Inspección'!$A$9 -> 0 | K25: =+'Formulario de Inspección'!$D$9 -> INSPECCION ANUAL | L25: =+'Formulario de Inspección'!$H$9 -> N/A | N25: =+'Formulario de Inspección'!$R$9 -> 0 | O25: 2.1 Generalidades de estructura, remolque, Interfaz de enganche, calzas y extintor | P25: =+'Lista de defectos'!D25 -> j | Q25: =+'Lista de defectos'!G25 -> Estructura y/o componentes del enganche (pegadero) presenta oxidación | R25: =+'Lista de defectos'!F25 -> DG | S25: =+'Formulario de Inspección'!N38 -> P | T25: =+'Formulario de Inspección'!O38 -> 0 | U25: =+'Formulario de Inspección'!$C$498 -> FAVORABLE | V25: =+'Formulario de Inspección'!$P$499 -> N/A | W25: =+'Formulario de Inspección'!$R$499 -> N/A | X25: =+'Formulario de Inspección'!$S$499 -> N/A | Y25: =+'Formulario de Inspección'!$H$514 -> 0
A26: =+'Formulario de Inspección'!$R$5 -> 0 | B26: ='Formulario de Inspección'!$A$5 -> 0 | C26: =+'Formulario de Inspección'!$D$5 -> Aire acondicionado | D26: =+'Formulario de Inspección'!$H$5 -> 0 | E26: =+'Formulario de Inspección'!$A$7 -> Desconocida | F26: =+'Formulario de Inspección'!$D$7 -> Desconocido | G26: =+'Formulario de Inspección'!$H$7 -> Desconocido | H26: =+'Formulario de Inspección'!$P$7 -> Desconocido | I26: =+'Formulario de Inspección'!$R$7 -> 0 | J26: =+'Formulario de Inspección'!$A$9 -> 0 | K26: =+'Formulario de Inspección'!$D$9 -> INSPECCION ANUAL | L26: =+'Formulario de Inspección'!$H$9 -> N/A | M26: =+'Formulario de Inspección'!$P$9 -> N/A | N26: =+'Formulario de Inspección'!$R$9 -> 0 | O26: 2.1 Generalidades de estructura, remolque, Interfaz de enganche, calzas y extintor | P26: =+'Lista de defectos'!D26 -> k | Q26: =+'Lista de defectos'!G26 -> Ausencia, mal sujeción o deterioro avanzado del parachoques o dispositivo similar | R26: =+'Lista de defectos'!F26 -> DL | S26: =+'Formulario de Inspección'!N39 -> ¡ | T26: =+'Formulario de Inspección'!O39 -> 0 | U26: =+'Formulario de Inspección'!$C$498 -> FAVORABLE | V26: =+'Formulario de Inspección'!$P$499 -> N/A | W26: =+'Formulario de Inspección'!$R$499 -> N/A | X26: =+'Formulario de Inspección'!$S$499 -> N/A | Y26: =+'Formulario de Inspección'!$H$514 -> 0
A27: =+'Formulario de Inspección'!$R$5 -> 0 | B27: ='Formulario de Inspección'!$A$5 -> 0 | C27: =+'Formulario de Inspección'!$D$5 -> Aire acondicionado | D27: =+'Formulario de Inspección'!$H$5 -> 0 | E27: =+'Formulario de Inspección'!$A$7 -> Desconocida | F27: =+'Formulario de Inspección'!$D$7 -> Desconocido | G27: =+'Formulario de Inspección'!$H$7 -> Desconocido | H27: =+'Formulario de Inspección'!$P$7 -> Desconocido | I27: =+'Formulario de Inspección'!$R$7 -> 0 | J27: =+'Formulario de Inspección'!$A$9 -> 0 | K27: =+'Formulario de Inspección'!$D$9 -> INSPECCION ANUAL | L27: =+'Formulario de Inspección'!$H$9 -> N/A | M27: =+'Formulario de Inspección'!$P$9 -> N/A | N27: =+'Formulario de Inspección'!$R$9 -> 0 | O27: 2.1 Generalidades de estructura, remolque, Interfaz de enganche, calzas y extintor | P27: =+'Lista de defectos'!D27 -> l | Q27: =+'Lista de defectos'!G27 -> Deterioro leve de hules protectores (topes) | R27: =+'Lista de defectos'!F27 -> DG | S27: =+'Formulario de Inspección'!N40 -> P | T27: =+'Formulario de Inspección'!O40 -> 0 | U27: =+'Formulario de Inspección'!$C$498 -> FAVORABLE | V27: =+'Formulario de Inspección'!$P$499 -> N/A | W27: =+'Formulario de Inspección'!$R$499 -> N/A | X27: =+'Formulario de Inspección'!$S$499 -> N/A | Y27: =+'Formulario de Inspección'!$H$514 -> 0
A28: =+'Formulario de Inspección'!$R$5 -> 0 | B28: ='Formulario de Inspección'!$A$5 -> 0 | C28: =+'Formulario de Inspección'!$D$5 -> Aire acondicionado | D28: =+'Formulario de Inspección'!$H$5 -> 0 | E28: =+'Formulario de Inspección'!$A$7 -> Desconocida | F28: =+'Formulario de Inspección'!$D$7 -> Desconocido | G28: =+'Formulario de Inspección'!$H$7 -> Desconocido | H28: =+'Formulario de Inspección'!$P$7 -> Desconocido | I28: =+'Formulario de Inspección'!$R$7 -> 0 | J28: =+'Formulario de Inspección'!$A$9 -> 0 | K28: =+'Formulario de Inspección'!$D$9 -> INSPECCION ANUAL | L28: =+'Formulario de Inspección'!$H$9 -> N/A | M28: =+'Formulario de Inspección'!$P$9 -> N/A | N28: =+'Formulario de Inspección'!$R$9 -> 0 | O28: 2.1 Generalidades de estructura, remolque, Interfaz de enganche, calzas y extintor | P28: =+'Lista de defectos'!D28 -> m | Q28: =+'Lista de defectos'!G28 -> Ausencia o deterioro avanzado de hules protectores (topes) | R28: =+'Lista de defectos'!F28 -> DL | S28: =+'Formulario de Inspección'!N41 -> P | T28: =+'Formulario de Inspección'!O41 -> 0 | U28: =+'Formulario de Inspección'!$C$498 -> FAVORABLE | V28: =+'Formulario de Inspección'!$P$499 -> N/A | W28: =+'Formulario de Inspección'!$R$499 -> N/A | X28: =+'Formulario de Inspección'!$S$499 -> N/A | Y28: =+'Formulario de Inspección'!$H$514 -> 0
A29: =+'Formulario de Inspección'!$R$5 -> 0 | B29: ='Formulario de Inspección'!$A$5 -> 0 | C29: =+'Formulario de Inspección'!$D$5 -> Aire acondicionado | D29: =+'Formulario de Inspección'!$H$5 -> 0 | E29: =+'Formulario de Inspección'!$A$7 -> Desconocida | F29: =+'Formulario de Inspección'!$D$7 -> Desconocido | G29: =+'Formulario de Inspección'!$H$7 -> Desconocido | H29: =+'Formulario de Inspección'!$P$7 -> Desconocido | I29: =+'Formulario de Inspección'!$R$7 -> 0 | J29: =+'Formulario de Inspección'!$A$9 -> 0 | K29: =+'Formulario de Inspección'!$D$9 -> INSPECCION ANUAL | L29: =+'Formulario de Inspección'!$H$9 -> N/A | M29: =+'Formulario de Inspección'!$P$9 -> N/A | N29: =+'Formulario de Inspección'!$R$9 -> 0 | O29: 2.1 Generalidades de estructura, remolque, Interfaz de enganche, calzas y extintor | P29: =+'Lista de defectos'!D29 -> n | Q29: =+'Lista de defectos'!G29 -> Existencia de puntas salientes o filos cortantes, elementos y accesorios mal sujetos con peligro de desprendimiento (FOD) | R29: =+'Lista de defectos'!F29 -> DG | S29: =+'Formulario de Inspección'!N42 -> P | T29: =+'Formulario de Inspección'!O42 -> 0 | U29: =+'Formulario de Inspección'!$C$498 -> FAVORABLE | V29: =+'Formulario de Inspección'!$P$499 -> N/A | W29: =+'Formulario de Inspección'!$R$499 -> N/A | X29: =+'Formulario de Inspección'!$S$499 -> N/A | Y29: =+'Formulario de Inspección'!$H$514 -> 0
A30: =+'Formulario de Inspección'!$R$5 -> 0 | B30: ='Formulario de Inspección'!$A$5 -> 0 | C30: =+'Formulario de Inspección'!$D$5 -> Aire acondicionado | D30: =+'Formulario de Inspección'!$H$5 -> 0 | E30: =+'Formulario de Inspección'!$A$7 -> Desconocida | F30: =+'Formulario de Inspección'!$D$7 -> Desconocido | G30: =+'Formulario de Inspección'!$H$7 -> Desconocido | H30: =+'Formulario de Inspección'!$P$7 -> Desconocido | I30: =+'Formulario de Inspección'!$R$7 -> 0 | J30: =+'Formulario de Inspección'!$A$9 -> 0 | K30: =+'Formulario de Inspección'!$D$9 -> INSPECCION ANUAL | L30: =+'Formulario de Inspección'!$H$9 -> N/A | M30: =+'Formulario de Inspección'!$P$9 -> N/A | N30: =+'Formulario de Inspección'!$R$9 -> 0 | O30: 2.1 Generalidades de estructura, remolque, Interfaz de enganche, calzas y extintor | P30: =+'Lista de defectos'!D30 -> o | Q30: =+'Lista de defectos'!G30 -> Calzas de hule inexistentes, defectos de sujeción al chasis o estructura, defectos de estado o no es de hule | R30: =+'Lista de defectos'!F30 -> DG | S30: =+'Formulario de Inspección'!N43 -> P | T30: =+'Formulario de Inspección'!O43 -> 0 | U30: =+'Formulario de Inspección'!$C$498 -> FAVORABLE | V30: =+'Formulario de Inspección'!$P$499 -> N/A | W30: =+'Formulario de Inspección'!$R$499 -> N/A | X30: =+'Formulario de Inspección'!$S$499 -> N/A | Y30: =+'Formulario de Inspección'!$H$514 -> 0
A31: =+'Formulario de Inspección'!$R$5 -> 0 | B31: ='Formulario de Inspección'!$A$5 -> 0 | C31: =+'Formulario de Inspección'!$D$5 -> Aire acondicionado | D31: =+'Formulario de Inspección'!$H$5 -> 0 | E31: =+'Formulario de Inspección'!$A$7 -> Desconocida | F31: =+'Formulario de Inspección'!$D$7 -> Desconocido | G31: =+'Formulario de Inspección'!$H$7 -> Desconocido | H31: =+'Formulario de Inspección'!$P$7 -> Desconocido | I31: =+'Formulario de Inspección'!$R$7 -> 0 | J31: =+'Formulario de Inspección'!$A$9 -> 0 | K31: =+'Formulario de Inspección'!$D$9 -> INSPECCION ANUAL | L31: =+'Formulario de Inspección'!$H$9 -> N/A | M31: =+'Formulario de Inspección'!$P$9 -> N/A | N31: =+'Formulario de Inspección'!$R$9 -> 0 | O31: 2.1 Generalidades de estructura, remolque, Interfaz de enganche, calzas y extintor | P31: =+'Lista de defectos'!D31 -> p | Q31: =+'Lista de defectos'!G31 -> Calza de hule no cumple con las características reguladas para el tipo de equipo | R31: =+'Lista de defectos'!F31 -> DG | S31: =+'Formulario de Inspección'!N44 -> P | T31: =+'Formulario de Inspección'!O44 -> 0 | U31: =+'Formulario de Inspección'!$C$498 -> FAVORABLE | V31: =+'Formulario de Inspección'!$P$499 -> N/A | W31: =+'Formulario de Inspección'!$R$499 -> N/A | X31: =+'Formulario de Inspección'!$S$499 -> N/A | Y31: =+'Formulario de Inspección'!$H$514 -> 0
A32: =+'Formulario de Inspección'!$R$5 -> 0 | B32: ='Formulario de Inspección'!$A$5 -> 0 | C32: =+'Formulario de Inspección'!$D$5 -> Aire acondicionado | D32: =+'Formulario de Inspección'!$H$5 -> 0 | E32: =+'Formulario de Inspección'!$A$7 -> Desconocida | F32: =+'Formulario de Inspección'!$D$7 -> Desconocido | G32: =+'Formulario de Inspección'!$H$7 -> Desconocido | H32: =+'Formulario de Inspección'!$P$7 -> Desconocido | I32: =+'Formulario de Inspección'!$R$7 -> 0 | J32: =+'Formulario de Inspección'!$A$9 -> 0 | K32: =+'Formulario de Inspección'!$D$9 -> INSPECCION ANUAL | L32: =+'Formulario de Inspección'!$H$9 -> N/A | M32: =+'Formulario de Inspección'!$P$9 -> N/A | N32: =+'Formulario de Inspección'!$R$9 -> 0 | O32: 2.1 Generalidades de estructura, remolque, Interfaz de enganche, calzas y extintor | P32: =+'Lista de defectos'!D32 -> q | Q32: =+'Lista de defectos'!G32 -> Extintor inexistente, vencido o alguno de sus componentes defectuoso | R32: =+'Lista de defectos'!F32 -> DG | S32: =+'Formulario de Inspección'!N45 -> P | T32: =+'Formulario de Inspección'!O45 -> 0 | U32: =+'Formulario de Inspección'!$C$498 -> FAVORABLE | V32: =+'Formulario de Inspección'!$P$499 -> N/A | W32: =+'Formulario de Inspección'!$R$499 -> N/A | X32: =+'Formulario de Inspección'!$S$499 -> N/A | Y32: =+'Formulario de Inspección'!$H$514 -> 0
A33: =+'Formulario de Inspección'!$R$5 -> 0 | B33: ='Formulario de Inspección'!$A$5 -> 0 | C33: =+'Formulario de Inspección'!$D$5 -> Aire acondicionado | D33: =+'Formulario de Inspección'!$H$5 -> 0 | E33: =+'Formulario de Inspección'!$A$7 -> Desconocida | F33: =+'Formulario de Inspección'!$D$7 -> Desconocido | G33: =+'Formulario de Inspección'!$H$7 -> Desconocido | H33: =+'Formulario de Inspección'!$P$7 -> Desconocido | I33: =+'Formulario de Inspección'!$R$7 -> 0 | J33: =+'Formulario de Inspección'!$A$9 -> 0 | K33: =+'Formulario de Inspección'!$D$9 -> INSPECCION ANUAL | L33: =+'Formulario de Inspección'!$H$9 -> N/A | M33: =+'Formulario de Inspección'!$P$9 -> N/A | N33: =+'Formulario de Inspección'!$R$9 -> 0 | O33: 2.1 Generalidades de estructura, remolque, Interfaz de enganche, calzas y extintor | P33: =+'Lista de defectos'!D33 -> r | Q33: =+'Lista de defectos'!G33 -> Etiqueta de información del extintor inexistente o ilegible o alterada | R33: =+'Lista de defectos'!F33 -> DG | S33: =+'Formulario de Inspección'!N46 -> P | T33: =+'Formulario de Inspección'!O46 -> 0 | U33: =+'Formulario de Inspección'!$C$498 -> FAVORABLE | V33: =+'Formulario de Inspección'!$P$499 -> N/A | W33: =+'Formulario de Inspección'!$R$499 -> N/A | X33: =+'Formulario de Inspección'!$S$499 -> N/A | Y33: =+'Formulario de Inspección'!$H$514 -> 0
A34: =+'Formulario de Inspección'!$R$5 -> 0 | B34: ='Formulario de Inspección'!$A$5 -> 0 | C34: =+'Formulario de Inspección'!$D$5 -> Aire acondicionado | D34: =+'Formulario de Inspección'!$H$5 -> 0 | E34: =+'Formulario de Inspección'!$A$7 -> Desconocida | F34: =+'Formulario de Inspección'!$D$7 -> Desconocido | G34: =+'Formulario de Inspección'!$H$7 -> Desconocido | H34: =+'Formulario de Inspección'!$P$7 -> Desconocido | I34: =+'Formulario de Inspección'!$R$7 -> 0 | J34: =+'Formulario de Inspección'!$A$9 -> 0 | K34: =+'Formulario de Inspección'!$D$9 -> INSPECCION ANUAL | L34: =+'Formulario de Inspección'!$H$9 -> N/A | M34: =+'Formulario de Inspección'!$P$9 -> N/A | N34: =+'Formulario de Inspección'!$R$9 -> 0 | O34: 2.1 Generalidades de estructura, remolque, Interfaz de enganche, calzas y extintor | P34: =+'Lista de defectos'!D34 -> t | Q34: =+'Lista de defectos'!G34 -> Defecto de sujeción del extintor | R34: =+'Lista de defectos'!F34 -> DG | S34: =+'Formulario de Inspección'!N48 -> P | T34: =+'Formulario de Inspección'!O48 -> 0 | U34: =+'Formulario de Inspección'!$C$498 -> FAVORABLE | V34: =+'Formulario de Inspección'!$P$499 -> N/A | W34: =+'Formulario de Inspección'!$R$499 -> N/A | X34: =+'Formulario de Inspección'!$S$499 -> N/A | Y34: =+'Formulario de Inspección'!$H$514 -> 0
A35: =+'Formulario de Inspección'!$R$5 -> 0 | B35: ='Formulario de Inspección'!$A$5 -> 0 | C35: =+'Formulario de Inspección'!$D$5 -> Aire acondicionado | D35: =+'Formulario de Inspección'!$H$5 -> 0 | E35: =+'Formulario de Inspección'!$A$7 -> Desconocida | F35: =+'Formulario de Inspección'!$D$7 -> Desconocido | G35: =+'Formulario de Inspección'!$H$7 -> Desconocido | H35: =+'Formulario de Inspección'!$P$7 -> Desconocido | I35: =+'Formulario de Inspección'!$R$7 -> 0 | J35: =+'Formulario de Inspección'!$A$9 -> 0 | K35: =+'Formulario de Inspección'!$D$9 -> INSPECCION ANUAL | L35: =+'Formulario de Inspección'!$H$9 -> N/A | M35: =+'Formulario de Inspección'!$P$9 -> N/A | N35: =+'Formulario de Inspección'!$R$9 -> 0 | O35: 2.2 Puertas y Tapa de Motor | P35: =+'Lista de defectos'!D35 -> a | Q35: =+'Lista de defectos'!G35 -> Defectos de accionamiento en puerta en el acceso al vehículo | R35: =+'Lista de defectos'!F35 -> DL | S35: =+'Formulario de Inspección'!N54 -> ¡ | T35: =+'Formulario de Inspección'!O54 -> 0 | U35: =+'Formulario de Inspección'!$C$498 -> FAVORABLE | V35: =+'Formulario de Inspección'!$P$499 -> N/A | W35: =+'Formulario de Inspección'!$R$499 -> N/A | X35: =+'Formulario de Inspección'!$S$499 -> N/A | Y35: =+'Formulario de Inspección'!$H$514 -> 0
A36: =+'Formulario de Inspección'!$R$5 -> 0 | B36: ='Formulario de Inspección'!$A$5 -> 0 | C36: =+'Formulario de Inspección'!$D$5 -> Aire acondicionado | D36: =+'Formulario de Inspección'!$H$5 -> 0 | E36: =+'Formulario de Inspección'!$A$7 -> Desconocida | F36: =+'Formulario de Inspección'!$D$7 -> Desconocido | G36: =+'Formulario de Inspección'!$H$7 -> Desconocido | H36: =+'Formulario de Inspección'!$P$7 -> Desconocido | I36: =+'Formulario de Inspección'!$R$7 -> 0 | J36: =+'Formulario de Inspección'!$A$9 -> 0 | K36: =+'Formulario de Inspección'!$D$9 -> INSPECCION ANUAL | L36: =+'Formulario de Inspección'!$H$9 -> N/A | M36: =+'Formulario de Inspección'!$P$9 -> N/A | N36: =+'Formulario de Inspección'!$R$9 -> 0 | O36: 2.2 Puertas y Tapa de Motor | P36: =+'Lista de defectos'!D36 -> b | Q36: =+'Lista de defectos'!G36 -> Defectos de accionamiento en puerta en la salida del vehículo | R36: =+'Lista de defectos'!F36 -> DG | S36: =+'Formulario de Inspección'!N55 -> ¡ | T36: =+'Formulario de Inspección'!O55 -> 0 | U36: =+'Formulario de Inspección'!$C$498 -> FAVORABLE | V36: =+'Formulario de Inspección'!$P$499 -> N/A | W36: =+'Formulario de Inspección'!$R$499 -> N/A | X36: =+'Formulario de Inspección'!$S$499 -> N/A | Y36: =+'Formulario de Inspección'!$H$514 -> 0
A37: =+'Formulario de Inspección'!$R$5 -> 0 | B37: ='Formulario de Inspección'!$A$5 -> 0 | C37: =+'Formulario de Inspección'!$D$5 -> Aire acondicionado | D37: =+'Formulario de Inspección'!$H$5 -> 0 | E37: =+'Formulario de Inspección'!$A$7 -> Desconocida | F37: =+'Formulario de Inspección'!$D$7 -> Desconocido | G37: =+'Formulario de Inspección'!$H$7 -> Desconocido | H37: =+'Formulario de Inspección'!$P$7 -> Desconocido | I37: =+'Formulario de Inspección'!$R$7 -> 0 | J37: =+'Formulario de Inspección'!$A$9 -> 0 | K37: =+'Formulario de Inspección'!$D$9 -> INSPECCION ANUAL | L37: =+'Formulario de Inspección'!$H$9 -> N/A | M37: =+'Formulario de Inspección'!$P$9 -> N/A | N37: =+'Formulario de Inspección'!$R$9 -> 0 | O37: 2.2 Puertas y Tapa de Motor | P37: =+'Lista de defectos'!D37 -> c | Q37: =+'Lista de defectos'!G37 -> Bisagras defectuosas en puertas y compartimentos | R37: =+'Lista de defectos'!F37 -> DL | S37: =+'Formulario de Inspección'!N56 -> P | T37: =+'Formulario de Inspección'!O56 -> 0 | U37: =+'Formulario de Inspección'!$C$498 -> FAVORABLE | V37: =+'Formulario de Inspección'!$P$499 -> N/A | W37: =+'Formulario de Inspección'!$R$499 -> N/A | X37: =+'Formulario de Inspección'!$S$499 -> N/A | Y37: =+'Formulario de Inspección'!$H$514 -> 0
A38: =+'Formulario de Inspección'!$R$5 -> 0 | B38: ='Formulario de Inspección'!$A$5 -> 0 | C38: =+'Formulario de Inspección'!$D$5 -> Aire acondicionado | D38: =+'Formulario de Inspección'!$H$5 -> 0 | E38: =+'Formulario de Inspección'!$A$7 -> Desconocida | F38: =+'Formulario de Inspección'!$D$7 -> Desconocido | G38: =+'Formulario de Inspección'!$H$7 -> Desconocido | H38: =+'Formulario de Inspección'!$P$7 -> Desconocido | I38: =+'Formulario de Inspección'!$R$7 -> 0 | J38: =+'Formulario de Inspección'!$A$9 -> 0 | K38: =+'Formulario de Inspección'!$D$9 -> INSPECCION ANUAL | L38: =+'Formulario de Inspección'!$H$9 -> N/A | M38: =+'Formulario de Inspección'!$P$9 -> N/A | N38: =+'Formulario de Inspección'!$R$9 -> 0 | O38: 2.2 Puertas y Tapa de Motor | P38: =+'Lista de defectos'!D38 -> d | Q38: =+'Lista de defectos'!G38 -> Puertas y/o tapa de motor con riesgo de desprendimiento y/o apertura repentina | R38: =+'Lista de defectos'!F38 -> DG | S38: =+'Formulario de Inspección'!N57 -> P | T38: =+'Formulario de Inspección'!O57 -> 0 | U38: =+'Formulario de Inspección'!$C$498 -> FAVORABLE | V38: =+'Formulario de Inspección'!$P$499 -> N/A | W38: =+'Formulario de Inspección'!$R$499 -> N/A | X38: =+'Formulario de Inspección'!$S$499 -> N/A | Y38: =+'Formulario de Inspección'!$H$514 -> 0
A39: =+'Formulario de Inspección'!$R$5 -> 0 | B39: ='Formulario de Inspección'!$A$5 -> 0 | C39: =+'Formulario de Inspección'!$D$5 -> Aire acondicionado | D39: =+'Formulario de Inspección'!$H$5 -> 0 | E39: =+'Formulario de Inspección'!$A$7 -> Desconocida | F39: =+'Formulario de Inspección'!$D$7 -> Desconocido | G39: =+'Formulario de Inspección'!$H$7 -> Desconocido | H39: =+'Formulario de Inspección'!$P$7 -> Desconocido | I39: =+'Formulario de Inspección'!$R$7 -> 0 | J39: =+'Formulario de Inspección'!$A$9 -> 0 | K39: =+'Formulario de Inspección'!$D$9 -> INSPECCION ANUAL | L39: =+'Formulario de Inspección'!$H$9 -> N/A | M39: =+'Formulario de Inspección'!$P$9 -> N/A | N39: =+'Formulario de Inspección'!$R$9 -> 0 | O39: 2.3 Parabrisas y ventanas | P39: =+'Lista de defectos'!D39 -> a | Q39: =+'Lista de defectos'!G39 -> Parabrisas delantero inexistente (si el equipo cuenta con este de fabricación) | R39: =+'Lista de defectos'!F39 -> DG | S39: =+'Formulario de Inspección'!N60 -> ¡ | T39: =+'Formulario de Inspección'!O60 -> 0 | U39: =+'Formulario de Inspección'!$C$498 -> FAVORABLE | V39: =+'Formulario de Inspección'!$P$499 -> N/A | W39: =+'Formulario de Inspección'!$R$499 -> N/A | X39: =+'Formulario de Inspección'!$S$499 -> N/A | Y39: =+'Formulario de Inspección'!$H$514 -> 0
A40: =+'Formulario de Inspección'!$R$5 -> 0 | B40: ='Formulario de Inspección'!$A$5 -> 0 | C40: =+'Formulario de Inspección'!$D$5 -> Aire acondicionado | D40: =+'Formulario de Inspección'!$H$5 -> 0 | E40: =+'Formulario de Inspección'!$A$7 -> Desconocida | F40: =+'Formulario de Inspección'!$D$7 -> Desconocido | G40: =+'Formulario de Inspección'!$H$7 -> Desconocido | H40: =+'Formulario de Inspección'!$P$7 -> Desconocido | I40: =+'Formulario de Inspección'!$R$7 -> 0 | J40: =+'Formulario de Inspección'!$A$9 -> 0 | K40: =+'Formulario de Inspección'!$D$9 -> INSPECCION ANUAL | L40: =+'Formulario de Inspección'!$H$9 -> N/A | M40: =+'Formulario de Inspección'!$P$9 -> N/A | N40: =+'Formulario de Inspección'!$R$9 -> 0 | O40: 2.3 Parabrisas y ventanas | P40: =+'Lista de defectos'!D40 -> b | Q40: =+'Lista de defectos'!G40 -> Accionamiento de ventanas defectuoso | R40: =+'Lista de defectos'!F40 -> DL | S40: =+'Formulario de Inspección'!N61 -> ¡ | T40: =+'Formulario de Inspección'!O61 -> 0 | U40: =+'Formulario de Inspección'!$C$498 -> FAVORABLE | V40: =+'Formulario de Inspección'!$P$499 -> N/A | W40: =+'Formulario de Inspección'!$R$499 -> N/A | X40: =+'Formulario de Inspección'!$S$499 -> N/A | Y40: =+'Formulario de Inspección'!$H$514 -> 0
A41: =+'Formulario de Inspección'!$R$5 -> 0 | B41: ='Formulario de Inspección'!$A$5 -> 0 | C41: =+'Formulario de Inspección'!$D$5 -> Aire acondicionado | D41: =+'Formulario de Inspección'!$H$5 -> 0 | E41: =+'Formulario de Inspección'!$A$7 -> Desconocida | F41: =+'Formulario de Inspección'!$D$7 -> Desconocido | G41: =+'Formulario de Inspección'!$H$7 -> Desconocido | H41: =+'Formulario de Inspección'!$P$7 -> Desconocido | I41: =+'Formulario de Inspección'!$R$7 -> 0 | J41: =+'Formulario de Inspección'!$A$9 -> 0 | K41: =+'Formulario de Inspección'!$D$9 -> INSPECCION ANUAL | L41: =+'Formulario de Inspección'!$H$9 -> N/A | M41: =+'Formulario de Inspección'!$P$9 -> N/A | N41: =+'Formulario de Inspección'!$R$9 -> 0 | O41: 2.3 Parabrisas y ventanas | P41: =+'Lista de defectos'!D41 -> c | Q41: =+'Lista de defectos'!G41 -> Existencia de lámina adhesiva anti solar, polarizado, sticker, adhesivos o similares en el parabrisas delantero. | R41: =+'Lista de defectos'!F41 -> DG | S41: =+'Formulario de Inspección'!N62 -> ¡ | T41: =+'Formulario de Inspección'!O62 -> 0 | U41: =+'Formulario de Inspección'!$C$498 -> FAVORABLE | V41: =+'Formulario de Inspección'!$P$499 -> N/A | W41: =+'Formulario de Inspección'!$R$499 -> N/A | X41: =+'Formulario de Inspección'!$S$499 -> N/A | Y41: =+'Formulario de Inspección'!$H$514 -> 0
A42: =+'Formulario de Inspección'!$R$5 -> 0 | B42: ='Formulario de Inspección'!$A$5 -> 0 | C42: =+'Formulario de Inspección'!$D$5 -> Aire acondicionado | D42: =+'Formulario de Inspección'!$H$5 -> 0 | E42: =+'Formulario de Inspección'!$A$7 -> Desconocida | F42: =+'Formulario de Inspección'!$D$7 -> Desconocido | G42: =+'Formulario de Inspección'!$H$7 -> Desconocido | H42: =+'Formulario de Inspección'!$P$7 -> Desconocido | I42: =+'Formulario de Inspección'!$R$7 -> 0 | J42: =+'Formulario de Inspección'!$A$9 -> 0 | K42: =+'Formulario de Inspección'!$D$9 -> INSPECCION ANUAL | L42: =+'Formulario de Inspección'!$H$9 -> N/A | M42: =+'Formulario de Inspección'!$P$9 -> N/A | N42: =+'Formulario de Inspección'!$R$9 -> 0 | O42: 2.3 Parabrisas y ventanas | P42: =+'Lista de defectos'!D42 -> d | Q42: =+'Lista de defectos'!G42 -> Existencia de lámina adhesiva anti solar, ,adhesivos o similares en ventanillas y/o parabrisas trasero | R42: =+'Lista de defectos'!F42 -> DL | S42: =+'Formulario de Inspección'!N63 -> ¡ | T42: =+'Formulario de Inspección'!O63 -> 0 | U42: =+'Formulario de Inspección'!$C$498 -> FAVORABLE | V42: =+'Formulario de Inspección'!$P$499 -> N/A | W42: =+'Formulario de Inspección'!$R$499 -> N/A | X42: =+'Formulario de Inspección'!$S$499 -> N/A | Y42: =+'Formulario de Inspección'!$H$514 -> 0
A43: =+'Formulario de Inspección'!$R$5 -> 0 | B43: ='Formulario de Inspección'!$A$5 -> 0 | C43: =+'Formulario de Inspección'!$D$5 -> Aire acondicionado | D43: =+'Formulario de Inspección'!$H$5 -> 0 | E43: =+'Formulario de Inspección'!$A$7 -> Desconocida | F43: =+'Formulario de Inspección'!$D$7 -> Desconocido | G43: =+'Formulario de Inspección'!$H$7 -> Desconocido | H43: =+'Formulario de Inspección'!$P$7 -> Desconocido | I43: =+'Formulario de Inspección'!$R$7 -> 0 | J43: =+'Formulario de Inspección'!$A$9 -> 0 | K43: =+'Formulario de Inspección'!$D$9 -> INSPECCION ANUAL | L43: =+'Formulario de Inspección'!$H$9 -> N/A | M43: =+'Formulario de Inspección'!$P$9 -> N/A | N43: =+'Formulario de Inspección'!$R$9 -> 0 | O43: 2.3 Parabrisas y ventanas | P43: =+'Lista de defectos'!D43 -> e | Q43: =+'Lista de defectos'!G43 -> Fisuras o impactos con radio mayor a 5 cm pero menor a 15 cm en el parabrisas delantero, fuera del campo de visión del conductor. | R43: =+'Lista de defectos'!F43 -> DL | S43: =+'Formulario de Inspección'!N64 -> ¡ | T43: =+'Formulario de Inspección'!O64 -> 0 | U43: =+'Formulario de Inspección'!$C$498 -> FAVORABLE | V43: =+'Formulario de Inspección'!$P$499 -> N/A | W43: =+'Formulario de Inspección'!$R$499 -> N/A | X43: =+'Formulario de Inspección'!$S$499 -> N/A | Y43: =+'Formulario de Inspección'!$H$514 -> 0
A44: =+'Formulario de Inspección'!$R$5 -> 0 | B44: ='Formulario de Inspección'!$A$5 -> 0 | C44: =+'Formulario de Inspección'!$D$5 -> Aire acondicionado | D44: =+'Formulario de Inspección'!$H$5 -> 0 | E44: =+'Formulario de Inspección'!$A$7 -> Desconocida | F44: =+'Formulario de Inspección'!$D$7 -> Desconocido | G44: =+'Formulario de Inspección'!$H$7 -> Desconocido | H44: =+'Formulario de Inspección'!$P$7 -> Desconocido | I44: =+'Formulario de Inspección'!$R$7 -> 0 | J44: =+'Formulario de Inspección'!$A$9 -> 0 | K44: =+'Formulario de Inspección'!$D$9 -> INSPECCION ANUAL | L44: =+'Formulario de Inspección'!$H$9 -> N/A | M44: =+'Formulario de Inspección'!$P$9 -> N/A | N44: =+'Formulario de Inspección'!$R$9 -> 0 | O44: 2.3 Parabrisas y ventanas | P44: =+'Lista de defectos'!D44 -> f | Q44: =+'Lista de defectos'!G44 -> Fisuras o impactos con radio mayor a 5 cm en el parabrisas delantero, dentro del campo de visión del conductor. | R44: =+'Lista de defectos'!F44 -> DG | S44: =+'Formulario de Inspección'!N65 -> ¡ | T44: =+'Formulario de Inspección'!O65 -> 0 | U44: =+'Formulario de Inspección'!$C$498 -> FAVORABLE | V44: =+'Formulario de Inspección'!$P$499 -> N/A | W44: =+'Formulario de Inspección'!$R$499 -> N/A | X44: =+'Formulario de Inspección'!$S$499 -> N/A | Y44: =+'Formulario de Inspección'!$H$514 -> 0
A45: =+'Formulario de Inspección'!$R$5 -> 0 | B45: ='Formulario de Inspección'!$A$5 -> 0 | C45: =+'Formulario de Inspección'!$D$5 -> Aire acondicionado | D45: =+'Formulario de Inspección'!$H$5 -> 0 | E45: =+'Formulario de Inspección'!$A$7 -> Desconocida | F45: =+'Formulario de Inspección'!$D$7 -> Desconocido | G45: =+'Formulario de Inspección'!$H$7 -> Desconocido | H45: =+'Formulario de Inspección'!$P$7 -> Desconocido | I45: =+'Formulario de Inspección'!$R$7 -> 0 | J45: =+'Formulario de Inspección'!$A$9 -> 0 | K45: =+'Formulario de Inspección'!$D$9 -> INSPECCION ANUAL | L45: =+'Formulario de Inspección'!$H$9 -> N/A | M45: =+'Formulario de Inspección'!$P$9 -> N/A | N45: =+'Formulario de Inspección'!$R$9 -> 0 | O45: 2.3 Parabrisas y ventanas | P45: =+'Lista de defectos'!D45 -> g | Q45: =+'Lista de defectos'!G45 -> Fisura o impactos con radio mayor a 5 cm en las ventanillas o parabrisas trasero. | R45: =+'Lista de defectos'!F45 -> DL | S45: =+'Formulario de Inspección'!N66 -> ¡ | T45: =+'Formulario de Inspección'!O66 -> 0 | U45: =+'Formulario de Inspección'!$C$498 -> FAVORABLE | V45: =+'Formulario de Inspección'!$P$499 -> N/A | W45: =+'Formulario de Inspección'!$R$499 -> N/A | X45: =+'Formulario de Inspección'!$S$499 -> N/A | Y45: =+'Formulario de Inspección'!$H$514 -> 0
A46: =+'Formulario de Inspección'!$R$5 -> 0 | B46: ='Formulario de Inspección'!$A$5 -> 0 | C46: =+'Formulario de Inspección'!$D$5 -> Aire acondicionado | D46: =+'Formulario de Inspección'!$H$5 -> 0 | E46: =+'Formulario de Inspección'!$A$7 -> Desconocida | F46: =+'Formulario de Inspección'!$D$7 -> Desconocido | G46: =+'Formulario de Inspección'!$H$7 -> Desconocido | H46: =+'Formulario de Inspección'!$P$7 -> Desconocido | I46: =+'Formulario de Inspección'!$R$7 -> 0 | J46: =+'Formulario de Inspección'!$A$9 -> 0 | K46: =+'Formulario de Inspección'!$D$9 -> INSPECCION ANUAL | L46: =+'Formulario de Inspección'!$H$9 -> N/A | M46: =+'Formulario de Inspección'!$P$9 -> N/A | N46: =+'Formulario de Inspección'!$R$9 -> 0 | O46: 2.4 Limpiaparabrisas | P46: =+'Lista de defectos'!D46 -> a | Q46: =+'Lista de defectos'!G46 -> Inexistencia de los limpiaparabrisas (escobillas) | R46: =+'Lista de defectos'!F46 -> DG | S46: =+'Formulario de Inspección'!N69 -> ¡ | T46: =+'Formulario de Inspección'!O69 -> 0 | U46: =+'Formulario de Inspección'!$C$498 -> FAVORABLE | V46: =+'Formulario de Inspección'!$P$499 -> N/A | W46: =+'Formulario de Inspección'!$R$499 -> N/A | X46: =+'Formulario de Inspección'!$S$499 -> N/A | Y46: =+'Formulario de Inspección'!$H$514 -> 0
A47: =+'Formulario de Inspección'!$R$5 -> 0 | B47: ='Formulario de Inspección'!$A$5 -> 0 | C47: =+'Formulario de Inspección'!$D$5 -> Aire acondicionado | D47: =+'Formulario de Inspección'!$H$5 -> 0 | E47: =+'Formulario de Inspección'!$A$7 -> Desconocida | F47: =+'Formulario de Inspección'!$D$7 -> Desconocido | G47: =+'Formulario de Inspección'!$H$7 -> Desconocido | H47: =+'Formulario de Inspección'!$P$7 -> Desconocido | I47: =+'Formulario de Inspección'!$R$7 -> 0 | J47: =+'Formulario de Inspección'!$A$9 -> 0 | K47: =+'Formulario de Inspección'!$D$9 -> INSPECCION ANUAL | L47: =+'Formulario de Inspección'!$H$9 -> N/A | M47: =+'Formulario de Inspección'!$P$9 -> N/A | N47: =+'Formulario de Inspección'!$R$9 -> 0 | O47: 2.4 Limpiaparabrisas | P47: =+'Lista de defectos'!D47 -> b | Q47: =+'Lista de defectos'!G47 -> Mal funcionamiento del limpiaparabrisas (escobillas) | R47: =+'Lista de defectos'!F47 -> DG | S47: =+'Formulario de Inspección'!N70 -> ¡ | T47: =+'Formulario de Inspección'!O70 -> 0 | U47: =+'Formulario de Inspección'!$C$498 -> FAVORABLE | V47: =+'Formulario de Inspección'!$P$499 -> N/A | W47: =+'Formulario de Inspección'!$R$499 -> N/A | X47: =+'Formulario de Inspección'!$S$499 -> N/A | Y47: =+'Formulario de Inspección'!$H$514 -> 0
A48: =+'Formulario de Inspección'!$R$5 -> 0 | B48: ='Formulario de Inspección'!$A$5 -> 0 | C48: =+'Formulario de Inspección'!$D$5 -> Aire acondicionado | D48: =+'Formulario de Inspección'!$H$5 -> 0 | E48: =+'Formulario de Inspección'!$A$7 -> Desconocida | F48: =+'Formulario de Inspección'!$D$7 -> Desconocido | G48: =+'Formulario de Inspección'!$H$7 -> Desconocido | H48: =+'Formulario de Inspección'!$P$7 -> Desconocido | I48: =+'Formulario de Inspección'!$R$7 -> 0 | J48: =+'Formulario de Inspección'!$A$9 -> 0 | K48: =+'Formulario de Inspección'!$D$9 -> INSPECCION ANUAL | L48: =+'Formulario de Inspección'!$H$9 -> N/A | M48: =+'Formulario de Inspección'!$P$9 -> N/A | N48: =+'Formulario de Inspección'!$R$9 -> 0 | O48: 2.4 Limpiaparabrisas | P48: =+'Lista de defectos'!D48 -> c | Q48: =+'Lista de defectos'!G48 -> Mal estado de los limpiaparabrisas (escobillas) | R48: =+'Lista de defectos'!F48 -> DL | S48: =+'Formulario de Inspección'!N71 -> ¡ | T48: =+'Formulario de Inspección'!O71 -> 0 | U48: =+'Formulario de Inspección'!$C$498 -> FAVORABLE | V48: =+'Formulario de Inspección'!$P$499 -> N/A | W48: =+'Formulario de Inspección'!$R$499 -> N/A | X48: =+'Formulario de Inspección'!$S$499 -> N/A | Y48: =+'Formulario de Inspección'!$H$514 -> 0
A49: =+'Formulario de Inspección'!$R$5 -> 0 | B49: ='Formulario de Inspección'!$A$5 -> 0 | C49: =+'Formulario de Inspección'!$D$5 -> Aire acondicionado | D49: =+'Formulario de Inspección'!$H$5 -> 0 | E49: =+'Formulario de Inspección'!$A$7 -> Desconocida | F49: =+'Formulario de Inspección'!$D$7 -> Desconocido | G49: =+'Formulario de Inspección'!$H$7 -> Desconocido | H49: =+'Formulario de Inspección'!$P$7 -> Desconocido | I49: =+'Formulario de Inspección'!$R$7 -> 0 | J49: =+'Formulario de Inspección'!$A$9 -> 0 | K49: =+'Formulario de Inspección'!$D$9 -> INSPECCION ANUAL | L49: =+'Formulario de Inspección'!$H$9 -> N/A | M49: =+'Formulario de Inspección'!$P$9 -> N/A | N49: =+'Formulario de Inspección'!$R$9 -> 0 | O49: 2.5 Retrovisores exteriores | P49: =+'Lista de defectos'!D49 -> a | Q49: =+'Lista de defectos'!G49 -> Inexistencia de retrovisores (izquierdo o derecho), cuando es obligatorio. | R49: =+'Lista de defectos'!F49 -> DG | S49: =+'Formulario de Inspección'!N74 -> ¡ | T49: =+'Formulario de Inspección'!O74 -> 0 | U49: =+'Formulario de Inspección'!$C$498 -> FAVORABLE | V49: =+'Formulario de Inspección'!$P$499 -> N/A | W49: =+'Formulario de Inspección'!$R$499 -> N/A | X49: =+'Formulario de Inspección'!$S$499 -> N/A | Y49: =+'Formulario de Inspección'!$H$514 -> 0
A50: =+'Formulario de Inspección'!$R$5 -> 0 | B50: ='Formulario de Inspección'!$A$5 -> 0 | C50: =+'Formulario de Inspección'!$D$5 -> Aire acondicionado | D50: =+'Formulario de Inspección'!$H$5 -> 0 | E50: =+'Formulario de Inspección'!$A$7 -> Desconocida | F50: =+'Formulario de Inspección'!$D$7 -> Desconocido | G50: =+'Formulario de Inspección'!$H$7 -> Desconocido | H50: =+'Formulario de Inspección'!$P$7 -> Desconocido | I50: =+'Formulario de Inspección'!$R$7 -> 0 | J50: =+'Formulario de Inspección'!$A$9 -> 0 | K50: =+'Formulario de Inspección'!$D$9 -> INSPECCION ANUAL | L50: =+'Formulario de Inspección'!$H$9 -> N/A | M50: =+'Formulario de Inspección'!$P$9 -> N/A | N50: =+'Formulario de Inspección'!$R$9 -> 0 | O50: 2.5 Retrovisores exteriores | P50: =+'Lista de defectos'!D50 -> b | Q50: =+'Lista de defectos'!G50 -> Inexistencia de retrovisor derecho en vehículos, cuando no es obligatorio. | R50: =+'Lista de defectos'!F50 -> DL | S50: =+'Formulario de Inspección'!N75 -> ¡ | T50: =+'Formulario de Inspección'!O75 -> 0 | U50: =+'Formulario de Inspección'!$C$498 -> FAVORABLE | V50: =+'Formulario de Inspección'!$P$499 -> N/A | W50: =+'Formulario de Inspección'!$R$499 -> N/A | X50: =+'Formulario de Inspección'!$S$499 -> N/A | Y50: =+'Formulario de Inspección'!$H$514 -> 0
A51: =+'Formulario de Inspección'!$R$5 -> 0 | B51: ='Formulario de Inspección'!$A$5 -> 0 | C51: =+'Formulario de Inspección'!$D$5 -> Aire acondicionado | D51: =+'Formulario de Inspección'!$H$5 -> 0 | E51: =+'Formulario de Inspección'!$A$7 -> Desconocida | F51: =+'Formulario de Inspección'!$D$7 -> Desconocido | G51: =+'Formulario de Inspección'!$H$7 -> Desconocido | H51: =+'Formulario de Inspección'!$P$7 -> Desconocido | I51: =+'Formulario de Inspección'!$R$7 -> 0 | J51: =+'Formulario de Inspección'!$A$9 -> 0 | K51: =+'Formulario de Inspección'!$D$9 -> INSPECCION ANUAL | L51: =+'Formulario de Inspección'!$H$9 -> N/A | M51: =+'Formulario de Inspección'!$P$9 -> N/A | N51: =+'Formulario de Inspección'!$R$9 -> 0 | O51: 2.5 Retrovisores exteriores | P51: =+'Lista de defectos'!D51 -> c | Q51: =+'Lista de defectos'!G51 -> Deterioro de las superficies que no afecten la retro visión. | R51: =+'Lista de defectos'!F51 -> DL | S51: =+'Formulario de Inspección'!N76 -> ¡ | T51: =+'Formulario de Inspección'!O76 -> 0 | U51: =+'Formulario de Inspección'!$C$498 -> FAVORABLE | V51: =+'Formulario de Inspección'!$P$499 -> N/A | W51: =+'Formulario de Inspección'!$R$499 -> N/A | X51: =+'Formulario de Inspección'!$S$499 -> N/A | Y51: =+'Formulario de Inspección'!$H$514 -> 0
A52: =+'Formulario de Inspección'!$R$5 -> 0 | B52: ='Formulario de Inspección'!$A$5 -> 0 | C52: =+'Formulario de Inspección'!$D$5 -> Aire acondicionado | D52: =+'Formulario de Inspección'!$H$5 -> 0 | E52: =+'Formulario de Inspección'!$A$7 -> Desconocida | F52: =+'Formulario de Inspección'!$D$7 -> Desconocido | G52: =+'Formulario de Inspección'!$H$7 -> Desconocido | H52: =+'Formulario de Inspección'!$P$7 -> Desconocido | I52: =+'Formulario de Inspección'!$R$7 -> 0 | J52: =+'Formulario de Inspección'!$A$9 -> 0 | K52: =+'Formulario de Inspección'!$D$9 -> INSPECCION ANUAL | L52: =+'Formulario de Inspección'!$H$9 -> N/A | M52: =+'Formulario de Inspección'!$P$9 -> N/A | N52: =+'Formulario de Inspección'!$R$9 -> 0 | O52: 2.5 Retrovisores exteriores | P52: =+'Lista de defectos'!D52 -> d | Q52: =+'Lista de defectos'!G52 -> Deterioro excesivo de la superficie que impidan la retro visión. | R52: =+'Lista de defectos'!F52 -> DG | S52: =+'Formulario de Inspección'!N77 -> ¡ | T52: =+'Formulario de Inspección'!O77 -> 0 | U52: =+'Formulario de Inspección'!$C$498 -> FAVORABLE | V52: =+'Formulario de Inspección'!$P$499 -> N/A | W52: =+'Formulario de Inspección'!$R$499 -> N/A | X52: =+'Formulario de Inspección'!$S$499 -> N/A | Y52: =+'Formulario de Inspección'!$H$514 -> 0
A53: =+'Formulario de Inspección'!$R$5 -> 0 | B53: ='Formulario de Inspección'!$A$5 -> 0 | C53: =+'Formulario de Inspección'!$D$5 -> Aire acondicionado | D53: =+'Formulario de Inspección'!$H$5 -> 0 | E53: =+'Formulario de Inspección'!$A$7 -> Desconocida | F53: =+'Formulario de Inspección'!$D$7 -> Desconocido | G53: =+'Formulario de Inspección'!$H$7 -> Desconocido | H53: =+'Formulario de Inspección'!$P$7 -> Desconocido | I53: =+'Formulario de Inspección'!$R$7 -> 0 | J53: =+'Formulario de Inspección'!$A$9 -> 0 | K53: =+'Formulario de Inspección'!$D$9 -> INSPECCION ANUAL | L53: =+'Formulario de Inspección'!$H$9 -> N/A | M53: =+'Formulario de Inspección'!$P$9 -> N/A | N53: =+'Formulario de Inspección'!$R$9 -> 0 | O53: 2.5 Retrovisores exteriores | P53: =+'Lista de defectos'!D53 -> e | Q53: =+'Lista de defectos'!G53 -> Fijación defectuosa. | R53: =+'Lista de defectos'!F53 -> DL | S53: =+'Formulario de Inspección'!N78 -> ¡ | T53: =+'Formulario de Inspección'!O78 -> 0 | U53: =+'Formulario de Inspección'!$C$498 -> FAVORABLE | V53: =+'Formulario de Inspección'!$P$499 -> N/A | W53: =+'Formulario de Inspección'!$R$499 -> N/A | X53: =+'Formulario de Inspección'!$S$499 -> N/A | Y53: =+'Formulario de Inspección'!$H$514 -> 0
A54: =+'Formulario de Inspección'!$R$5 -> 0 | B54: ='Formulario de Inspección'!$A$5 -> 0 | C54: =+'Formulario de Inspección'!$D$5 -> Aire acondicionado | D54: =+'Formulario de Inspección'!$H$5 -> 0 | E54: =+'Formulario de Inspección'!$A$7 -> Desconocida | F54: =+'Formulario de Inspección'!$D$7 -> Desconocido | G54: =+'Formulario de Inspección'!$H$7 -> Desconocido | H54: =+'Formulario de Inspección'!$P$7 -> Desconocido | I54: =+'Formulario de Inspección'!$R$7 -> 0 | J54: =+'Formulario de Inspección'!$A$9 -> 0 | K54: =+'Formulario de Inspección'!$D$9 -> INSPECCION ANUAL | L54: =+'Formulario de Inspección'!$H$9 -> N/A | M54: =+'Formulario de Inspección'!$P$9 -> N/A | N54: =+'Formulario de Inspección'!$R$9 -> 0 | O54: 2.5 Retrovisores exteriores | P54: =+'Lista de defectos'!D54 -> f | Q54: =+'Lista de defectos'!G54 -> Mal estado de la estructura o fijación defectuosa con riesgo de desprendimiento. | R54: =+'Lista de defectos'!F54 -> DG | S54: =+'Formulario de Inspección'!N79 -> ¡ | T54: =+'Formulario de Inspección'!O79 -> 0 | U54: =+'Formulario de Inspección'!$C$498 -> FAVORABLE | V54: =+'Formulario de Inspección'!$P$499 -> N/A | W54: =+'Formulario de Inspección'!$R$499 -> N/A | X54: =+'Formulario de Inspección'!$S$499 -> N/A | Y54: =+'Formulario de Inspección'!$H$514 -> 0
A55: =+'Formulario de Inspección'!$R$5 -> 0 | B55: ='Formulario de Inspección'!$A$5 -> 0 | C55: =+'Formulario de Inspección'!$D$5 -> Aire acondicionado | D55: =+'Formulario de Inspección'!$H$5 -> 0 | E55: =+'Formulario de Inspección'!$A$7 -> Desconocida | F55: =+'Formulario de Inspección'!$D$7 -> Desconocido | G55: =+'Formulario de Inspección'!$H$7 -> Desconocido | H55: =+'Formulario de Inspección'!$P$7 -> Desconocido | I55: =+'Formulario de Inspección'!$R$7 -> 0 | J55: =+'Formulario de Inspección'!$A$9 -> 0 | K55: =+'Formulario de Inspección'!$D$9 -> INSPECCION ANUAL | L55: =+'Formulario de Inspección'!$H$9 -> N/A | M55: =+'Formulario de Inspección'!$P$9 -> N/A | N55: =+'Formulario de Inspección'!$R$9 -> 0 | O55: 3.1 Asientos y sus anclajes | P55: =+'Lista de defectos'!D55 -> a | Q55: =+'Lista de defectos'!G55 -> Asiento con deterioro | R55: =+'Lista de defectos'!F55 -> DL | S55: =+'Formulario de Inspección'!N83 -> ¡ | T55: =+'Formulario de Inspección'!O83 -> 0 | U55: =+'Formulario de Inspección'!$C$498 -> FAVORABLE | V55: =+'Formulario de Inspección'!$P$499 -> N/A | W55: =+'Formulario de Inspección'!$R$499 -> N/A | X55: =+'Formulario de Inspección'!$S$499 -> N/A | Y55: =+'Formulario de Inspección'!$H$514 -> 0
A56: =+'Formulario de Inspección'!$R$5 -> 0 | B56: ='Formulario de Inspección'!$A$5 -> 0 | C56: =+'Formulario de Inspección'!$D$5 -> Aire acondicionado | D56: =+'Formulario de Inspección'!$H$5 -> 0 | E56: =+'Formulario de Inspección'!$A$7 -> Desconocida | F56: =+'Formulario de Inspección'!$D$7 -> Desconocido | G56: =+'Formulario de Inspección'!$H$7 -> Desconocido | H56: =+'Formulario de Inspección'!$P$7 -> Desconocido | I56: =+'Formulario de Inspección'!$R$7 -> 0 | J56: =+'Formulario de Inspección'!$A$9 -> 0 | K56: =+'Formulario de Inspección'!$D$9 -> INSPECCION ANUAL | L56: =+'Formulario de Inspección'!$H$9 -> N/A | M56: =+'Formulario de Inspección'!$P$9 -> N/A | N56: =+'Formulario de Inspección'!$R$9 -> 0 | O56: 3.1 Asientos y sus anclajes | P56: =+'Lista de defectos'!D56 -> b | Q56: =+'Lista de defectos'!G56 -> Asiento muy deteriorado. | R56: =+'Lista de defectos'!F56 -> DG | S56: =+'Formulario de Inspección'!N84 -> ¡ | T56: =+'Formulario de Inspección'!O84 -> 0 | U56: =+'Formulario de Inspección'!$C$498 -> FAVORABLE | V56: =+'Formulario de Inspección'!$P$499 -> N/A | W56: =+'Formulario de Inspección'!$R$499 -> N/A | X56: =+'Formulario de Inspección'!$S$499 -> N/A | Y56: =+'Formulario de Inspección'!$H$514 -> 0
A57: =+'Formulario de Inspección'!$R$5 -> 0 | B57: ='Formulario de Inspección'!$A$5 -> 0 | C57: =+'Formulario de Inspección'!$D$5 -> Aire acondicionado | D57: =+'Formulario de Inspección'!$H$5 -> 0 | E57: =+'Formulario de Inspección'!$A$7 -> Desconocida | F57: =+'Formulario de Inspección'!$D$7 -> Desconocido | G57: =+'Formulario de Inspección'!$H$7 -> Desconocido | H57: =+'Formulario de Inspección'!$P$7 -> Desconocido | I57: =+'Formulario de Inspección'!$R$7 -> 0 | J57: =+'Formulario de Inspección'!$A$9 -> 0 | N57: =+'Formulario de Inspección'!$R$9 -> 0 | O57: 3.1 Asientos y sus anclajes | P57: =+'Lista de defectos'!D57 -> c | Q57: =+'Lista de defectos'!G57 -> Fijación defectuosa. | R57: =+'Lista de defectos'!F57 -> DL | S57: =+'Formulario de Inspección'!N85 -> ¡ | T57: =+'Formulario de Inspección'!O85 -> 0 | U57: =+'Formulario de Inspección'!$C$498 -> FAVORABLE | V57: =+'Formulario de Inspección'!$P$499 -> N/A | W57: =+'Formulario de Inspección'!$R$499 -> N/A | X57: =+'Formulario de Inspección'!$S$499 -> N/A | Y57: =+'Formulario de Inspección'!$H$514 -> 0
A58: =+'Formulario de Inspección'!$R$5 -> 0 | B58: ='Formulario de Inspección'!$A$5 -> 0 | C58: =+'Formulario de Inspección'!$D$5 -> Aire acondicionado | D58: =+'Formulario de Inspección'!$H$5 -> 0 | E58: =+'Formulario de Inspección'!$A$7 -> Desconocida | F58: =+'Formulario de Inspección'!$D$7 -> Desconocido | G58: =+'Formulario de Inspección'!$H$7 -> Desconocido | H58: =+'Formulario de Inspección'!$P$7 -> Desconocido | I58: =+'Formulario de Inspección'!$R$7 -> 0 | J58: =+'Formulario de Inspección'!$A$9 -> 0 | K58: =+'Formulario de Inspección'!$D$9 -> INSPECCION ANUAL | L58: =+'Formulario de Inspección'!$H$9 -> N/A | M58: =+'Formulario de Inspección'!$P$9 -> N/A | N58: =+'Formulario de Inspección'!$R$9 -> 0 | O58: 3.1 Asientos y sus anclajes | P58: =+'Lista de defectos'!D58 -> d | Q58: =+'Lista de defectos'!G58 -> Fijación defectuosa con riesgo de desprendimiento. | R58: =+'Lista de defectos'!F58 -> DG | S58: =+'Formulario de Inspección'!N86 -> ¡ | T58: =+'Formulario de Inspección'!O86 -> 0 | U58: =+'Formulario de Inspección'!$C$498 -> FAVORABLE | V58: =+'Formulario de Inspección'!$P$499 -> N/A | W58: =+'Formulario de Inspección'!$R$499 -> N/A | X58: =+'Formulario de Inspección'!$S$499 -> N/A | Y58: =+'Formulario de Inspección'!$H$514 -> 0
A59: =+'Formulario de Inspección'!$R$5 -> 0 | B59: ='Formulario de Inspección'!$A$5 -> 0 | C59: =+'Formulario de Inspección'!$D$5 -> Aire acondicionado | D59: =+'Formulario de Inspección'!$H$5 -> 0 | E59: =+'Formulario de Inspección'!$A$7 -> Desconocida | F59: =+'Formulario de Inspección'!$D$7 -> Desconocido | G59: =+'Formulario de Inspección'!$H$7 -> Desconocido | H59: =+'Formulario de Inspección'!$P$7 -> Desconocido | I59: =+'Formulario de Inspección'!$R$7 -> 0 | J59: =+'Formulario de Inspección'!$A$9 -> 0 | K59: =+'Formulario de Inspección'!$D$9 -> INSPECCION ANUAL | L59: =+'Formulario de Inspección'!$H$9 -> N/A | M59: =+'Formulario de Inspección'!$P$9 -> N/A | N59: =+'Formulario de Inspección'!$R$9 -> 0 | O59: 3.1 Asientos y sus anclajes | P59: =+'Lista de defectos'!D59 -> e | Q59: =+'Lista de defectos'!G59 -> Capacidad de ocupantes distinta a la espesificada por el fabricante | R59: =+'Lista de defectos'!F59 -> DL | S59: =+'Formulario de Inspección'!N87 -> ¡ | T59: =+'Formulario de Inspección'!O87 -> 0 | U59: =+'Formulario de Inspección'!$C$498 -> FAVORABLE | V59: =+'Formulario de Inspección'!$P$499 -> N/A | W59: =+'Formulario de Inspección'!$R$499 -> N/A | X59: =+'Formulario de Inspección'!$S$499 -> N/A | Y59: =+'Formulario de Inspección'!$H$514 -> 0
A60: =+'Formulario de Inspección'!$R$5 -> 0 | B60: ='Formulario de Inspección'!$A$5 -> 0 | C60: =+'Formulario de Inspección'!$D$5 -> Aire acondicionado | D60: =+'Formulario de Inspección'!$H$5 -> 0 | E60: =+'Formulario de Inspección'!$A$7 -> Desconocida | F60: =+'Formulario de Inspección'!$D$7 -> Desconocido | G60: =+'Formulario de Inspección'!$H$7 -> Desconocido | H60: =+'Formulario de Inspección'!$P$7 -> Desconocido | I60: =+'Formulario de Inspección'!$R$7 -> 0 | J60: =+'Formulario de Inspección'!$A$9 -> 0 | K60: =+'Formulario de Inspección'!$D$9 -> INSPECCION ANUAL | L60: =+'Formulario de Inspección'!$H$9 -> N/A | M60: =+'Formulario de Inspección'!$P$9 -> N/A | N60: =+'Formulario de Inspección'!$R$9 -> 0 | O60: 3.1 Asientos y sus anclajes | P60: =+'Lista de defectos'!D60 -> f | Q60: =+'Lista de defectos'!G60 -> Mecanismos de ajuste que no permiten la fijación (según aplique). | R60: =+'Lista de defectos'!F60 -> DL | S60: =+'Formulario de Inspección'!N88 -> ¡ | T60: =+'Formulario de Inspección'!O88 -> 0 | U60: =+'Formulario de Inspección'!$C$498 -> FAVORABLE | V60: =+'Formulario de Inspección'!$P$499 -> N/A | W60: =+'Formulario de Inspección'!$R$499 -> N/A | X60: =+'Formulario de Inspección'!$S$499 -> N/A | Y60: =+'Formulario de Inspección'!$H$514 -> 0
A61: =+'Formulario de Inspección'!$R$5 -> 0 | B61: ='Formulario de Inspección'!$A$5 -> 0 | C61: =+'Formulario de Inspección'!$D$5 -> Aire acondicionado | D61: =+'Formulario de Inspección'!$H$5 -> 0 | E61: =+'Formulario de Inspección'!$A$7 -> Desconocida | F61: =+'Formulario de Inspección'!$D$7 -> Desconocido | G61: =+'Formulario de Inspección'!$H$7 -> Desconocido | H61: =+'Formulario de Inspección'!$P$7 -> Desconocido | I61: =+'Formulario de Inspección'!$R$7 -> 0 | J61: =+'Formulario de Inspección'!$A$9 -> 0 | K61: =+'Formulario de Inspección'!$D$9 -> INSPECCION ANUAL | L61: =+'Formulario de Inspección'!$H$9 -> N/A | M61: =+'Formulario de Inspección'!$P$9 -> N/A | N61: =+'Formulario de Inspección'!$R$9 -> 0 | O61: 3.2 Cinturones de seguridad y sus anclajes | P61: =+'Lista de defectos'!D61 -> a | Q61: =+'Lista de defectos'!G61 -> Inexistencia de algún cinturón | R61: =+'Lista de defectos'!F61 -> DG | S61: =+'Formulario de Inspección'!N91 -> ¡ | T61: =+'Formulario de Inspección'!O91 -> 0 | U61: =+'Formulario de Inspección'!$C$498 -> FAVORABLE | V61: =+'Formulario de Inspección'!$P$499 -> N/A | W61: =+'Formulario de Inspección'!$R$499 -> N/A | X61: =+'Formulario de Inspección'!$S$499 -> N/A | Y61: =+'Formulario de Inspección'!$H$514 -> 0
A62: =+'Formulario de Inspección'!$R$5 -> 0 | B62: ='Formulario de Inspección'!$A$5 -> 0 | C62: =+'Formulario de Inspección'!$D$5 -> Aire acondicionado | D62: =+'Formulario de Inspección'!$H$5 -> 0 | E62: =+'Formulario de Inspección'!$A$7 -> Desconocida | F62: =+'Formulario de Inspección'!$D$7 -> Desconocido | G62: =+'Formulario de Inspección'!$H$7 -> Desconocido | H62: =+'Formulario de Inspección'!$P$7 -> Desconocido | I62: =+'Formulario de Inspección'!$R$7 -> 0 | J62: =+'Formulario de Inspección'!$A$9 -> 0 | K62: =+'Formulario de Inspección'!$D$9 -> INSPECCION ANUAL | L62: =+'Formulario de Inspección'!$H$9 -> N/A | M62: =+'Formulario de Inspección'!$P$9 -> N/A | N62: =+'Formulario de Inspección'!$R$9 -> 0 | O62: 3.2 Cinturones de seguridad y sus anclajes | P62: =+'Lista de defectos'!D62 -> b | Q62: =+'Lista de defectos'!G62 -> Defectos de estado en las bandas de cinturones | R62: =+'Lista de defectos'!F62 -> DL | S62: =+'Formulario de Inspección'!N92 -> ¡ | T62: =+'Formulario de Inspección'!O92 -> 0 | U62: =+'Formulario de Inspección'!$C$498 -> FAVORABLE | V62: =+'Formulario de Inspección'!$P$499 -> N/A | W62: =+'Formulario de Inspección'!$R$499 -> N/A | X62: =+'Formulario de Inspección'!$S$499 -> N/A | Y62: =+'Formulario de Inspección'!$H$514 -> 0
A63: =+'Formulario de Inspección'!$R$5 -> 0 | B63: ='Formulario de Inspección'!$A$5 -> 0 | C63: =+'Formulario de Inspección'!$D$5 -> Aire acondicionado | D63: =+'Formulario de Inspección'!$H$5 -> 0 | E63: =+'Formulario de Inspección'!$A$7 -> Desconocida | F63: =+'Formulario de Inspección'!$D$7 -> Desconocido | G63: =+'Formulario de Inspección'!$H$7 -> Desconocido | H63: =+'Formulario de Inspección'!$P$7 -> Desconocido | I63: =+'Formulario de Inspección'!$R$7 -> 0 | J63: =+'Formulario de Inspección'!$A$9 -> 0 | K63: =+'Formulario de Inspección'!$D$9 -> INSPECCION ANUAL | L63: =+'Formulario de Inspección'!$H$9 -> N/A | M63: =+'Formulario de Inspección'!$P$9 -> N/A | N63: =+'Formulario de Inspección'!$R$9 -> 0 | O63: 3.2 Cinturones de seguridad y sus anclajes | P63: =+'Lista de defectos'!D63 -> c | Q63: =+'Lista de defectos'!G63 -> Defectos de estado de los anclajes y trancas | R63: =+'Lista de defectos'!F63 -> DL | S63: =+'Formulario de Inspección'!N93 -> ¡ | T63: =+'Formulario de Inspección'!O93 -> 0 | U63: =+'Formulario de Inspección'!$C$498 -> FAVORABLE | V63: =+'Formulario de Inspección'!$P$499 -> N/A | W63: =+'Formulario de Inspección'!$R$499 -> N/A | X63: =+'Formulario de Inspección'!$S$499 -> N/A | Y63: =+'Formulario de Inspección'!$H$514 -> 0
A64: =+'Formulario de Inspección'!$R$5 -> 0 | B64: ='Formulario de Inspección'!$A$5 -> 0 | C64: =+'Formulario de Inspección'!$D$5 -> Aire acondicionado | D64: =+'Formulario de Inspección'!$H$5 -> 0 | E64: =+'Formulario de Inspección'!$A$7 -> Desconocida | F64: =+'Formulario de Inspección'!$D$7 -> Desconocido | G64: =+'Formulario de Inspección'!$H$7 -> Desconocido | H64: =+'Formulario de Inspección'!$P$7 -> Desconocido | I64: =+'Formulario de Inspección'!$R$7 -> 0 | J64: =+'Formulario de Inspección'!$A$9 -> 0 | K64: =+'Formulario de Inspección'!$D$9 -> INSPECCION ANUAL | L64: =+'Formulario de Inspección'!$H$9 -> N/A | M64: =+'Formulario de Inspección'!$P$9 -> N/A | N64: =+'Formulario de Inspección'!$R$9 -> 0 | O64: 3.2 Cinturones de seguridad y sus anclajes | P64: =+'Lista de defectos'!D64 -> d | Q64: =+'Lista de defectos'!G64 -> Defectos de estado en las bandas con peligro de rotura | R64: =+'Lista de defectos'!F64 -> DG | S64: =+'Formulario de Inspección'!N94 -> ¡ | T64: =+'Formulario de Inspección'!O94 -> 0 | U64: =+'Formulario de Inspección'!$C$498 -> FAVORABLE | V64: =+'Formulario de Inspección'!$P$499 -> N/A | W64: =+'Formulario de Inspección'!$R$499 -> N/A | X64: =+'Formulario de Inspección'!$S$499 -> N/A | Y64: =+'Formulario de Inspección'!$H$514 -> 0
A65: =+'Formulario de Inspección'!$R$5 -> 0 | B65: ='Formulario de Inspección'!$A$5 -> 0 | C65: =+'Formulario de Inspección'!$D$5 -> Aire acondicionado | D65: =+'Formulario de Inspección'!$H$5 -> 0 | E65: =+'Formulario de Inspección'!$A$7 -> Desconocida | F65: =+'Formulario de Inspección'!$D$7 -> Desconocido | G65: =+'Formulario de Inspección'!$H$7 -> Desconocido | H65: =+'Formulario de Inspección'!$P$7 -> Desconocido | I65: =+'Formulario de Inspección'!$R$7 -> 0 | J65: =+'Formulario de Inspección'!$A$9 -> 0 | K65: =+'Formulario de Inspección'!$D$9 -> INSPECCION ANUAL | L65: =+'Formulario de Inspección'!$H$9 -> N/A | M65: =+'Formulario de Inspección'!$P$9 -> N/A | N65: =+'Formulario de Inspección'!$R$9 -> 0 | O65: 3.2 Cinturones de seguridad y sus anclajes | P65: =+'Lista de defectos'!D65 -> e | Q65: =+'Lista de defectos'!G65 -> Defectos de estado en el sistema de tranca de los aclajes no funciona correctamente | R65: =+'Lista de defectos'!F65 -> DG | S65: =+'Formulario de Inspección'!N95 -> ¡ | T65: =+'Formulario de Inspección'!O95 -> 0 | U65: =+'Formulario de Inspección'!$C$498 -> FAVORABLE | V65: =+'Formulario de Inspección'!$P$499 -> N/A | W65: =+'Formulario de Inspección'!$R$499 -> N/A | X65: =+'Formulario de Inspección'!$S$499 -> N/A | Y65: =+'Formulario de Inspección'!$H$514 -> 0
A66: =+'Formulario de Inspección'!$R$5 -> 0 | B66: ='Formulario de Inspección'!$A$5 -> 0 | C66: =+'Formulario de Inspección'!$D$5 -> Aire acondicionado | D66: =+'Formulario de Inspección'!$H$5 -> 0 | E66: =+'Formulario de Inspección'!$A$7 -> Desconocida | F66: =+'Formulario de Inspección'!$D$7 -> Desconocido | G66: =+'Formulario de Inspección'!$H$7 -> Desconocido | H66: =+'Formulario de Inspección'!$P$7 -> Desconocido | I66: =+'Formulario de Inspección'!$R$7 -> 0 | J66: =+'Formulario de Inspección'!$A$9 -> 0 | K66: =+'Formulario de Inspección'!$D$9 -> INSPECCION ANUAL | L66: =+'Formulario de Inspección'!$H$9 -> N/A | M66: =+'Formulario de Inspección'!$P$9 -> N/A | N66: =+'Formulario de Inspección'!$R$9 -> 0 | O66: 3.3 Indicador de Velocidad y Horómetro | P66: =+'Lista de defectos'!D66 -> a | Q66: =+'Lista de defectos'!G66 -> Inexistencia del velocímetro (si el equipo cuenta con este de fabricación) | R66: =+'Lista de defectos'!F66 -> DG | S66: =+'Formulario de Inspección'!N98 -> P | T66: =+'Formulario de Inspección'!O98 -> 0 | U66: =+'Formulario de Inspección'!$C$498 -> FAVORABLE | V66: =+'Formulario de Inspección'!$P$499 -> N/A | W66: =+'Formulario de Inspección'!$R$499 -> N/A | X66: =+'Formulario de Inspección'!$S$499 -> N/A | Y66: =+'Formulario de Inspección'!$H$514 -> 0
A67: =+'Formulario de Inspección'!$R$5 -> 0 | B67: ='Formulario de Inspección'!$A$5 -> 0 | C67: =+'Formulario de Inspección'!$D$5 -> Aire acondicionado | D67: =+'Formulario de Inspección'!$H$5 -> 0 | E67: =+'Formulario de Inspección'!$A$7 -> Desconocida | F67: =+'Formulario de Inspección'!$D$7 -> Desconocido | G67: =+'Formulario de Inspección'!$H$7 -> Desconocido | H67: =+'Formulario de Inspección'!$P$7 -> Desconocido | I67: =+'Formulario de Inspección'!$R$7 -> 0 | J67: =+'Formulario de Inspección'!$A$9 -> 0 | K67: =+'Formulario de Inspección'!$D$9 -> INSPECCION ANUAL | L67: =+'Formulario de Inspección'!$H$9 -> N/A | M67: =+'Formulario de Inspección'!$P$9 -> N/A | N67: =+'Formulario de Inspección'!$R$9 -> 0 | O67: 3.3 Indicador de Velocidad y Horómetro | P67: =+'Lista de defectos'!D67 -> b | Q67: =+'Lista de defectos'!G67 -> Defectos de estado de los componentes que no afecten su funcionamiento | R67: =+'Lista de defectos'!F67 -> DL | S67: =+'Formulario de Inspección'!N99 -> P | T67: =+'Formulario de Inspección'!O99 -> 0 | U67: =+'Formulario de Inspección'!$C$498 -> FAVORABLE | V67: =+'Formulario de Inspección'!$P$499 -> N/A | W67: =+'Formulario de Inspección'!$R$499 -> N/A | X67: =+'Formulario de Inspección'!$S$499 -> N/A | Y67: =+'Formulario de Inspección'!$H$514 -> 0
A68: =+'Formulario de Inspección'!$R$5 -> 0 | B68: ='Formulario de Inspección'!$A$5 -> 0 | C68: =+'Formulario de Inspección'!$D$5 -> Aire acondicionado | D68: =+'Formulario de Inspección'!$H$5 -> 0 | E68: =+'Formulario de Inspección'!$A$7 -> Desconocida | F68: =+'Formulario de Inspección'!$D$7 -> Desconocido | G68: =+'Formulario de Inspección'!$H$7 -> Desconocido | H68: =+'Formulario de Inspección'!$P$7 -> Desconocido | I68: =+'Formulario de Inspección'!$R$7 -> 0 | J68: =+'Formulario de Inspección'!$A$9 -> 0 | K68: =+'Formulario de Inspección'!$D$9 -> INSPECCION ANUAL | L68: =+'Formulario de Inspección'!$H$9 -> N/A | M68: =+'Formulario de Inspección'!$P$9 -> N/A | N68: =+'Formulario de Inspección'!$R$9 -> 0 | O68: 3.3 Indicador de Velocidad y Horómetro | P68: =+'Lista de defectos'!D68 -> c | Q68: =+'Lista de defectos'!G68 -> Defectos de estado de los componentes que afecten su funcionamiento | R68: =+'Lista de defectos'!F68 -> DL | S68: =+'Formulario de Inspección'!N100 -> P | T68: =+'Formulario de Inspección'!O100 -> 0 | U68: =+'Formulario de Inspección'!$C$498 -> FAVORABLE | V68: =+'Formulario de Inspección'!$P$499 -> N/A | W68: =+'Formulario de Inspección'!$R$499 -> N/A | X68: =+'Formulario de Inspección'!$S$499 -> N/A | Y68: =+'Formulario de Inspección'!$H$514 -> 0
A69: =+'Formulario de Inspección'!$R$5 -> 0 | B69: ='Formulario de Inspección'!$A$5 -> 0 | C69: =+'Formulario de Inspección'!$D$5 -> Aire acondicionado | D69: =+'Formulario de Inspección'!$H$5 -> 0 | E69: =+'Formulario de Inspección'!$A$7 -> Desconocida | F69: =+'Formulario de Inspección'!$D$7 -> Desconocido | G69: =+'Formulario de Inspección'!$H$7 -> Desconocido | H69: =+'Formulario de Inspección'!$P$7 -> Desconocido | I69: =+'Formulario de Inspección'!$R$7 -> 0 | J69: =+'Formulario de Inspección'!$A$9 -> 0 | K69: =+'Formulario de Inspección'!$D$9 -> INSPECCION ANUAL | L69: =+'Formulario de Inspección'!$H$9 -> N/A | M69: =+'Formulario de Inspección'!$P$9 -> N/A | N69: =+'Formulario de Inspección'!$R$9 -> 0 | O69: 3.3 Indicador de Velocidad y Horómetro | P69: =+'Lista de defectos'!D69 -> d | Q69: =+'Lista de defectos'!G69 -> Lectura de horómetro igual o no coincide con respecto a la registrada en la inspección anterior | R69: =+'Lista de defectos'!F69 -> DL | S69: =+'Formulario de Inspección'!N101 -> P | T69: =+'Formulario de Inspección'!O101 -> 0 | U69: =+'Formulario de Inspección'!$C$498 -> FAVORABLE | V69: =+'Formulario de Inspección'!$P$499 -> N/A | W69: =+'Formulario de Inspección'!$R$499 -> N/A | X69: =+'Formulario de Inspección'!$S$499 -> N/A | Y69: =+'Formulario de Inspección'!$H$514 -> 0
A70: =+'Formulario de Inspección'!$R$5 -> 0 | B70: ='Formulario de Inspección'!$A$5 -> 0 | C70: =+'Formulario de Inspección'!$D$5 -> Aire acondicionado | D70: =+'Formulario de Inspección'!$H$5 -> 0 | E70: =+'Formulario de Inspección'!$A$7 -> Desconocida | F70: =+'Formulario de Inspección'!$D$7 -> Desconocido | G70: =+'Formulario de Inspección'!$H$7 -> Desconocido | H70: =+'Formulario de Inspección'!$P$7 -> Desconocido | I70: =+'Formulario de Inspección'!$R$7 -> 0 | J70: =+'Formulario de Inspección'!$A$9 -> 0 | K70: =+'Formulario de Inspección'!$D$9 -> INSPECCION ANUAL | L70: =+'Formulario de Inspección'!$H$9 -> N/A | M70: =+'Formulario de Inspección'!$P$9 -> N/A | N70: =+'Formulario de Inspección'!$R$9 -> 0 | O70: 3.3 Indicador de Velocidad y Horómetro | P70: =+'Lista de defectos'!D70 -> e | Q70: =+'Lista de defectos'!G70 -> Ilegibilidad o inexistencia del horómetro (si el equipo cuenta con este de fabricación) | R70: =+'Lista de defectos'!F70 -> DL | S70: =+'Formulario de Inspección'!N102 -> P | T70: =+'Formulario de Inspección'!O102 -> 0 | U70: =+'Formulario de Inspección'!$C$498 -> FAVORABLE | V70: =+'Formulario de Inspección'!$P$499 -> N/A | W70: =+'Formulario de Inspección'!$R$499 -> N/A | X70: =+'Formulario de Inspección'!$S$499 -> N/A | Y70: =+'Formulario de Inspección'!$H$514 -> 0
A71: =+'Formulario de Inspección'!$R$5 -> 0 | B71: ='Formulario de Inspección'!$A$5 -> 0 | C71: =+'Formulario de Inspección'!$D$5 -> Aire acondicionado | D71: =+'Formulario de Inspección'!$H$5 -> 0 | E71: =+'Formulario de Inspección'!$A$7 -> Desconocida | F71: =+'Formulario de Inspección'!$D$7 -> Desconocido | G71: =+'Formulario de Inspección'!$H$7 -> Desconocido | H71: =+'Formulario de Inspección'!$P$7 -> Desconocido | I71: =+'Formulario de Inspección'!$R$7 -> 0 | J71: =+'Formulario de Inspección'!$A$9 -> 0 | K71: =+'Formulario de Inspección'!$D$9 -> INSPECCION ANUAL | L71: =+'Formulario de Inspección'!$H$9 -> N/A | M71: =+'Formulario de Inspección'!$P$9 -> N/A | N71: =+'Formulario de Inspección'!$R$9 -> 0 | O71: 3.4 Cabina interna o habitáculo, panel de control, instrumentos, luces o relojes indicadores | P71: =+'Lista de defectos'!D71 -> a | Q71: =+'Lista de defectos'!G71 -> Defectos de estado, filos cortantes o corrosión de paredes, techo, piso que pongan en riesgo los ocupantes o la carga | R71: =+'Lista de defectos'!F71 -> DG | S71: =+'Formulario de Inspección'!N108 -> P | T71: =+'Formulario de Inspección'!O108 -> 0 | U71: =+'Formulario de Inspección'!$C$498 -> FAVORABLE | V71: =+'Formulario de Inspección'!$P$499 -> N/A | W71: =+'Formulario de Inspección'!$R$499 -> N/A | X71: =+'Formulario de Inspección'!$S$499 -> N/A | Y71: =+'Formulario de Inspección'!$H$514 -> 0
A72: =+'Formulario de Inspección'!$R$5 -> 0 | B72: ='Formulario de Inspección'!$A$5 -> 0 | C72: =+'Formulario de Inspección'!$D$5 -> Aire acondicionado | D72: =+'Formulario de Inspección'!$H$5 -> 0 | E72: =+'Formulario de Inspección'!$A$7 -> Desconocida | F72: =+'Formulario de Inspección'!$D$7 -> Desconocido | G72: =+'Formulario de Inspección'!$H$7 -> Desconocido | H72: =+'Formulario de Inspección'!$P$7 -> Desconocido | I72: =+'Formulario de Inspección'!$R$7 -> 0 | J72: =+'Formulario de Inspección'!$A$9 -> 0 | K72: =+'Formulario de Inspección'!$D$9 -> INSPECCION ANUAL | L72: =+'Formulario de Inspección'!$H$9 -> N/A | M72: =+'Formulario de Inspección'!$P$9 -> N/A | N72: =+'Formulario de Inspección'!$R$9 -> 0 | O72: 3.4 Cabina interna o habitáculo, panel de control, instrumentos, luces o relojes indicadores | P72: =+'Lista de defectos'!D72 -> b | Q72: =+'Lista de defectos'!G72 -> Defectos de estado o corrosión de paredes, techo, piso que no pongan en riesgo los ocupantes o la carga | R72: =+'Lista de defectos'!F72 -> DL | S72: =+'Formulario de Inspección'!N109 -> P | T72: =+'Formulario de Inspección'!O109 -> 0 | U72: =+'Formulario de Inspección'!$C$498 -> FAVORABLE | V72: =+'Formulario de Inspección'!$P$499 -> N/A | W72: =+'Formulario de Inspección'!$R$499 -> N/A | X72: =+'Formulario de Inspección'!$S$499 -> N/A | Y72: =+'Formulario de Inspección'!$H$514 -> 0
A73: =+'Formulario de Inspección'!$R$5 -> 0 | B73: ='Formulario de Inspección'!$A$5 -> 0 | C73: =+'Formulario de Inspección'!$D$5 -> Aire acondicionado | D73: =+'Formulario de Inspección'!$H$5 -> 0 | E73: =+'Formulario de Inspección'!$A$7 -> Desconocida | F73: =+'Formulario de Inspección'!$D$7 -> Desconocido | G73: =+'Formulario de Inspección'!$H$7 -> Desconocido | H73: =+'Formulario de Inspección'!$P$7 -> Desconocido | I73: =+'Formulario de Inspección'!$R$7 -> 0 | J73: =+'Formulario de Inspección'!$A$9 -> 0 | K73: =+'Formulario de Inspección'!$D$9 -> INSPECCION ANUAL | L73: =+'Formulario de Inspección'!$H$9 -> N/A | M73: =+'Formulario de Inspección'!$P$9 -> N/A | N73: =+'Formulario de Inspección'!$R$9 -> 0 | O73: 3.4 Cabina interna o habitáculo, panel de control, instrumentos, luces o relojes indicadores | P73: =+'Lista de defectos'!D73 -> c | Q73: =+'Lista de defectos'!G73 -> Cables eléctricos con cortes expuestos, empates inadecuados u otra condición que represente peligro de un posible corto circuito | R73: =+'Lista de defectos'!F73 -> DG | S73: =+'Formulario de Inspección'!N110 -> P | T73: =+'Formulario de Inspección'!O110 -> 0 | U73: =+'Formulario de Inspección'!$C$498 -> FAVORABLE | V73: =+'Formulario de Inspección'!$P$499 -> N/A | W73: =+'Formulario de Inspección'!$R$499 -> N/A | X73: =+'Formulario de Inspección'!$S$499 -> N/A | Y73: =+'Formulario de Inspección'!$H$514 -> 0
A74: =+'Formulario de Inspección'!$R$5 -> 0 | B74: ='Formulario de Inspección'!$A$5 -> 0 | C74: =+'Formulario de Inspección'!$D$5 -> Aire acondicionado | D74: =+'Formulario de Inspección'!$H$5 -> 0 | E74: =+'Formulario de Inspección'!$A$7 -> Desconocida | F74: =+'Formulario de Inspección'!$D$7 -> Desconocido | G74: =+'Formulario de Inspección'!$H$7 -> Desconocido | H74: =+'Formulario de Inspección'!$P$7 -> Desconocido | I74: =+'Formulario de Inspección'!$R$7 -> 0 | J74: =+'Formulario de Inspección'!$A$9 -> 0 | K74: =+'Formulario de Inspección'!$D$9 -> INSPECCION ANUAL | L74: =+'Formulario de Inspección'!$H$9 -> N/A | M74: =+'Formulario de Inspección'!$P$9 -> N/A | N74: =+'Formulario de Inspección'!$R$9 -> 0 | O74: 3.4 Cabina interna o habitáculo, panel de control, instrumentos, luces o relojes indicadores | P74: =+'Lista de defectos'!D74 -> d | Q74: =+'Lista de defectos'!G74 -> Cables eléctricos mal sujetos | R74: =+'Lista de defectos'!F74 -> DL | S74: =+'Formulario de Inspección'!N111 -> P | T74: =+'Formulario de Inspección'!O111 -> 0 | U74: =+'Formulario de Inspección'!$C$498 -> FAVORABLE | V74: =+'Formulario de Inspección'!$P$499 -> N/A | W74: =+'Formulario de Inspección'!$R$499 -> N/A | X74: =+'Formulario de Inspección'!$S$499 -> N/A | Y74: =+'Formulario de Inspección'!$H$514 -> 0
A75: =+'Formulario de Inspección'!$R$5 -> 0 | B75: ='Formulario de Inspección'!$A$5 -> 0 | C75: =+'Formulario de Inspección'!$D$5 -> Aire acondicionado | D75: =+'Formulario de Inspección'!$H$5 -> 0 | E75: =+'Formulario de Inspección'!$A$7 -> Desconocida | F75: =+'Formulario de Inspección'!$D$7 -> Desconocido | G75: =+'Formulario de Inspección'!$H$7 -> Desconocido | H75: =+'Formulario de Inspección'!$P$7 -> Desconocido | I75: =+'Formulario de Inspección'!$R$7 -> 0 | J75: =+'Formulario de Inspección'!$A$9 -> 0 | K75: =+'Formulario de Inspección'!$D$9 -> INSPECCION ANUAL | L75: =+'Formulario de Inspección'!$H$9 -> N/A | M75: =+'Formulario de Inspección'!$P$9 -> N/A | N75: =+'Formulario de Inspección'!$R$9 -> 0 | O75: 3.4 Cabina interna o habitáculo, panel de control, instrumentos, luces o relojes indicadores | P75: =+'Lista de defectos'!D75 -> e | Q75: =+'Lista de defectos'!G75 -> Objeto(s) dentro de la cabina o habitáculo sin sujetar que puede(n) convertirse en proyectil(es) o FOD | R75: =+'Lista de defectos'!F75 -> DG | S75: =+'Formulario de Inspección'!N112 -> P | T75: =+'Formulario de Inspección'!O112 -> 0 | U75: =+'Formulario de Inspección'!$C$498 -> FAVORABLE | V75: =+'Formulario de Inspección'!$P$499 -> N/A | W75: =+'Formulario de Inspección'!$R$499 -> N/A | X75: =+'Formulario de Inspección'!$S$499 -> N/A | Y75: =+'Formulario de Inspección'!$H$514 -> 0
A76: =+'Formulario de Inspección'!$R$5 -> 0 | B76: ='Formulario de Inspección'!$A$5 -> 0 | C76: =+'Formulario de Inspección'!$D$5 -> Aire acondicionado | D76: =+'Formulario de Inspección'!$H$5 -> 0 | E76: =+'Formulario de Inspección'!$A$7 -> Desconocida | F76: =+'Formulario de Inspección'!$D$7 -> Desconocido | G76: =+'Formulario de Inspección'!$H$7 -> Desconocido | H76: =+'Formulario de Inspección'!$P$7 -> Desconocido | I76: =+'Formulario de Inspección'!$R$7 -> 0 | J76: =+'Formulario de Inspección'!$A$9 -> 0 | K76: =+'Formulario de Inspección'!$D$9 -> INSPECCION ANUAL | L76: =+'Formulario de Inspección'!$H$9 -> N/A | M76: =+'Formulario de Inspección'!$P$9 -> N/A | N76: =+'Formulario de Inspección'!$R$9 -> 0 | O76: 3.4 Cabina interna o habitáculo, panel de control, instrumentos, luces o relojes indicadores | P76: =+'Lista de defectos'!D76 -> f | Q76: =+'Lista de defectos'!G76 -> Panel de control, palancas de mando, instrumentos, luces o relojes indicadores en mal estado, ilegibles o no cumplen su función | R76: =+'Lista de defectos'!F76 -> DG | S76: =+'Formulario de Inspección'!N113 -> P | T76: =+'Formulario de Inspección'!O113 -> 0 | U76: =+'Formulario de Inspección'!$C$498 -> FAVORABLE | V76: =+'Formulario de Inspección'!$P$499 -> N/A | W76: =+'Formulario de Inspección'!$R$499 -> N/A | X76: =+'Formulario de Inspección'!$S$499 -> N/A | Y76: =+'Formulario de Inspección'!$H$514 -> 0
A77: =+'Formulario de Inspección'!$R$5 -> 0 | B77: ='Formulario de Inspección'!$A$5 -> 0 | C77: =+'Formulario de Inspección'!$D$5 -> Aire acondicionado | D77: =+'Formulario de Inspección'!$H$5 -> 0 | E77: =+'Formulario de Inspección'!$A$7 -> Desconocida | F77: =+'Formulario de Inspección'!$D$7 -> Desconocido | G77: =+'Formulario de Inspección'!$H$7 -> Desconocido | H77: =+'Formulario de Inspección'!$P$7 -> Desconocido | I77: =+'Formulario de Inspección'!$R$7 -> 0 | J77: =+'Formulario de Inspección'!$A$9 -> 0 | K77: =+'Formulario de Inspección'!$D$9 -> INSPECCION ANUAL | L77: =+'Formulario de Inspección'!$H$9 -> N/A | M77: =+'Formulario de Inspección'!$P$9 -> N/A | N77: =+'Formulario de Inspección'!$R$9 -> 0 | O77: 3.4 Cabina interna o habitáculo, panel de control, instrumentos, luces o relojes indicadores | P77: =+'Lista de defectos'!D77 -> h | Q77: =+'Lista de defectos'!G77 -> No funciona o no existe el claxon (pito o bocina) | R77: =+'Lista de defectos'!F77 -> DL | S77: =+'Formulario de Inspección'!N115 -> ¡ | T77: =+'Formulario de Inspección'!O115 -> 0 | U77: =+'Formulario de Inspección'!$C$498 -> FAVORABLE | V77: =+'Formulario de Inspección'!$P$499 -> N/A | W77: =+'Formulario de Inspección'!$R$499 -> N/A | X77: =+'Formulario de Inspección'!$S$499 -> N/A | Y77: =+'Formulario de Inspección'!$H$514 -> 0
A78: =+'Formulario de Inspección'!$R$5 -> 0 | B78: ='Formulario de Inspección'!$A$5 -> 0 | C78: =+'Formulario de Inspección'!$D$5 -> Aire acondicionado | D78: =+'Formulario de Inspección'!$H$5 -> 0 | E78: =+'Formulario de Inspección'!$A$7 -> Desconocida | F78: =+'Formulario de Inspección'!$D$7 -> Desconocido | G78: =+'Formulario de Inspección'!$H$7 -> Desconocido | H78: =+'Formulario de Inspección'!$P$7 -> Desconocido | I78: =+'Formulario de Inspección'!$R$7 -> 0 | J78: =+'Formulario de Inspección'!$A$9 -> 0 | K78: =+'Formulario de Inspección'!$D$9 -> INSPECCION ANUAL | L78: =+'Formulario de Inspección'!$H$9 -> N/A | M78: =+'Formulario de Inspección'!$P$9 -> N/A | N78: =+'Formulario de Inspección'!$R$9 -> 0 | O78: 4.1 Luces bajas (bajo alcance) y luces altas (largo alcance) | P78: =+'Lista de defectos'!D78 -> a | Q78: =+'Lista de defectos'!G78 -> No funciona la luz baja o luz alta | R78: =+'Lista de defectos'!F78 -> DG | S78: =+'Formulario de Inspección'!N119 -> ¡ | T78: =+'Formulario de Inspección'!O119 -> 0 | U78: =+'Formulario de Inspección'!$C$498 -> FAVORABLE | V78: =+'Formulario de Inspección'!$P$499 -> N/A | W78: =+'Formulario de Inspección'!$R$499 -> N/A | X78: =+'Formulario de Inspección'!$S$499 -> N/A | Y78: =+'Formulario de Inspección'!$H$514 -> 0
A79: =+'Formulario de Inspección'!$R$5 -> 0 | B79: ='Formulario de Inspección'!$A$5 -> 0 | C79: =+'Formulario de Inspección'!$D$5 -> Aire acondicionado | D79: =+'Formulario de Inspección'!$H$5 -> 0 | E79: =+'Formulario de Inspección'!$A$7 -> Desconocida | F79: =+'Formulario de Inspección'!$D$7 -> Desconocido | G79: =+'Formulario de Inspección'!$H$7 -> Desconocido | H79: =+'Formulario de Inspección'!$P$7 -> Desconocido | I79: =+'Formulario de Inspección'!$R$7 -> 0 | J79: =+'Formulario de Inspección'!$A$9 -> 0 | K79: =+'Formulario de Inspección'!$D$9 -> INSPECCION ANUAL | L79: =+'Formulario de Inspección'!$H$9 -> N/A | M79: =+'Formulario de Inspección'!$P$9 -> N/A | N79: =+'Formulario de Inspección'!$R$9 -> 0 | O79: 4.1 Luces bajas (bajo alcance) y luces altas (largo alcance) | P79: =+'Lista de defectos'!D79 -> b | Q79: =+'Lista de defectos'!G79 -> No funciona la luz alta o inexistente (si es original de fábrica) | R79: =+'Lista de defectos'!F79 -> DL | S79: =+'Formulario de Inspección'!N120 -> ¡ | T79: =+'Formulario de Inspección'!O120 -> 0 | U79: =+'Formulario de Inspección'!$C$498 -> FAVORABLE | V79: =+'Formulario de Inspección'!$P$499 -> N/A | W79: =+'Formulario de Inspección'!$R$499 -> N/A | X79: =+'Formulario de Inspección'!$S$499 -> N/A | Y79: =+'Formulario de Inspección'!$H$514 -> 0
A80: =+'Formulario de Inspección'!$R$5 -> 0 | B80: ='Formulario de Inspección'!$A$5 -> 0 | C80: =+'Formulario de Inspección'!$D$5 -> Aire acondicionado | D80: =+'Formulario de Inspección'!$H$5 -> 0 | E80: =+'Formulario de Inspección'!$A$7 -> Desconocida | F80: =+'Formulario de Inspección'!$D$7 -> Desconocido | G80: =+'Formulario de Inspección'!$H$7 -> Desconocido | H80: =+'Formulario de Inspección'!$P$7 -> Desconocido | I80: =+'Formulario de Inspección'!$R$7 -> 0 | J80: =+'Formulario de Inspección'!$A$9 -> 0 | K80: =+'Formulario de Inspección'!$D$9 -> INSPECCION ANUAL | L80: =+'Formulario de Inspección'!$H$9 -> N/A | M80: =+'Formulario de Inspección'!$P$9 -> N/A | N80: =+'Formulario de Inspección'!$R$9 -> 0 | O80: 4.1 Luces bajas (bajo alcance) y luces altas (largo alcance) | P80: =+'Lista de defectos'!D80 -> c | Q80: =+'Lista de defectos'!G80 -> Defectuosa conmutación alta/baja. | R80: =+'Lista de defectos'!F80 -> DL | S80: =+'Formulario de Inspección'!N121 -> ¡ | T80: =+'Formulario de Inspección'!O121 -> 0 | U80: =+'Formulario de Inspección'!$C$498 -> FAVORABLE | V80: =+'Formulario de Inspección'!$P$499 -> N/A | W80: =+'Formulario de Inspección'!$R$499 -> N/A | X80: =+'Formulario de Inspección'!$S$499 -> N/A | Y80: =+'Formulario de Inspección'!$H$514 -> 0
A81: =+'Formulario de Inspección'!$R$5 -> 0 | B81: ='Formulario de Inspección'!$A$5 -> 0 | C81: =+'Formulario de Inspección'!$D$5 -> Aire acondicionado | D81: =+'Formulario de Inspección'!$H$5 -> 0 | E81: =+'Formulario de Inspección'!$A$7 -> Desconocida | F81: =+'Formulario de Inspección'!$D$7 -> Desconocido | G81: =+'Formulario de Inspección'!$H$7 -> Desconocido | H81: =+'Formulario de Inspección'!$P$7 -> Desconocido | I81: =+'Formulario de Inspección'!$R$7 -> 0 | J81: =+'Formulario de Inspección'!$A$9 -> 0 | K81: =+'Formulario de Inspección'!$D$9 -> INSPECCION ANUAL | L81: =+'Formulario de Inspección'!$H$9 -> N/A | M81: =+'Formulario de Inspección'!$P$9 -> N/A | N81: =+'Formulario de Inspección'!$R$9 -> 0 | O81: 4.1 Luces bajas (bajo alcance) y luces altas (largo alcance) | P81: =+'Lista de defectos'!D81 -> d | Q81: =+'Lista de defectos'!G81 -> No funciona el testigo de la luz alta. | R81: =+'Lista de defectos'!F81 -> DL | S81: =+'Formulario de Inspección'!N122 -> ¡ | T81: =+'Formulario de Inspección'!O122 -> 0 | U81: =+'Formulario de Inspección'!$C$498 -> FAVORABLE | V81: =+'Formulario de Inspección'!$P$499 -> N/A | W81: =+'Formulario de Inspección'!$R$499 -> N/A | X81: =+'Formulario de Inspección'!$S$499 -> N/A | Y81: =+'Formulario de Inspección'!$H$514 -> 0
A82: =+'Formulario de Inspección'!$R$5 -> 0 | B82: ='Formulario de Inspección'!$A$5 -> 0 | C82: =+'Formulario de Inspección'!$D$5 -> Aire acondicionado | D82: =+'Formulario de Inspección'!$H$5 -> 0 | E82: =+'Formulario de Inspección'!$A$7 -> Desconocida | F82: =+'Formulario de Inspección'!$D$7 -> Desconocido | G82: =+'Formulario de Inspección'!$H$7 -> Desconocido | H82: =+'Formulario de Inspección'!$P$7 -> Desconocido | I82: =+'Formulario de Inspección'!$R$7 -> 0 | J82: =+'Formulario de Inspección'!$A$9 -> 0 | K82: =+'Formulario de Inspección'!$D$9 -> INSPECCION ANUAL | L82: =+'Formulario de Inspección'!$H$9 -> N/A | M82: =+'Formulario de Inspección'!$P$9 -> N/A | N82: =+'Formulario de Inspección'!$R$9 -> 0 | O82: 4.1 Luces bajas (bajo alcance) y luces altas (largo alcance) | P82: =+'Lista de defectos'!D82 -> e | Q82: =+'Lista de defectos'!G82 -> No reúne condiciones para comprobar la orientación del haz luminoso de la luz baja. | R82: =+'Lista de defectos'!F82 -> DL | S82: =+'Formulario de Inspección'!N123 -> ¡ | T82: =+'Formulario de Inspección'!O123 -> 0 | U82: =+'Formulario de Inspección'!$C$498 -> FAVORABLE | V82: =+'Formulario de Inspección'!$P$499 -> N/A | W82: =+'Formulario de Inspección'!$R$499 -> N/A | X82: =+'Formulario de Inspección'!$S$499 -> N/A | Y82: =+'Formulario de Inspección'!$H$514 -> 0
A83: =+'Formulario de Inspección'!$R$5 -> 0 | B83: ='Formulario de Inspección'!$A$5 -> 0 | C83: =+'Formulario de Inspección'!$D$5 -> Aire acondicionado | D83: =+'Formulario de Inspección'!$H$5 -> 0 | E83: =+'Formulario de Inspección'!$A$7 -> Desconocida | F83: =+'Formulario de Inspección'!$D$7 -> Desconocido | G83: =+'Formulario de Inspección'!$H$7 -> Desconocido | H83: =+'Formulario de Inspección'!$P$7 -> Desconocido | I83: =+'Formulario de Inspección'!$R$7 -> 0 | J83: =+'Formulario de Inspección'!$A$9 -> 0 | K83: =+'Formulario de Inspección'!$D$9 -> INSPECCION ANUAL | L83: =+'Formulario de Inspección'!$H$9 -> N/A | M83: =+'Formulario de Inspección'!$P$9 -> N/A | N83: =+'Formulario de Inspección'!$R$9 -> 0 | O83: 4.1 Luces bajas (bajo alcance) y luces altas (largo alcance) | P83: =+'Lista de defectos'!D83 -> f | Q83: =+'Lista de defectos'!G83 -> Orientación defectuosa del haz luminoso (deslumbrante) de las luces bajas. | R83: =+'Lista de defectos'!F83 -> DL | S83: =+'Formulario de Inspección'!N124 -> ¡ | T83: =+'Formulario de Inspección'!O124 -> 0 | U83: =+'Formulario de Inspección'!$C$498 -> FAVORABLE | V83: =+'Formulario de Inspección'!$P$499 -> N/A | W83: =+'Formulario de Inspección'!$R$499 -> N/A | X83: =+'Formulario de Inspección'!$S$499 -> N/A | Y83: =+'Formulario de Inspección'!$H$514 -> 0
A84: =+'Formulario de Inspección'!$R$5 -> 0 | B84: ='Formulario de Inspección'!$A$5 -> 0 | C84: =+'Formulario de Inspección'!$D$5 -> Aire acondicionado | D84: =+'Formulario de Inspección'!$H$5 -> 0 | E84: =+'Formulario de Inspección'!$A$7 -> Desconocida | F84: =+'Formulario de Inspección'!$D$7 -> Desconocido | G84: =+'Formulario de Inspección'!$H$7 -> Desconocido | H84: =+'Formulario de Inspección'!$P$7 -> Desconocido | I84: =+'Formulario de Inspección'!$R$7 -> 0 | J84: =+'Formulario de Inspección'!$A$9 -> 0 | K84: =+'Formulario de Inspección'!$D$9 -> INSPECCION ANUAL | L84: =+'Formulario de Inspección'!$H$9 -> N/A | M84: =+'Formulario de Inspección'!$P$9 -> N/A | N84: =+'Formulario de Inspección'!$R$9 -> 0 | O84: 4.1 Luces bajas (bajo alcance) y luces altas (largo alcance) | P84: =+'Lista de defectos'!D84 -> g | Q84: =+'Lista de defectos'!G84 -> No reúne condiciones para comprobar la orientación del haz luminoso de la luz alta. | R84: =+'Lista de defectos'!F84 -> DG | S84: =+'Formulario de Inspección'!N125 -> ¡ | T84: =+'Formulario de Inspección'!O125 -> 0 | U84: =+'Formulario de Inspección'!$C$498 -> FAVORABLE | V84: =+'Formulario de Inspección'!$P$499 -> N/A | W84: =+'Formulario de Inspección'!$R$499 -> N/A | X84: =+'Formulario de Inspección'!$S$499 -> N/A | Y84: =+'Formulario de Inspección'!$H$514 -> 0
A85: =+'Formulario de Inspección'!$R$5 -> 0 | B85: ='Formulario de Inspección'!$A$5 -> 0 | C85: =+'Formulario de Inspección'!$D$5 -> Aire acondicionado | D85: =+'Formulario de Inspección'!$H$5 -> 0 | E85: =+'Formulario de Inspección'!$A$7 -> Desconocida | F85: =+'Formulario de Inspección'!$D$7 -> Desconocido | G85: =+'Formulario de Inspección'!$H$7 -> Desconocido | H85: =+'Formulario de Inspección'!$P$7 -> Desconocido | I85: =+'Formulario de Inspección'!$R$7 -> 0 | J85: =+'Formulario de Inspección'!$A$9 -> 0 | K85: =+'Formulario de Inspección'!$D$9 -> INSPECCION ANUAL | L85: =+'Formulario de Inspección'!$H$9 -> N/A | M85: =+'Formulario de Inspección'!$P$9 -> N/A | N85: =+'Formulario de Inspección'!$R$9 -> 0 | O85: 4.1 Luces bajas (bajo alcance) y luces altas (largo alcance) | P85: =+'Lista de defectos'!D85 -> h | Q85: =+'Lista de defectos'!G85 -> Orientación defectuosa del haz luminoso de las luces altas. | R85: =+'Lista de defectos'!F85 -> DG | S85: =+'Formulario de Inspección'!N126 -> ¡ | T85: =+'Formulario de Inspección'!O126 -> 0 | U85: =+'Formulario de Inspección'!$C$498 -> FAVORABLE | V85: =+'Formulario de Inspección'!$P$499 -> N/A | W85: =+'Formulario de Inspección'!$R$499 -> N/A | X85: =+'Formulario de Inspección'!$S$499 -> N/A | Y85: =+'Formulario de Inspección'!$H$514 -> 0
A86: =+'Formulario de Inspección'!$R$5 -> 0 | B86: ='Formulario de Inspección'!$A$5 -> 0 | C86: =+'Formulario de Inspección'!$D$5 -> Aire acondicionado | D86: =+'Formulario de Inspección'!$H$5 -> 0 | E86: =+'Formulario de Inspección'!$A$7 -> Desconocida | F86: =+'Formulario de Inspección'!$D$7 -> Desconocido | G86: =+'Formulario de Inspección'!$H$7 -> Desconocido | H86: =+'Formulario de Inspección'!$P$7 -> Desconocido | I86: =+'Formulario de Inspección'!$R$7 -> 0 | J86: =+'Formulario de Inspección'!$A$9 -> 0 | K86: =+'Formulario de Inspección'!$D$9 -> INSPECCION ANUAL | L86: =+'Formulario de Inspección'!$H$9 -> N/A | M86: =+'Formulario de Inspección'!$P$9 -> N/A | N86: =+'Formulario de Inspección'!$R$9 -> 0 | O86: 4.1 Luces bajas (bajo alcance) y luces altas (largo alcance) | P86: =+'Lista de defectos'!D86 -> i | Q86: =+'Lista de defectos'!G86 -> Ubicación no reglamentaria de los dispositivos de alguna luz. | R86: =+'Lista de defectos'!F86 -> DL | S86: =+'Formulario de Inspección'!N127 -> ¡ | T86: =+'Formulario de Inspección'!O127 -> 0 | U86: =+'Formulario de Inspección'!$C$498 -> FAVORABLE | V86: =+'Formulario de Inspección'!$P$499 -> N/A | W86: =+'Formulario de Inspección'!$R$499 -> N/A | X86: =+'Formulario de Inspección'!$S$499 -> N/A | Y86: =+'Formulario de Inspección'!$H$514 -> 0
A87: =+'Formulario de Inspección'!$R$5 -> 0 | B87: ='Formulario de Inspección'!$A$5 -> 0 | C87: =+'Formulario de Inspección'!$D$5 -> Aire acondicionado | D87: =+'Formulario de Inspección'!$H$5 -> 0 | E87: =+'Formulario de Inspección'!$A$7 -> Desconocida | F87: =+'Formulario de Inspección'!$D$7 -> Desconocido | G87: =+'Formulario de Inspección'!$H$7 -> Desconocido | H87: =+'Formulario de Inspección'!$P$7 -> Desconocido | I87: =+'Formulario de Inspección'!$R$7 -> 0 | J87: =+'Formulario de Inspección'!$A$9 -> 0 | K87: =+'Formulario de Inspección'!$D$9 -> INSPECCION ANUAL | L87: =+'Formulario de Inspección'!$H$9 -> N/A | M87: =+'Formulario de Inspección'!$P$9 -> N/A | N87: =+'Formulario de Inspección'!$R$9 -> 0 | O87: 4.1 Luces bajas (bajo alcance) y luces altas (largo alcance) | P87: =+'Lista de defectos'!D87 -> j | Q87: =+'Lista de defectos'!G87 -> Estado deteriorado de algún lente del dispositivo. | R87: =+'Lista de defectos'!F87 -> DL | S87: =+'Formulario de Inspección'!N128 -> ¡ | T87: =+'Formulario de Inspección'!O128 -> 0 | U87: =+'Formulario de Inspección'!$C$498 -> FAVORABLE | V87: =+'Formulario de Inspección'!$P$499 -> N/A | W87: =+'Formulario de Inspección'!$R$499 -> N/A | X87: =+'Formulario de Inspección'!$S$499 -> N/A | Y87: =+'Formulario de Inspección'!$H$514 -> 0
A88: =+'Formulario de Inspección'!$R$5 -> 0 | B88: ='Formulario de Inspección'!$A$5 -> 0 | C88: =+'Formulario de Inspección'!$D$5 -> Aire acondicionado | D88: =+'Formulario de Inspección'!$H$5 -> 0 | E88: =+'Formulario de Inspección'!$A$7 -> Desconocida | F88: =+'Formulario de Inspección'!$D$7 -> Desconocido | G88: =+'Formulario de Inspección'!$H$7 -> Desconocido | H88: =+'Formulario de Inspección'!$P$7 -> Desconocido | I88: =+'Formulario de Inspección'!$R$7 -> 0 | J88: =+'Formulario de Inspección'!$A$9 -> 0 | K88: =+'Formulario de Inspección'!$D$9 -> INSPECCION ANUAL | L88: =+'Formulario de Inspección'!$H$9 -> N/A | M88: =+'Formulario de Inspección'!$P$9 -> N/A | N88: =+'Formulario de Inspección'!$R$9 -> 0 | O88: 4.1 Luces bajas (bajo alcance) y luces altas (largo alcance) | P88: =+'Lista de defectos'!D88 -> k | Q88: =+'Lista de defectos'!G88 -> Existe riesgo de desprendimiento de algún dispositivo. | R88: =+'Lista de defectos'!F88 -> DG | S88: =+'Formulario de Inspección'!N129 -> ¡ | T88: =+'Formulario de Inspección'!O129 -> 0 | U88: =+'Formulario de Inspección'!$C$498 -> FAVORABLE | V88: =+'Formulario de Inspección'!$P$499 -> N/A | W88: =+'Formulario de Inspección'!$R$499 -> N/A | X88: =+'Formulario de Inspección'!$S$499 -> N/A | Y88: =+'Formulario de Inspección'!$H$514 -> 0
A89: =+'Formulario de Inspección'!$R$5 -> 0 | B89: ='Formulario de Inspección'!$A$5 -> 0 | C89: =+'Formulario de Inspección'!$D$5 -> Aire acondicionado | D89: =+'Formulario de Inspección'!$H$5 -> 0 | E89: =+'Formulario de Inspección'!$A$7 -> Desconocida | F89: =+'Formulario de Inspección'!$D$7 -> Desconocido | G89: =+'Formulario de Inspección'!$H$7 -> Desconocido | H89: =+'Formulario de Inspección'!$P$7 -> Desconocido | I89: =+'Formulario de Inspección'!$R$7 -> 0 | J89: =+'Formulario de Inspección'!$A$9 -> 0 | K89: =+'Formulario de Inspección'!$D$9 -> INSPECCION ANUAL | L89: =+'Formulario de Inspección'!$H$9 -> N/A | M89: =+'Formulario de Inspección'!$P$9 -> N/A | N89: =+'Formulario de Inspección'!$R$9 -> 0 | O89: 4.1 Luces bajas (bajo alcance) y luces altas (largo alcance) | P89: =+'Lista de defectos'!D89 -> l | Q89: =+'Lista de defectos'!G89 -> Inexistencia de luces principales | R89: =+'Lista de defectos'!F89 -> DG | S89: =+'Formulario de Inspección'!N130 -> ¡ | T89: =+'Formulario de Inspección'!O130 -> 0 | U89: =+'Formulario de Inspección'!$C$498 -> FAVORABLE | V89: =+'Formulario de Inspección'!$P$499 -> N/A | W89: =+'Formulario de Inspección'!$R$499 -> N/A | X89: =+'Formulario de Inspección'!$S$499 -> N/A | Y89: =+'Formulario de Inspección'!$H$514 -> 0
... A92: =+'Formulario de Inspección'!$R$5 -> 0 | B92: ='Formulario de Inspección'!$A$5 -> 0 | C92: =+'Formulario de Inspección'!$D$5 -> Aire acondicionado | D92: =+'Formulario de Inspección'!$H$5 -> 0 | E92: =+'Formulario de Inspección'!$A$7 -> Desconocida | F92: =+'Formulario de Inspección'!$D$7 -> Desconocido | G92: =+'Formulario de Inspección'!$H$7 -> Desconocido | H92: =+'Formulario de Inspección'!$P$7 -> Desconocido | I92: =+'Formulario de Inspección'!$R$7 -> 0 | J92: =+'Formulario de Inspección'!$A$9 -> 0 | K92: =+'Formulario de Inspección'!$D$9 -> INSPECCION ANUAL | L92: =+'Formulario de Inspección'!$H$9 -> N/A | M92: =+'Formulario de Inspección'!$P$9 -> N/A | N92: =+'Formulario de Inspección'!$R$9 -> 0 | O92: 4.1 Luces bajas (bajo alcance) y luces altas (largo alcance) | P92: =+'Lista de defectos'!D92 -> o | Q92: =+'Lista de defectos'!G92 -> Defecto de estado del interruptor de encendido de las luces | R92: =+'Lista de defectos'!F92 -> DG | S92: =+'Formulario de Inspección'!N133 -> ¡ | T92: =+'Formulario de Inspección'!O133 -> 0 | U92: =+'Formulario de Inspección'!$C$498 -> FAVORABLE | V92: =+'Formulario de Inspección'!$P$499 -> N/A | W92: =+'Formulario de Inspección'!$R$499 -> N/A | X92: =+'Formulario de Inspección'!$S$499 -> N/A | Y92: =+'Formulario de Inspección'!$H$514 -> 0
